{"text_format":"1","workbook":"xlsx","n_sheets":12,"sheets":["formulas","Sheet2","TEC1","TEC6 (2)","TEC2","TEC3","TEC4","TEC5","TEC6","Sheet8","Boxplots comparisons","Total Boxplot"],"not_rendered":{"charts":24,"images":17,"macros":1,"external_links":1,"defined_names":12,"comments":0,"pivot_tables":0},"unopened":[],"bounds":{"document_bytes":16777216,"sheet_cells":100000,"rows_first":2000,"rows_last":500,"rows_between":2000,"halvings":0,"cell_chars":16384,"cell_head_chars":4096},"cells_cut":0,"cells_raw":0,"read":"whole","date_system":"1900"}

{"sheet":"formulas","index":0,"n_rows":60,"n_cols":36,"rows_kept":60,"cut":false,"hidden":true,"merged":[[37,1,37,2],[2,3,3,3],[28,1,28,2],[30,1,30,2],[32,1,32,2],[35,2,35,3],[35,14,35,16],[36,2,36,3],[16,17,17,17],[18,0,18,1],[22,15,22,16],[24,1,24,2],[26,1,26,2]]}
[]
[null,null,null,"Nigel The Calculator"]
[null,null,null,"No: Values",null,null,null,null,null,null,null,null,null,null,null,null,null,null,"No: Values","=COUNT(D10:Q16)"]
[null,null,null,null,null,"Mean","Median","Mode 1","Mode 2","Mode 3",null,"Min","Max",null,"Numerator","Denominator",null,null,"Mean","=AVERAGE(D10:Q16))"]
[null,null,null,{"$f":"COUNT(D10:Q16)","v":13},null,{"$f":"+IF(D5=0,\"\",AVERAGE(D10:Q16))","v":83.230769230769226},{"$f":"IF(D5=0,0,MEDIAN(D10:Q16))","v":81},{"$f":"+L57","v":78},{"$f":"+IF(L58=H5,\"\",L58)","v":""},{"$f":"+IF(H5=L59,\"\",L59)","v":""},null,{"$f":"MIN(D10:Q16)","v":77},{"$f":"MAX($D$10:$Q$16)","v":93},null,null,null,{"$f":"IFERROR(O5/P5,0)","v":0},null,"Median","=MEDIAN(D10:Q16)"]
[]
[]
[]
[null,null,null,null,null,null,null,null,null,null,null,null,null,null,null,null,null,null,"Mode","=MODE(D10:Q16)"]
[null,null,null,89,78,77,78,79,77,78,93,93,89,81,88,82,null,null,"Min","=Min(D10:Q16)",null,null,null,null,null,null,null,null,null,null,null,null,null,null,null,{"$f":"+D38","v":79.471548123763029}]
[null,null,null,null,null,null,null,null,null,null,null,null,null,null,null,null,null,null,"Max","=Max(D10:Q16)",null,null,null,null,null,null,null,null,null,null,null,null,null,null,null,{"$f":"+F5","v":83.230769230769226}]
[null,null,null,null,null,null,null,null,null,null,null,null,null,null,null,null,null,null,"%","=O5/P5",null,null,null,null,null,null,null,null,null,null,null,null,null,null,null,{"$f":"+F38","v":86.989990337775424}]
[]
[]
[]
[]
[]
[null,"Values"]
["Deduct Mean from original",null,"a",{"$f":"+IF(D10=0,\"\",(D10-#REF!))","v":{"$error":"#REF!"}},{"$f":"+IF(E10=0,\"\",(E10-#REF!))","v":{"$error":"#REF!"}},{"$f":"+IF(F10=0,\"\",(F10-#REF!))","v":{"$error":"#REF!"}},{"$f":"+IF(G10=0,\"\",(G10-#REF!))","v":{"$error":"#REF!"}},{"$f":"+IF(H10=0,\"\",(H10-#REF!))","v":{"$error":"#REF!"}},{"$f":"+IF(I10=0,\"\",(I10-#REF!))","v":{"$error":"#REF!"}},{"$f":"+IF(P10=0,\"\",(P10-#REF!))","v":{"$error":"#REF!"}},{"$f":"+IF(Q10=0,\"\",(Q10-#REF!))","v":""}]
[]
[null,"Square number from","b",{"$f":"IF(D19=\"\",\"\",(D19*D19))","v":{"$error":"#REF!"}},{"$f":"IF(E19=\"\",\"\",(E19*E19))","v":{"$error":"#REF!"}},{"$error":"#REF!"},{"$error":"#REF!"},{"$error":"#REF!"},{"$error":"#REF!"},{"$error":"#REF!"},""]
[]
[null,null,"Variance",{"$f":"+IF(D5=0,\"\",_xlfn.VAR.S(D10:Q16))","v":38.692307692307701},null,"=VAR.S(D10:Q16)",null,null,null,null,null,null,null,null,"Sum of values",{"$f":"SUM(D10:Q16)","v":1082},null,"=sum(D10:Q16)"]
[]
[null," Standard Deviation",null,{"$f":"+IF(D5=0,0,_xlfn.STDEV.S(D10:Q16))","v":6.2203141152443182},null,"=STDEV.S(D10:Q16)",null,null,null,null,null,null,null,null,null,"Lower Quartile",{"$f":"+IF(D5=0,0,_xlfn.QUARTILE.INC($D$10:$Q$16,1))","v":78},"=QUARTILE.INC($D$10:$Q$16,1)"]
[]
[null,"Square Root of no: values",null,{"$f":"SQRT(D5)","v":3.6055512754639891},null,"=SQRT(D5)",null,null,null,null,null,null,null,null,null,"Middle Quartile",{"$f":"IF(D5=0,0,_xlfn.QUARTILE.EXC($D$10:$Q$16,2))","v":81},"=QUARTILE.INC($D$10:$Q$16,2)"]
[]
[null," Standard Error (SE)",null,{"$f":"+IF(D27=0,0,(D25/D27))","v":1.725204730154293},null,"=(D25/D27)",null,null,null,null,null,null,null,null,null,"Upper Quartile",{"$f":"IF(D5=0,0,_xlfn.QUARTILE.EXC($D$10:$Q$16,3))","v":89},"=QUARTILE.INC($D$10:$Q$16,3)"]
[]
[null,"T-distribution probability figure",null,0.95,{"$f":"VLOOKUP(D5-1,Sheet2!C2:D60,2,FALSE)","v":2.1789999999999998},null,"=VLOOKUP(D5-1,Sheet2!C2:D60,2,FALSE)",null,null,null,null,null,null,null,null,"Interquartile Range",{"$f":"+Q29-Q25","v":11},"=Q29-Q25"]
[]
[null,"SE x T-distribution figure",null,{"$f":"IF(E31=\"\",0,D29*E31)","v":3.759221107006204},null,"=D29*E31"]
[]
[]
[null,"Mean",{"$f":"+F5","v":83.230769230769226},null,null,null,null,null,null,null,null,null,null,null,"Percentage calculator"]
[null,"Standard Error Range",{"$f":"+C36-D29","v":81.505564500614938},null,"to",{"$f":"+C36+D29","v":84.955973960923515}]
[null,"Confidence Interval",null,{"$f":"+IF(D33=0,\"\",(C36-D33))","v":79.471548123763029},"to",{"$f":"+IF(D33=0,\"\",(C36+D33))","v":86.989990337775424},null,null,null,null,null,null,null,null,"Percentile %",0.9,{"$f":"IF(P38=\"\",\"\",_xlfn.PERCENTILE.INC(D10:Q16,P38))","v":92.2},"=PERCENTILE.INC(D10:Q16,P38)"]
[]
[]
[null,null,null,"=F5-D33",null,"=F5+D33"]
[]
[]
[]
[]
[]
[]
[]
[]
[]
[]
[]
[]
[]
[]
[]
[null,null,null,null,null,null,null,null,null,null,"Mode #1",{"$f":"_xlfn.MODE.MULT(D10:Q16)","v":78}]
[null,null,null,null,null,null,null,null,null,null,"Mode #2",78]
[null,null,null,null,null,null,null,null,null,null,"Mode #3",78]
[null,null,null,null,null,null,null,null,null,null,"Mode #4",78]

{"sheet":"Sheet2","index":1,"n_rows":65,"n_cols":26,"rows_kept":65,"cut":false,"hidden":true,"merged":[]}
[]
[null,null,"Numbers",0.95,null,null,null,"Numbers",0.95]
[null,null,1,12.71,null,null,null,1,12.71]
[null,null,2,4.3029999999999999,null,null,null,2,4.3029999999999999]
[null,null,3,3.1819999999999999,null,null,null,3,3.1819999999999999]
[null,null,4,2.7759999999999998,null,null,null,4,2.7759999999999998]
[null,null,5,2.5710000000000002,null,null,null,5,2.5710000000000002]
[null,null,6,2.4470000000000001,null,null,null,6,2.4470000000000001]
[null,null,7,2.3650000000000002,null,null,null,7,2.3650000000000002,null,null,null,null,"Max",null,null,null,null,null,null,null,null,null,"Numerator","Denominator"]
[null,null,8,2.306,null,null,null,8,2.306,null,null,null,null,0,null,null,null,null,null,null,null,null,null,null,null,0]
[null,null,9,2.262,null,null,null,9,2.262]
[null,null,10,2.2280000000000002,null,null,null,10,2.2280000000000002]
[null,null,11,2.2010000000000001,null,null,null,11,2.2010000000000001,null,null,null,null,"Mode 2,3"]
[null,null,12,2.1789999999999998,null,null,null,12,2.1789999999999998,null,null,null,null,{"$error":"#N/A"}]
[null,null,13,2.16,null,null,null,13,2.16,null,null,null,null,{"$error":"#N/A"}]
[null,null,14,2.145,null,null,null,14,2.145]
[null,null,15,2.1309999999999998,null,null,null,15,2.1309999999999998]
[null,null,16,2.12,null,null,null,16,2.12]
[null,null,17,2.11,null,null,null,17,2.11]
[null,null,18,2.101,null,null,null,18,2.101]
[null,null,19,2.093,null,null,null,19,2.093]
[null,null,20,2.0859999999999999,null,null,null,20,2.0859999999999999]
[null,null,21,2.08,null,null,null,21,2.08]
[null,null,22,2.0739999999999998,null,null,null,22,2.0739999999999998]
[null,null,23,2.069,null,null,null,23,2.069]
[null,null,24,2.0640000000000001,null,null,null,24,2.0640000000000001]
[null,null,25,2.06,null,null,null,25,2.06]
[null,null,26,2.056,null,null,null,26,2.056]
[null,null,27,2.052,null,null,null,27,2.052]
[null,null,28,2.048,null,null,null,28,2.048]
[null,null,29,2.0449999999999999,null,null,null,29,2.0449999999999999]
[null,null,30,2.0419999999999998,null,null,null,30,2.0419999999999998]
[null,null,31,2.04,null,null,null,40,2.0209999999999999]
[null,null,32,2.0369999999999999,null,null,null,50,2.0089999999999999]
[null,null,33,2.0350000000000001]
[null,null,34,2.032]
[null,null,35,2.0299999999999998]
[null,null,36,2.028]
[null,null,37,2.0259999999999998]
[null,null,38,2.024]
[null,null,39,2.0230000000000001]
[null,null,40,2.0209999999999999]
[null,null,41,2.02]
[null,null,42,2.0179999999999998]
[null,null,43,2.0169999999999999]
[null,null,44,2.0150000000000001]
[null,null,45,2.0139999999999998]
[null,null,46,2.0129999999999999]
[null,null,47,2.012]
[null,null,48,2.0110000000000001]
[null,null,49,2.0099999999999998]
[null,null,50,2.0089999999999999]
[null,null,51,2.008]
[null,null,52,2.0070000000000001]
[null,null,53,2.0059999999999998]
[null,null,54,2.0049999999999999]
[null,null,55,2.004]
[null,null,56,2.0030000000000001]
[null,null,57,2.0019999999999998]
[null,null,58,2.0019999999999998]
[null,null,59,2.0019999999999998]
[null,null,60,2]
[null,null,80,1.99]
[null,null,100,1.984]
[null,null,1000,1.962]

{"sheet":"TEC1","index":2,"n_rows":100,"n_cols":29,"rows_kept":100,"cut":false,"hidden":false,"merged":[[4,15,4,18],[17,6,17,13],[21,7,21,8],[23,6,23,13],[25,6,25,8],[5,17,7,18],[8,6,8,13],[12,6,12,13],[16,9,16,10],[1,24,3,24],[5,20,5,22],[6,20,6,22],[13,25,13,26],[4,19,4,23]]}
[]
[null,null,null,null,null,null,null,null,null,null,null,null,null,null,null,null,null,null,null,null,null,null,{"$f":"+IF([1]Sheet1!$G$6>1,\"AKA Nigel\",\"\")","v":""},null,{"$f":"+IF([1]Sheet1!$G$6>1,\"AKA Nigel\",\"\")","v":""}]
[]
[]
[null," Centre for Education Statistics and Evaluation",null,null,null,null,null,null,null,null,null,null,null,null,null,"Class Name:"]
[null,null,null,null,null,null,null,null,null,null,null,null,null,null,null,null,null,null,null,null,"To convert to %"]
[null,null,null,null,null,null,null,null,null,null,null,null,null,null,null,null,null,null,null,null,"Maximum value"]
[]
[null,null,null,null,null,null,"Basics",null,null,null,null,null,null,null,null,null,null,null,null,null,{"$f":"+IF($X$7=0,B9,((B9/$X$7)*100))","v":0},{"$f":"+IF($X$7=0,C9,((C9/$X$7)*100))","v":0},{"$f":"+IF($X$7=0,D9,((D9/$X$7)*100))","v":0},{"$f":"+IF($X$7=0,E9,((E9/$X$7)*100))","v":0}]
[null,null,null,null,null,null,null,"Count",null,"Sum",null,"Min",null,"Max",null,null,null,null,null,null,0,0,0,0]
[null,null,null,null,null,null,null,{"$f":"COUNTIF(U9:X100,\">1\")","v":0},null,{"$f":"SUM($U$9:$X$100)","v":0},null,{"$f":"+MIN(IF($U$9:$X$100>1,$U$9:$X$100))","v":0},null,{"$f":"MAX($U$9:$X$100)","v":0},null,null,null,null,null,null,0,0,0,0]
[null,null,null,null,null,null,null,null,null,null,null,null,null,null,null,null,null,null,null,null,0,0,0,0]
[null,null,null,null,null,null,"Measures of Central Tendency",null,null,null,null,null,null,null,null,null,null,null,null,null,0,0,0,0,null,null,"Standard Deviation",{"$f":"STDEV(IF(U9:X100<>0,U9:X100))","v":{"$error":"#DIV/0!"}}]
[null,null,null,null,null,null,null,"Mean",null,"Median",null,"Mode 1 ",null,"Mode 2,3",null,null,null,null,null,null,0,0,0,0,null,"Square Root of no: values",null,{"$f":"SQRT(H11)","v":0}]
[null,null,null,null,null,null,null,{"$f":"+AVERAGEIF($U$9:$X$100,\">1\",$U$9:$X$100)","v":{"$error":"#DIV/0!"}},null,{"$f":"+MEDIAN(IF($U$9:$X$100<>0,$U$9:$X$100))","v":{"$error":"#NUM!"}},null,{"$f":"+AB19","v":{"$error":"#N/A"}},null,{"$f":"+IF(AB20=L15,\"\",AB20)","v":{"$error":"#N/A"}},null,null,null,null,null,null,0,0,0,0,null,null," Standard Error (SE)",{"$f":"+IF(AB14=0,0,(AB13/AB14))","v":0}]
[null,null,null,null,null,null,null,null,null,null,null,null,null,{"$f":"+IF(AB21=L15,\"\",AB21)","v":{"$error":"#N/A"}},null,null,null,null,null,null,0,0,0,0,null,null,"T-distribution probability figure",0.95,{"$f":"+IF(H11=0,0,VLOOKUP(H11,Sheet2!C2:D65,2,TRUE))","v":0}]
[null,null,null,null,null,null,null,null,null,null,null,null,null,null,null,null,null,null,null,null,0,0,0,0,null,null,"SE x T-distribution figure",{"$f":"IF(AC16=\"\",0,AB15*AC16)","v":0}]
[null,null,null,null,null,null,"Quartiles - Interquartile area/range",null,null,null,null,null,null,null,null,null,null,null,null,null,{"$f":"+IF($X$7=0,B18,((B18/$X$7)*100))","v":0},{"$f":"+IF($X$7=0,C18,((C18/$X$7)*100))","v":0},{"$f":"+IF($X$7=0,D18,((D18/$X$7)*100))","v":0},{"$f":"+IF($X$7=0,E18,((E18/$X$7)*100))","v":0},null,null,"Variance",{"$f":"+IF(H11=0,\"\",_xlfn.VAR.S($B$9:$E$100))","v":""}]
[null,null,null,null,null,null,null,"Lower Quartile",null,"Middle Quartile",null,"Upper Quartile",null,null,null,null,null,null,null,null,0,0,0,0,null,null,"Mode #1",{"$f":"+IF($X$7=0,AC19,((AC19/$X$7)*100))","v":{"$error":"#N/A"}},{"$f":"_xlfn.MODE.MULT($B$9:$E$100,$B$9:$E$100)","v":{"$error":"#N/A"}}]
[null,null,null,null,null,null,null,{"$f":"IF(H11=0,0,QUARTILE(IF($U$9:$X$100>1,$U$9:$X$100),1))","v":0},null,{"$f":"IF(H11=0,0,QUARTILE(IF($U$9:$X$100>1,$U$9:$X$100),2))","v":0},null,{"$f":"IF(H11=0,0,QUARTILE(IF($U$9:$X$100>1,$U$9:$X$100),3))","v":0},null,null,null,null,null,null,null,null,0,0,0,0,null,null,"Mode #2",{"$f":"+IF($X$7=0,AC20,((AC20/$X$7)*100))","v":{"$error":"#N/A"}},{"$error":"#N/A"}]
[null,null,null,null,null,null,null,null,null,null,null,null,null,null,null,null,null,null,null,null,0,0,0,0,null,null,"Mode #3",{"$f":"+IF($X$7=0,AC21,((AC21/$X$7)*100))","v":{"$error":"#N/A"}},{"$error":"#N/A"}]
[null,null,null,null,null,null,null,"Interquartile Area",null,{"$f":"+H20","v":0},"to",{"$f":"+L20","v":0},null,null,null,null,null,null,null,null,0,0,0,0,null,null,"Mode #4",{"$error":"#N/A"},{"$error":"#N/A"}]
[null,null,null,null,null,null,null,null,null,null,null,null,null,null,null,null,null,null,null,null,0,0,0,0]
[null,null,null,null,null,null,"Confidence Interval",null,null,null,null,null,null,null,null,null,null,null,null,null,0,0,0,0,null,null,"q1-min",{"$f":"+H20-L11","v":0}]
[null,null,null,null,null,null,"CI commences with sample size >5. The bigger the sample, the more accurate the CI.",null,null,null,null,null,null,null,null,null,null,null,null,null,0,0,0,0,null,null,"q1",{"$f":"+H20","v":0}]
[null,null,null,null,null,null,"Confidence Interval",null,null,{"$f":"+IF(H11<=5,\"\",(H15-AB17))","v":""},"to",{"$f":"+IF(H11<=5,\"\",(H15+AB17))","v":""},null,null,null,null,null,null,null,null,0,0,0,0,null,null,"median-q1",{"$f":"+J15-H20","v":{"$error":"#NUM!"}}]
[null,null,null,null,null,null,null,null,null,null,null,null,null,null,null,null,null,null,null,null,0,0,0,0,null,null,"median"]
[null,null,null,null,null,null,null,null,null,null,null,null,null,null,null,null,null,null,null,null,0,0,0,0,null,null,"Q3-median",{"$f":"+L20-J15","v":{"$error":"#NUM!"}}]
[null,null,null,null,null,null,null,null,null,null,null,null,null,null,null,null,null,null,null,null,0,0,0,0,null,null,"Max-q3",{"$f":"+N11-L20","v":0}]
[null,null,null,null,null,null,null,null,null,null,null,null,null,null,null,null,null,null,null,null,0,0,0,0,null,null,"Mean",{"$f":"+H15","v":{"$error":"#DIV/0!"}}]
[null,null,null,null,null,null,null,null,null,null,null,null,null,null,null,null,null,null,null,null,0,0,0,0]
[null,null,null,null,null,null,null,null,"Percentile %",0.8,null,{"$f":"IF(H11=0,\"\",PERCENTILE($B$9:$E$100,J32))","v":""},null,null,null,null,null,null,null,null,0,0,0,0,null,null,{"$f":"+J26","v":""},{"$f":"+AC32-AA32","v":{"$error":"#VALUE!"}},{"$f":"+L26","v":""}]
[null,null,null,null,null,null,null,null,null,null,null,null,null,null,null,null,null,null,null,null,0,0,0,0]
[null,null,null,null,null,null,null,"Standard Deviation",null,{"$f":"+AB13","v":{"$error":"#DIV/0!"}},null,null,null,null,null,null,null,null,null,null,0,0,0,0]
[null,null,null,null,null,null,null,null,null,null,null,null,null,null,null,null,null,null,null,null,0,0,0,0]
[null,null,null,null,null,null,null,null,null,null,null,null,null,null,null,null,null,null,null,null,0,0,0,0]
[null,null,null,null,null,null,null,null,null,null,null,null,null,null,null,null,null,null,null,null,0,0,0,0]
[null,null,null,null,null,null,null,null,null,null,null,null,null,null,null,null,null,null,null,null,0,0,0,0]
[null,null,null,null,null,null,null,null,null,null,null,null,null,null,null,null,null,null,null,null,0,0,0,0]
[null,null,null,null,null,null,null,null,null,null,null,null,null,null,null,null,null,null,null,null,0,0,0,0]
[null,null,null,null,null,null,null,null,null,null,null,null,null,null,null,null,null,null,null,null,0,0,0,0]
[null,null,null,null,null,null,null,null,null,null,null,null,null,null,null,null,null,null,null,null,0,{"$f":"+IF($X$7=0,C42,((C42/$X$7)*100))","v":0},{"$f":"+IF($X$7=0,D42,((D42/$X$7)*100))","v":0},{"$f":"+IF($X$7=0,E42,((E42/$X$7)*100))","v":0}]
[null,null,null,null,null,null,null,null,null,null,null,null,null,null,null,null,null,null,null,null,0,0,0,0]
[null,null,null,null,null,null,null,null,null,null,null,null,null,null,null,null,null,null,null,null,0,0,0,0]
[null,null,null,null,null,null,null,null,null,null,null,null,null,null,null,null,null,null,null,null,0,0,0,0]
[null,null,null,null,null,null,null,null,null,null,null,null,null,null,null,null,null,null,null,null,0,0,0,0]
[null,null,null,null,null,null,null,null,null,null,null,null,null,null,null,null,null,null,null,null,0,0,0,0]
[null,null,null,null,null,null,null,null,null,null,null,null,null,null,null,null,null,null,null,null,0,0,0,0]
[null,null,null,null,null,null,null,null,null,null,null,null,null,null,null,null,null,null,null,null,0,0,0,0]
[null,null,null,null,null,null,null,null,null,null,null,null,null,null,null,null,null,null,null,null,{"$f":"+IF($X$7=0,B50,((B50/$X$7)*100))","v":0},0,0,0]
[null,null,null,null,null,null,null,null,null,null,null,null,null,null,null,null,null,null,null,null,0,0,0,0]
[null,null,null,null,null,null,null,null,null,null,null,null,null,null,null,null,null,null,null,null,0,0,0,0]
[null,null,null,null,null,null,null,null,null,null,null,null,null,null,null,null,null,null,null,null,0,0,0,0]
[null,null,null,null,null,null,null,null,null,null,null,null,null,null,null,null,null,null,null,null,0,0,0,0]
[null,null,null,null,null,null,null,null,null,null,null,null,null,null,null,null,null,null,null,null,0,0,0,0]
[null,null,null,null,null,null,null,null,null,null,null,null,null,null,null,null,null,null,null,null,0,0,0,0]
[null,null,null,null,null,null,null,null,null,null,null,null,null,null,null,null,null,null,null,null,0,0,0,0]
[null,null,null,null,null,null,null,null,null,null,null,null,null,null,null,null,null,null,null,null,0,0,0,0]
[null,null,null,null,null,null,null,null,null,null,null,null,null,null,null,null,null,null,null,null,0,0,0,0]
[null,null,null,null,null,null,null,null,null,null,null,null,null,null,null,null,null,null,null,null,0,0,0,0]
[null,null,null,null,null,null,null,null,null,null,null,null,null,null,null,null,null,null,null,null,0,0,0,0]
[null,null,null,null,null,null,null,null,null,null,null,null,null,null,null,null,null,null,null,null,0,0,0,0]
[null,null,null,null,null,null,null,null,null,null,null,null,null,null,null,null,null,null,null,null,0,0,0,0]
[null,null,null,null,null,null,null,null,null,null,null,null,null,null,null,null,null,null,null,null,0,0,0,0]
[null,null,null,null,null,null,null,null,null,null,null,null,null,null,null,null,null,null,null,null,0,0,0,0]
[null,null,null,null,null,null,null,null,null,null,null,null,null,null,null,null,null,null,null,null,0,0,0,0]
[null,null,null,null,null,null,null,null,null,null,null,null,null,null,null,null,null,null,null,null,0,0,0,0]
[null,null,null,null,null,null,null,null,null,null,null,null,null,null,null,null,null,null,null,null,0,0,0,0]
[null,null,null,null,null,null,null,null,null,null,null,null,null,null,null,null,null,null,null,null,0,0,0,0]
[null,null,null,null,null,null,null,null,null,null,null,null,null,null,null,null,null,null,null,null,0,0,0,0]
[null,null,null,null,null,null,null,null,null,null,null,null,null,null,null,null,null,null,null,null,0,0,0,0]
[null,null,null,null,null,null,null,null,null,null,null,null,null,null,null,null,null,null,null,null,0,0,0,0]
[null,null,null,null,null,null,null,null,null,null,null,null,null,null,null,null,null,null,null,null,0,0,0,0]
[null,null,null,null,null,null,null,null,null,null,null,null,null,null,null,null,null,null,null,null,0,{"$f":"+IF($X$7=0,C74,((C74/$X$7)*100))","v":0},{"$f":"+IF($X$7=0,D74,((D74/$X$7)*100))","v":0},{"$f":"+IF($X$7=0,E74,((E74/$X$7)*100))","v":0}]
[null,null,null,null,null,null,null,null,null,null,null,null,null,null,null,null,null,null,null,null,0,0,0,0]
[null,null,null,null,null,null,null,null,null,null,null,null,null,null,null,null,null,null,null,null,0,0,0,0]
[null,null,null,null,null,null,null,null,null,null,null,null,null,null,null,null,null,null,null,null,0,0,0,0]
[null,null,null,null,null,null,null,null,null,null,null,null,null,null,null,null,null,null,null,null,0,0,0,0]
[null,null,null,null,null,null,null,null,null,null,null,null,null,null,null,null,null,null,null,null,0,0,0,0]
[null,null,null,null,null,null,null,null,null,null,null,null,null,null,null,null,null,null,null,null,0,0,0,0]
[null,null,null,null,null,null,null,null,null,null,null,null,null,null,null,null,null,null,null,null,0,0,0,0]
[null,null,null,null,null,null,null,null,null,null,null,null,null,null,null,null,null,null,null,null,{"$f":"+IF($X$7=0,B82,((B82/$X$7)*100))","v":0},0,0,0]
[null,null,null,null,null,null,null,null,null,null,null,null,null,null,null,null,null,null,null,null,0,0,0,0]
[null,null,null,null,null,null,null,null,null,null,null,null,null,null,null,null,null,null,null,null,0,0,0,0]
[null,null,null,null,null,null,null,null,null,null,null,null,null,null,null,null,null,null,null,null,0,0,0,0]
[null,null,null,null,null,null,null,null,null,null,null,null,null,null,null,null,null,null,null,null,0,0,0,0]
[null,null,null,null,null,null,null,null,null,null,null,null,null,null,null,null,null,null,null,null,0,0,0,0]
[null,null,null,null,null,null,null,null,null,null,null,null,null,null,null,null,null,null,null,null,0,0,0,0]
[null,null,null,null,null,null,null,null,null,null,null,null,null,null,null,null,null,null,null,null,0,0,0,0]
[null,null,null,null,null,null,null,null,null,null,null,null,null,null,null,null,null,null,null,null,0,0,0,0]
[null,null,null,null,null,null,null,null,null,null,null,null,null,null,null,null,null,null,null,null,0,0,0,0]
[null,null,null,null,null,null,null,null,null,null,null,null,null,null,null,null,null,null,null,null,0,0,0,0]
[null,null,null,null,null,null,null,null,null,null,null,null,null,null,null,null,null,null,null,null,0,0,0,0]
[null,null,null,null,null,null,null,null,null,null,null,null,null,null,null,null,null,null,null,null,0,0,0,0]
[null,null,null,null,null,null,null,null,null,null,null,null,null,null,null,null,null,null,null,null,0,0,0,0]
[null,null,null,null,null,null,null,null,null,null,null,null,null,null,null,null,null,null,null,null,0,0,0,0]
[null,null,null,null,null,null,null,null,null,null,null,null,null,null,null,null,null,null,null,null,0,0,0,0]
[null,null,null,null,null,null,null,null,null,null,null,null,null,null,null,null,null,null,null,null,0,0,0,0]
[null,null,null,null,null,null,null,null,null,null,null,null,null,null,null,null,null,null,null,null,0,0,0,0]
[null,null,null,null,null,null,null,null,null,null,null,null,null,null,null,null,null,null,null,null,0,0,0,0]

{"sheet":"TEC6 (2)","index":3,"n_rows":86,"n_cols":54,"rows_kept":86,"cut":false,"hidden":true,"merged":[[17,27,17,28],[0,31,0,33],[4,26,4,33],[8,26,8,33],[12,29,12,30],[13,26,13,33]]}
[null," Centre for Education Statistics and Evaluation",null,null,null,null,null,null,null,null,null,null,null,null,null,null,null,null,null,null,null,null,null,null,null,null,null,null,null,null,null,"Class Name:"]
[]
[]
[]
[null,{"$f":"+IF(#REF!>=1,#REF!,0)","v":{"$error":"#REF!"}},{"$f":"+IF(#REF!>=1,#REF!,0)","v":{"$error":"#REF!"}},{"$f":"+IF(#REF!>=1,#REF!,0)","v":{"$error":"#REF!"}},{"$f":"+IF(#REF!>=1,#REF!,0)","v":{"$error":"#REF!"}},{"$f":"+#REF!","v":{"$error":"#REF!"}},{"$f":"+#REF!","v":{"$error":"#REF!"}},{"$f":"+#REF!","v":{"$error":"#REF!"}},{"$f":"+#REF!","v":{"$error":"#REF!"}},{"$f":"+#REF!","v":{"$error":"#REF!"}},{"$f":"+#REF!","v":{"$error":"#REF!"}},{"$f":"+#REF!","v":{"$error":"#REF!"}},{"$f":"+#REF!","v":{"$error":"#REF!"}},{"$f":"+#REF!","v":{"$error":"#REF!"}},{"$f":"+#REF!","v":{"$error":"#REF!"}},{"$f":"+#REF!","v":{"$error":"#REF!"}},{"$f":"+#REF!","v":{"$error":"#REF!"}},{"$f":"+#REF!","v":{"$error":"#REF!"}},{"$f":"+#REF!","v":{"$error":"#REF!"}},{"$f":"+#REF!","v":{"$error":"#REF!"}},{"$f":"+#REF!","v":{"$error":"#REF!"}},{"$f":"+[1]Sheet1!G6","v":0},{"$f":"+'TEC1'!C9","v":0},{"$f":"+'TEC1'!D9","v":0},{"$f":"+'TEC1'!E9","v":0},null,"Basics"]
[null,{"$f":"+IF(#REF!>=1,#REF!,0)","v":{"$error":"#REF!"}},{"$f":"+IF(#REF!>=1,#REF!,0)","v":{"$error":"#REF!"}},{"$f":"+IF(#REF!>=1,#REF!,0)","v":{"$error":"#REF!"}},{"$f":"+IF(#REF!>=1,#REF!,0)","v":{"$error":"#REF!"}},{"$f":"+#REF!","v":{"$error":"#REF!"}},{"$f":"+#REF!","v":{"$error":"#REF!"}},{"$f":"+#REF!","v":{"$error":"#REF!"}},{"$f":"+#REF!","v":{"$error":"#REF!"}},{"$f":"+#REF!","v":{"$error":"#REF!"}},{"$f":"+#REF!","v":{"$error":"#REF!"}},{"$f":"+#REF!","v":{"$error":"#REF!"}},{"$f":"+#REF!","v":{"$error":"#REF!"}},{"$f":"+#REF!","v":{"$error":"#REF!"}},{"$f":"+#REF!","v":{"$error":"#REF!"}},{"$f":"+#REF!","v":{"$error":"#REF!"}},{"$f":"+#REF!","v":{"$error":"#REF!"}},{"$f":"+#REF!","v":{"$error":"#REF!"}},{"$f":"+#REF!","v":{"$error":"#REF!"}},{"$f":"+#REF!","v":{"$error":"#REF!"}},{"$f":"+#REF!","v":{"$error":"#REF!"}},{"$f":"+[1]Sheet1!G7","v":0},{"$f":"+'TEC1'!C10","v":0},{"$f":"+'TEC1'!D10","v":0},{"$f":"+'TEC1'!E10","v":0},null,null,"Count",null,"Sum",null,"Min",null,"Max"]
[null,{"$f":"+IF(#REF!>=1,#REF!,0)","v":{"$error":"#REF!"}},{"$f":"+IF(#REF!>=1,#REF!,0)","v":{"$error":"#REF!"}},{"$f":"+IF(#REF!>=1,#REF!,0)","v":{"$error":"#REF!"}},{"$f":"+IF(#REF!>=1,#REF!,0)","v":{"$error":"#REF!"}},{"$f":"+#REF!","v":{"$error":"#REF!"}},{"$f":"+#REF!","v":{"$error":"#REF!"}},{"$f":"+#REF!","v":{"$error":"#REF!"}},{"$f":"+#REF!","v":{"$error":"#REF!"}},{"$f":"+#REF!","v":{"$error":"#REF!"}},{"$f":"+#REF!","v":{"$error":"#REF!"}},{"$f":"+#REF!","v":{"$error":"#REF!"}},{"$f":"+#REF!","v":{"$error":"#REF!"}},{"$f":"+#REF!","v":{"$error":"#REF!"}},{"$f":"+#REF!","v":{"$error":"#REF!"}},{"$f":"+#REF!","v":{"$error":"#REF!"}},{"$f":"+#REF!","v":{"$error":"#REF!"}},{"$f":"+#REF!","v":{"$error":"#REF!"}},{"$f":"+#REF!","v":{"$error":"#REF!"}},{"$f":"+#REF!","v":{"$error":"#REF!"}},{"$f":"+#REF!","v":{"$error":"#REF!"}},{"$f":"+[1]Sheet1!G8","v":0},{"$f":"+'TEC1'!C11","v":0},{"$f":"+'TEC1'!D11","v":0},{"$f":"+'TEC1'!E11","v":0},null,null,{"$f":"COUNTIF($B$5:$Y$86,\">=1\")","v":0},null,{"$f":"SUM($B$5:$Y$86)","v":{"$error":"#REF!"}},null,{"$f":"MIN(IF($B$5:$Y$86>0,$B$5:$Y$86))","v":{"$error":"#REF!"}},null,{"$f":"MAX(IF($B$5:$Y$86>0,$B$5:$Y$86))","v":{"$error":"#REF!"}},null,null,null,null,null,null,null,null,null,null,null,{"$f":"IFERROR(AR7/AS7,0)","v":0}]
[null,{"$f":"+IF(#REF!>=1,#REF!,0)","v":{"$error":"#REF!"}},{"$f":"+IF(#REF!>=1,#REF!,0)","v":{"$error":"#REF!"}},{"$f":"+IF(#REF!>=1,#REF!,0)","v":{"$error":"#REF!"}},{"$f":"+IF(#REF!>=1,#REF!,0)","v":{"$error":"#REF!"}},{"$f":"+#REF!","v":{"$error":"#REF!"}},{"$f":"+#REF!","v":{"$error":"#REF!"}},{"$f":"+#REF!","v":{"$error":"#REF!"}},{"$f":"+#REF!","v":{"$error":"#REF!"}},{"$f":"+#REF!","v":{"$error":"#REF!"}},{"$f":"+#REF!","v":{"$error":"#REF!"}},{"$f":"+#REF!","v":{"$error":"#REF!"}},{"$f":"+#REF!","v":{"$error":"#REF!"}},{"$f":"+#REF!","v":{"$error":"#REF!"}},{"$f":"+#REF!","v":{"$error":"#REF!"}},{"$f":"+#REF!","v":{"$error":"#REF!"}},{"$f":"+#REF!","v":{"$error":"#REF!"}},{"$f":"+#REF!","v":{"$error":"#REF!"}},{"$f":"+#REF!","v":{"$error":"#REF!"}},{"$f":"+#REF!","v":{"$error":"#REF!"}},{"$f":"+#REF!","v":{"$error":"#REF!"}},{"$f":"+[1]Sheet1!G9","v":0},{"$f":"+'TEC1'!C12","v":0},{"$f":"+'TEC1'!D12","v":0},{"$f":"+'TEC1'!E12","v":0}]
[null,{"$f":"+IF(#REF!>=1,#REF!,0)","v":{"$error":"#REF!"}},{"$f":"+IF(#REF!>=1,#REF!,0)","v":{"$error":"#REF!"}},{"$f":"+IF(#REF!>=1,#REF!,0)","v":{"$error":"#REF!"}},{"$f":"+IF(#REF!>=1,#REF!,0)","v":{"$error":"#REF!"}},{"$f":"+#REF!","v":{"$error":"#REF!"}},{"$f":"+#REF!","v":{"$error":"#REF!"}},{"$f":"+#REF!","v":{"$error":"#REF!"}},{"$f":"+#REF!","v":{"$error":"#REF!"}},{"$f":"+#REF!","v":{"$error":"#REF!"}},{"$f":"+#REF!","v":{"$error":"#REF!"}},{"$f":"+#REF!","v":{"$error":"#REF!"}},{"$f":"+#REF!","v":{"$error":"#REF!"}},{"$f":"+#REF!","v":{"$error":"#REF!"}},{"$f":"+#REF!","v":{"$error":"#REF!"}},{"$f":"+#REF!","v":{"$error":"#REF!"}},{"$f":"+#REF!","v":{"$error":"#REF!"}},{"$f":"+#REF!","v":{"$error":"#REF!"}},{"$f":"+#REF!","v":{"$error":"#REF!"}},{"$f":"+#REF!","v":{"$error":"#REF!"}},{"$f":"+#REF!","v":{"$error":"#REF!"}},{"$f":"+[1]Sheet1!G10","v":0},{"$f":"+'TEC1'!C13","v":0},{"$f":"+'TEC1'!D13","v":0},{"$f":"+'TEC1'!E13","v":0},null,"Measures of Central Tendency"]
[null,{"$f":"+IF(#REF!>=1,#REF!,0)","v":{"$error":"#REF!"}},{"$f":"+IF(#REF!>=1,#REF!,0)","v":{"$error":"#REF!"}},{"$f":"+IF(#REF!>=1,#REF!,0)","v":{"$error":"#REF!"}},{"$f":"+IF(#REF!>=1,#REF!,0)","v":{"$error":"#REF!"}},{"$f":"+#REF!","v":{"$error":"#REF!"}},{"$f":"+#REF!","v":{"$error":"#REF!"}},{"$f":"+#REF!","v":{"$error":"#REF!"}},{"$f":"+#REF!","v":{"$error":"#REF!"}},{"$f":"+#REF!","v":{"$error":"#REF!"}},{"$f":"+#REF!","v":{"$error":"#REF!"}},{"$f":"+#REF!","v":{"$error":"#REF!"}},{"$f":"+#REF!","v":{"$error":"#REF!"}},{"$f":"+#REF!","v":{"$error":"#REF!"}},{"$f":"+#REF!","v":{"$error":"#REF!"}},{"$f":"+#REF!","v":{"$error":"#REF!"}},{"$f":"+#REF!","v":{"$error":"#REF!"}},{"$f":"+#REF!","v":{"$error":"#REF!"}},{"$f":"+#REF!","v":{"$error":"#REF!"}},{"$f":"+#REF!","v":{"$error":"#REF!"}},{"$f":"+#REF!","v":{"$error":"#REF!"}},{"$f":"+[1]Sheet1!G11","v":0},{"$f":"+'TEC1'!C14","v":0},{"$f":"+'TEC1'!D14","v":0},{"$f":"+'TEC1'!E14","v":0},null,null,"Mean",null,"Median",null,"Mode 1 ",null,null,null,null,null,null,null,null,null,null,null,null,"q1-min",null,null,null,null,null,null,null,null,{"$f":"+AB16-AF7","v":{"$error":"#REF!"}}]
[null,{"$f":"+IF(#REF!>=1,#REF!,0)","v":{"$error":"#REF!"}},{"$f":"+IF(#REF!>=1,#REF!,0)","v":{"$error":"#REF!"}},{"$f":"+IF(#REF!>=1,#REF!,0)","v":{"$error":"#REF!"}},{"$f":"+IF(#REF!>=1,#REF!,0)","v":{"$error":"#REF!"}},{"$f":"+#REF!","v":{"$error":"#REF!"}},{"$f":"+#REF!","v":{"$error":"#REF!"}},{"$f":"+#REF!","v":{"$error":"#REF!"}},{"$f":"+#REF!","v":{"$error":"#REF!"}},{"$f":"+#REF!","v":{"$error":"#REF!"}},{"$f":"+#REF!","v":{"$error":"#REF!"}},{"$f":"+#REF!","v":{"$error":"#REF!"}},{"$f":"+#REF!","v":{"$error":"#REF!"}},{"$f":"+#REF!","v":{"$error":"#REF!"}},{"$f":"+#REF!","v":{"$error":"#REF!"}},{"$f":"+#REF!","v":{"$error":"#REF!"}},{"$f":"+#REF!","v":{"$error":"#REF!"}},{"$f":"+#REF!","v":{"$error":"#REF!"}},{"$f":"+#REF!","v":{"$error":"#REF!"}},{"$f":"+#REF!","v":{"$error":"#REF!"}},{"$f":"+#REF!","v":{"$error":"#REF!"}},{"$f":"+[1]Sheet1!G12","v":0},{"$f":"+'TEC1'!C15","v":0},{"$f":"+'TEC1'!D15","v":0},{"$f":"+'TEC1'!E15","v":0},null,null,{"$f":"AVERAGEIF($B$5:$Y$86,\">=1\")","v":{"$error":"#DIV/0!"}},null,{"$f":"+AD16","v":{"$error":"#REF!"}},null,{"$f":"+BB22","v":{"$error":"#REF!"}},null,null,null,null,null,null,null,null,null,null,null,null,"q1",null,null,null,null,null,null,null,null,{"$f":"+AB16","v":{"$error":"#REF!"}}]
[null,{"$f":"+IF(#REF!>=1,#REF!,0)","v":{"$error":"#REF!"}},{"$f":"+IF(#REF!>=1,#REF!,0)","v":{"$error":"#REF!"}},{"$f":"+IF(#REF!>=1,#REF!,0)","v":{"$error":"#REF!"}},{"$f":"+IF(#REF!>=1,#REF!,0)","v":{"$error":"#REF!"}},{"$f":"+#REF!","v":{"$error":"#REF!"}},{"$f":"+#REF!","v":{"$error":"#REF!"}},{"$f":"+#REF!","v":{"$error":"#REF!"}},{"$f":"+#REF!","v":{"$error":"#REF!"}},{"$f":"+#REF!","v":{"$error":"#REF!"}},{"$f":"+#REF!","v":{"$error":"#REF!"}},{"$f":"+#REF!","v":{"$error":"#REF!"}},{"$f":"+#REF!","v":{"$error":"#REF!"}},{"$f":"+#REF!","v":{"$error":"#REF!"}},{"$f":"+#REF!","v":{"$error":"#REF!"}},{"$f":"+#REF!","v":{"$error":"#REF!"}},{"$f":"+#REF!","v":{"$error":"#REF!"}},{"$f":"+#REF!","v":{"$error":"#REF!"}},{"$f":"+#REF!","v":{"$error":"#REF!"}},{"$f":"+#REF!","v":{"$error":"#REF!"}},{"$f":"+#REF!","v":{"$error":"#REF!"}},{"$f":"+[1]Sheet1!G13","v":0},{"$f":"+'TEC1'!C16","v":0},{"$f":"+'TEC1'!D16","v":0},{"$f":"+'TEC1'!E16","v":0},null,null,null,null,null,null,null,null,null,null,null,null,null,null,null,null,null,null,null,"median-q1",null,null,null,null,null,null,null,null,{"$f":"+AD11-AB16","v":{"$error":"#REF!"}}]
[null,{"$f":"+IF(#REF!>=1,#REF!,0)","v":{"$error":"#REF!"}},{"$f":"+IF(#REF!>=1,#REF!,0)","v":{"$error":"#REF!"}},{"$f":"+IF(#REF!>=1,#REF!,0)","v":{"$error":"#REF!"}},{"$f":"+IF(#REF!>=1,#REF!,0)","v":{"$error":"#REF!"}},{"$f":"+#REF!","v":{"$error":"#REF!"}},{"$f":"+#REF!","v":{"$error":"#REF!"}},{"$f":"+#REF!","v":{"$error":"#REF!"}},{"$f":"+#REF!","v":{"$error":"#REF!"}},{"$f":"+#REF!","v":{"$error":"#REF!"}},{"$f":"+#REF!","v":{"$error":"#REF!"}},{"$f":"+#REF!","v":{"$error":"#REF!"}},{"$f":"+#REF!","v":{"$error":"#REF!"}},{"$f":"+#REF!","v":{"$error":"#REF!"}},{"$f":"+#REF!","v":{"$error":"#REF!"}},{"$f":"+#REF!","v":{"$error":"#REF!"}},{"$f":"+#REF!","v":{"$error":"#REF!"}},{"$f":"+#REF!","v":{"$error":"#REF!"}},{"$f":"+#REF!","v":{"$error":"#REF!"}},{"$f":"+#REF!","v":{"$error":"#REF!"}},{"$f":"+#REF!","v":{"$error":"#REF!"}},{"$f":"+[1]Sheet1!G14","v":0},{"$f":"+'TEC1'!C17","v":0},{"$f":"+'TEC1'!D17","v":0},{"$f":"+'TEC1'!E17","v":0},null,null,null,null,{"$f":"MEDIAN(B5:Y12)","v":{"$error":"#REF!"}},null,null,null,null,null,null,null,null,null,null,null,null,null,null,"median",null,null,null,null,null,null,null,null,0]
[null,{"$f":"+IF(#REF!>=1,#REF!,0)","v":{"$error":"#REF!"}},{"$f":"+IF(#REF!>=1,#REF!,0)","v":{"$error":"#REF!"}},{"$f":"+IF(#REF!>=1,#REF!,0)","v":{"$error":"#REF!"}},{"$f":"+IF(#REF!>=1,#REF!,0)","v":{"$error":"#REF!"}},{"$f":"+#REF!","v":{"$error":"#REF!"}},{"$f":"+#REF!","v":{"$error":"#REF!"}},{"$f":"+#REF!","v":{"$error":"#REF!"}},{"$f":"+#REF!","v":{"$error":"#REF!"}},{"$f":"+#REF!","v":{"$error":"#REF!"}},{"$f":"+#REF!","v":{"$error":"#REF!"}},{"$f":"+#REF!","v":{"$error":"#REF!"}},{"$f":"+#REF!","v":{"$error":"#REF!"}},{"$f":"+#REF!","v":{"$error":"#REF!"}},{"$f":"+#REF!","v":{"$error":"#REF!"}},{"$f":"+#REF!","v":{"$error":"#REF!"}},{"$f":"+#REF!","v":{"$error":"#REF!"}},{"$f":"+#REF!","v":{"$error":"#REF!"}},{"$f":"+#REF!","v":{"$error":"#REF!"}},{"$f":"+#REF!","v":{"$error":"#REF!"}},{"$f":"+#REF!","v":{"$error":"#REF!"}},{"$f":"+'TEC1'!B18","v":0},{"$f":"+'TEC1'!C18","v":0},{"$f":"+'TEC1'!D18","v":0},{"$f":"+'TEC1'!E18","v":0},null,"Quartiles - Interquartile area/range",null,null,null,null,null,null,null,null,null,null,null,null,null,null,null,null,null,"Q3-median",null,null,null,null,null,null,null,null,{"$f":"+AF16-AD11","v":{"$error":"#REF!"}}]
[null,{"$f":"+IF(#REF!>=1,#REF!,0)","v":{"$error":"#REF!"}},{"$f":"+IF(#REF!>=1,#REF!,0)","v":{"$error":"#REF!"}},{"$f":"+IF(#REF!>=1,#REF!,0)","v":{"$error":"#REF!"}},{"$f":"+IF(#REF!>=1,#REF!,0)","v":{"$error":"#REF!"}},{"$f":"+#REF!","v":{"$error":"#REF!"}},{"$f":"+#REF!","v":{"$error":"#REF!"}},{"$f":"+#REF!","v":{"$error":"#REF!"}},{"$f":"+#REF!","v":{"$error":"#REF!"}},{"$f":"+#REF!","v":{"$error":"#REF!"}},{"$f":"+#REF!","v":{"$error":"#REF!"}},{"$f":"+#REF!","v":{"$error":"#REF!"}},{"$f":"+#REF!","v":{"$error":"#REF!"}},{"$f":"+#REF!","v":{"$error":"#REF!"}},{"$f":"+#REF!","v":{"$error":"#REF!"}},{"$f":"+#REF!","v":{"$error":"#REF!"}},{"$f":"+#REF!","v":{"$error":"#REF!"}},{"$f":"+#REF!","v":{"$error":"#REF!"}},{"$f":"+#REF!","v":{"$error":"#REF!"}},{"$f":"+#REF!","v":{"$error":"#REF!"}},{"$f":"+#REF!","v":{"$error":"#REF!"}},{"$f":"+'TEC1'!B19","v":0},{"$f":"+'TEC1'!C19","v":0},{"$f":"+'TEC1'!D19","v":0},{"$f":"+'TEC1'!E19","v":0},null,null,"Lower Quartile",null,"Middle Quartile",null,"Upper Quartile",null,null,null,null,null,null,null,null,null,null,null,null,"Max-q3",null,null,null,null,null,null,null,null,{"$f":"+AH7-AF16","v":{"$error":"#REF!"}}]
[null,{"$f":"+IF(#REF!>=1,#REF!,0)","v":{"$error":"#REF!"}},{"$f":"+IF(#REF!>=1,#REF!,0)","v":{"$error":"#REF!"}},{"$f":"+IF(#REF!>=1,#REF!,0)","v":{"$error":"#REF!"}},{"$f":"+IF(#REF!>=1,#REF!,0)","v":{"$error":"#REF!"}},{"$f":"+#REF!","v":{"$error":"#REF!"}},{"$f":"+#REF!","v":{"$error":"#REF!"}},{"$f":"+#REF!","v":{"$error":"#REF!"}},{"$f":"+#REF!","v":{"$error":"#REF!"}},{"$f":"+#REF!","v":{"$error":"#REF!"}},{"$f":"+#REF!","v":{"$error":"#REF!"}},{"$f":"+#REF!","v":{"$error":"#REF!"}},{"$f":"+#REF!","v":{"$error":"#REF!"}},{"$f":"+#REF!","v":{"$error":"#REF!"}},{"$f":"+#REF!","v":{"$error":"#REF!"}},{"$f":"+#REF!","v":{"$error":"#REF!"}},{"$f":"+#REF!","v":{"$error":"#REF!"}},{"$f":"+#REF!","v":{"$error":"#REF!"}},{"$f":"+#REF!","v":{"$error":"#REF!"}},{"$f":"+#REF!","v":{"$error":"#REF!"}},{"$f":"+#REF!","v":{"$error":"#REF!"}},{"$f":"+'TEC1'!B20","v":0},{"$f":"+'TEC1'!C20","v":0},{"$f":"+'TEC1'!D20","v":0},{"$f":"+'TEC1'!E20","v":0},null,null,{"$f":"QUARTILE(IF($B$5:$Y$86,$B$5:$Y$86),1)","v":{"$error":"#REF!"}},null,{"$f":"QUARTILE(IF($B$5:$Y$86,$B$5:$Y$86),2)","v":{"$error":"#REF!"}},null,{"$f":"QUARTILE(IF($B$5:$Y$100,$B$5:$Y$100),3)","v":{"$error":"#REF!"}},null,null,null,null,null,null,null,null,null,null,null,null,"Mean",null,null,null,null,null,null,null,null,{"$f":"+AB11","v":{"$error":"#DIV/0!"}}]
[null,{"$f":"+IF(#REF!>=1,#REF!,0)","v":{"$error":"#REF!"}},{"$f":"+IF(#REF!>=1,#REF!,0)","v":{"$error":"#REF!"}},{"$f":"+IF(#REF!>=1,#REF!,0)","v":{"$error":"#REF!"}},{"$f":"+IF(#REF!>=1,#REF!,0)","v":{"$error":"#REF!"}},{"$f":"+#REF!","v":{"$error":"#REF!"}},{"$f":"+#REF!","v":{"$error":"#REF!"}},{"$f":"+#REF!","v":{"$error":"#REF!"}},{"$f":"+#REF!","v":{"$error":"#REF!"}},{"$f":"+#REF!","v":{"$error":"#REF!"}},{"$f":"+#REF!","v":{"$error":"#REF!"}},{"$f":"+#REF!","v":{"$error":"#REF!"}},{"$f":"+#REF!","v":{"$error":"#REF!"}},{"$f":"+#REF!","v":{"$error":"#REF!"}},{"$f":"+#REF!","v":{"$error":"#REF!"}},{"$f":"+#REF!","v":{"$error":"#REF!"}},{"$f":"+#REF!","v":{"$error":"#REF!"}},{"$f":"+#REF!","v":{"$error":"#REF!"}},{"$f":"+#REF!","v":{"$error":"#REF!"}},{"$f":"+#REF!","v":{"$error":"#REF!"}},{"$f":"+#REF!","v":{"$error":"#REF!"}},{"$f":"+'TEC1'!B21","v":0},{"$f":"+'TEC1'!C21","v":0},{"$f":"+'TEC1'!D21","v":0},{"$f":"+'TEC1'!E21","v":0}]
[null,{"$f":"+IF(#REF!>=1,#REF!,0)","v":{"$error":"#REF!"}},{"$f":"+IF(#REF!>=1,#REF!,0)","v":{"$error":"#REF!"}},{"$f":"+IF(#REF!>=1,#REF!,0)","v":{"$error":"#REF!"}},{"$f":"+IF(#REF!>=1,#REF!,0)","v":{"$error":"#REF!"}},{"$f":"+#REF!","v":{"$error":"#REF!"}},{"$f":"+#REF!","v":{"$error":"#REF!"}},{"$f":"+#REF!","v":{"$error":"#REF!"}},{"$f":"+#REF!","v":{"$error":"#REF!"}},{"$f":"+#REF!","v":{"$error":"#REF!"}},{"$f":"+#REF!","v":{"$error":"#REF!"}},{"$f":"+#REF!","v":{"$error":"#REF!"}},{"$f":"+#REF!","v":{"$error":"#REF!"}},{"$f":"+#REF!","v":{"$error":"#REF!"}},{"$f":"+#REF!","v":{"$error":"#REF!"}},{"$f":"+#REF!","v":{"$error":"#REF!"}},{"$f":"+#REF!","v":{"$error":"#REF!"}},{"$f":"+#REF!","v":{"$error":"#REF!"}},{"$f":"+#REF!","v":{"$error":"#REF!"}},{"$f":"+#REF!","v":{"$error":"#REF!"}},{"$f":"+#REF!","v":{"$error":"#REF!"}},{"$f":"+'TEC1'!B22","v":0},{"$f":"+'TEC1'!C22","v":0},{"$f":"+'TEC1'!D22","v":0},{"$f":"+'TEC1'!E22","v":0},null,null,"Interquartile Area",null,{"$f":"+AB16","v":{"$error":"#REF!"}},"to",{"$f":"+AF16","v":{"$error":"#REF!"}}]
[null,{"$f":"+IF(#REF!>=1,#REF!,0)","v":{"$error":"#REF!"}},{"$f":"+IF(#REF!>=1,#REF!,0)","v":{"$error":"#REF!"}},{"$f":"+IF(#REF!>=1,#REF!,0)","v":{"$error":"#REF!"}},{"$f":"+IF(#REF!>=1,#REF!,0)","v":{"$error":"#REF!"}},{"$f":"+#REF!","v":{"$error":"#REF!"}},{"$f":"+#REF!","v":{"$error":"#REF!"}},{"$f":"+#REF!","v":{"$error":"#REF!"}},{"$f":"+#REF!","v":{"$error":"#REF!"}},{"$f":"+#REF!","v":{"$error":"#REF!"}},{"$f":"+#REF!","v":{"$error":"#REF!"}},{"$f":"+#REF!","v":{"$error":"#REF!"}},{"$f":"+#REF!","v":{"$error":"#REF!"}},{"$f":"+#REF!","v":{"$error":"#REF!"}},{"$f":"+#REF!","v":{"$error":"#REF!"}},{"$f":"+#REF!","v":{"$error":"#REF!"}},{"$f":"+#REF!","v":{"$error":"#REF!"}},{"$f":"+#REF!","v":{"$error":"#REF!"}},{"$f":"+#REF!","v":{"$error":"#REF!"}},{"$f":"+#REF!","v":{"$error":"#REF!"}},{"$f":"+#REF!","v":{"$error":"#REF!"}},{"$f":"+'TEC1'!B23","v":0},{"$f":"+'TEC1'!C23","v":0},{"$f":"+'TEC1'!D23","v":0},{"$f":"+'TEC1'!E23","v":0}]
[null,{"$f":"+IF(#REF!>=1,#REF!,0)","v":{"$error":"#REF!"}},{"$f":"+IF(#REF!>=1,#REF!,0)","v":{"$error":"#REF!"}},{"$f":"+IF(#REF!>=1,#REF!,0)","v":{"$error":"#REF!"}},{"$f":"+IF(#REF!>=1,#REF!,0)","v":{"$error":"#REF!"}},{"$f":"+#REF!","v":{"$error":"#REF!"}},{"$f":"+#REF!","v":{"$error":"#REF!"}},{"$f":"+#REF!","v":{"$error":"#REF!"}},{"$f":"+#REF!","v":{"$error":"#REF!"}},{"$f":"+#REF!","v":{"$error":"#REF!"}},{"$f":"+#REF!","v":{"$error":"#REF!"}},{"$f":"+#REF!","v":{"$error":"#REF!"}},{"$f":"+#REF!","v":{"$error":"#REF!"}},{"$f":"+#REF!","v":{"$error":"#REF!"}},{"$f":"+#REF!","v":{"$error":"#REF!"}},{"$f":"+#REF!","v":{"$error":"#REF!"}},{"$f":"+#REF!","v":{"$error":"#REF!"}},{"$f":"+#REF!","v":{"$error":"#REF!"}},{"$f":"+#REF!","v":{"$error":"#REF!"}},{"$f":"+#REF!","v":{"$error":"#REF!"}},{"$f":"+#REF!","v":{"$error":"#REF!"}},{"$f":"+'TEC1'!B34","v":0},{"$f":"+'TEC1'!C34","v":0},{"$f":"+'TEC1'!D34","v":0},{"$f":"+'TEC1'!E34","v":0}]
[null,{"$f":"+IF(#REF!>=1,#REF!,0)","v":{"$error":"#REF!"}},{"$f":"+IF(#REF!>=1,#REF!,0)","v":{"$error":"#REF!"}},{"$f":"+IF(#REF!>=1,#REF!,0)","v":{"$error":"#REF!"}},{"$f":"+IF(#REF!>=1,#REF!,0)","v":{"$error":"#REF!"}},{"$f":"+#REF!","v":{"$error":"#REF!"}},{"$f":"+#REF!","v":{"$error":"#REF!"}},{"$f":"+#REF!","v":{"$error":"#REF!"}},{"$f":"+#REF!","v":{"$error":"#REF!"}},{"$f":"+#REF!","v":{"$error":"#REF!"}},{"$f":"+#REF!","v":{"$error":"#REF!"}},{"$f":"+#REF!","v":{"$error":"#REF!"}},{"$f":"+#REF!","v":{"$error":"#REF!"}},{"$f":"+#REF!","v":{"$error":"#REF!"}},{"$f":"+#REF!","v":{"$error":"#REF!"}},{"$f":"+#REF!","v":{"$error":"#REF!"}},{"$f":"+#REF!","v":{"$error":"#REF!"}},{"$f":"+#REF!","v":{"$error":"#REF!"}},{"$f":"+#REF!","v":{"$error":"#REF!"}},{"$f":"+#REF!","v":{"$error":"#REF!"}},{"$f":"+#REF!","v":{"$error":"#REF!"}},{"$f":"+'TEC1'!B35","v":0},{"$f":"+'TEC1'!C35","v":0},{"$f":"+'TEC1'!D35","v":0},{"$f":"+'TEC1'!E35","v":0}]
[null,{"$f":"+IF(#REF!>=1,#REF!,0)","v":{"$error":"#REF!"}},{"$f":"+IF(#REF!>=1,#REF!,0)","v":{"$error":"#REF!"}},{"$f":"+IF(#REF!>=1,#REF!,0)","v":{"$error":"#REF!"}},{"$f":"+IF(#REF!>=1,#REF!,0)","v":{"$error":"#REF!"}},{"$f":"+#REF!","v":{"$error":"#REF!"}},{"$f":"+#REF!","v":{"$error":"#REF!"}},{"$f":"+#REF!","v":{"$error":"#REF!"}},{"$f":"+#REF!","v":{"$error":"#REF!"}},{"$f":"+#REF!","v":{"$error":"#REF!"}},{"$f":"+#REF!","v":{"$error":"#REF!"}},{"$f":"+#REF!","v":{"$error":"#REF!"}},{"$f":"+#REF!","v":{"$error":"#REF!"}},{"$f":"+#REF!","v":{"$error":"#REF!"}},{"$f":"+#REF!","v":{"$error":"#REF!"}},{"$f":"+#REF!","v":{"$error":"#REF!"}},{"$f":"+#REF!","v":{"$error":"#REF!"}},{"$f":"+#REF!","v":{"$error":"#REF!"}},{"$f":"+#REF!","v":{"$error":"#REF!"}},{"$f":"+#REF!","v":{"$error":"#REF!"}},{"$f":"+#REF!","v":{"$error":"#REF!"}},{"$f":"+'TEC1'!B36","v":0},{"$f":"+'TEC1'!C36","v":0},{"$f":"+'TEC1'!D36","v":0},{"$f":"+'TEC1'!E36","v":0},null,null,null,null,null,null,null,null,null,null,null,null,null,null,null,null,null,null,null,"Mode",null,null,null,null,null,null,null,null,{"$f":"MODE(IF($B$5:$Y$100<>0,$B$5:$Y$100))","v":{"$error":"#REF!"}}]
[null,{"$f":"+IF(#REF!>=1,#REF!,0)","v":{"$error":"#REF!"}},{"$f":"+IF(#REF!>=1,#REF!,0)","v":{"$error":"#REF!"}},{"$f":"+IF(#REF!>=1,#REF!,0)","v":{"$error":"#REF!"}},{"$f":"+IF(#REF!>=1,#REF!,0)","v":{"$error":"#REF!"}},{"$f":"+#REF!","v":{"$error":"#REF!"}},{"$f":"+#REF!","v":{"$error":"#REF!"}},{"$f":"+#REF!","v":{"$error":"#REF!"}},{"$f":"+#REF!","v":{"$error":"#REF!"}},{"$f":"+#REF!","v":{"$error":"#REF!"}},{"$f":"+#REF!","v":{"$error":"#REF!"}},{"$f":"+#REF!","v":{"$error":"#REF!"}},{"$f":"+#REF!","v":{"$error":"#REF!"}},{"$f":"+#REF!","v":{"$error":"#REF!"}},{"$f":"+#REF!","v":{"$error":"#REF!"}},{"$f":"+#REF!","v":{"$error":"#REF!"}},{"$f":"+#REF!","v":{"$error":"#REF!"}},{"$f":"+#REF!","v":{"$error":"#REF!"}},{"$f":"+#REF!","v":{"$error":"#REF!"}},{"$f":"+#REF!","v":{"$error":"#REF!"}},{"$f":"+#REF!","v":{"$error":"#REF!"}},{"$f":"+'TEC1'!B37","v":0},{"$f":"+'TEC1'!C37","v":0},{"$f":"+'TEC1'!D37","v":0},{"$f":"+'TEC1'!E37","v":0}]
[null,{"$f":"+IF(#REF!>=1,#REF!,0)","v":{"$error":"#REF!"}},{"$f":"+IF(#REF!>=1,#REF!,0)","v":{"$error":"#REF!"}},{"$f":"+IF(#REF!>=1,#REF!,0)","v":{"$error":"#REF!"}},{"$f":"+IF(#REF!>=1,#REF!,0)","v":{"$error":"#REF!"}},{"$f":"+#REF!","v":{"$error":"#REF!"}},{"$f":"+#REF!","v":{"$error":"#REF!"}},{"$f":"+#REF!","v":{"$error":"#REF!"}},{"$f":"+#REF!","v":{"$error":"#REF!"}},{"$f":"+#REF!","v":{"$error":"#REF!"}},{"$f":"+#REF!","v":{"$error":"#REF!"}},{"$f":"+#REF!","v":{"$error":"#REF!"}},{"$f":"+#REF!","v":{"$error":"#REF!"}},{"$f":"+#REF!","v":{"$error":"#REF!"}},{"$f":"+#REF!","v":{"$error":"#REF!"}},{"$f":"+#REF!","v":{"$error":"#REF!"}},{"$f":"+#REF!","v":{"$error":"#REF!"}},{"$f":"+#REF!","v":{"$error":"#REF!"}},{"$f":"+#REF!","v":{"$error":"#REF!"}},{"$f":"+#REF!","v":{"$error":"#REF!"}},{"$f":"+#REF!","v":{"$error":"#REF!"}},{"$f":"+'TEC1'!B38","v":0},{"$f":"+'TEC1'!C38","v":0},{"$f":"+'TEC1'!D38","v":0},{"$f":"+'TEC1'!E38","v":0}]
[null,{"$f":"+IF(#REF!>=1,#REF!,0)","v":{"$error":"#REF!"}},{"$f":"+IF(#REF!>=1,#REF!,0)","v":{"$error":"#REF!"}},{"$f":"+IF(#REF!>=1,#REF!,0)","v":{"$error":"#REF!"}},{"$f":"+IF(#REF!>=1,#REF!,0)","v":{"$error":"#REF!"}},{"$f":"+#REF!","v":{"$error":"#REF!"}},{"$f":"+#REF!","v":{"$error":"#REF!"}},{"$f":"+#REF!","v":{"$error":"#REF!"}},{"$f":"+#REF!","v":{"$error":"#REF!"}},{"$f":"+#REF!","v":{"$error":"#REF!"}},{"$f":"+#REF!","v":{"$error":"#REF!"}},{"$f":"+#REF!","v":{"$error":"#REF!"}},{"$f":"+#REF!","v":{"$error":"#REF!"}},{"$f":"+#REF!","v":{"$error":"#REF!"}},{"$f":"+#REF!","v":{"$error":"#REF!"}},{"$f":"+#REF!","v":{"$error":"#REF!"}},{"$f":"+#REF!","v":{"$error":"#REF!"}},{"$f":"+#REF!","v":{"$error":"#REF!"}},{"$f":"+#REF!","v":{"$error":"#REF!"}},{"$f":"+#REF!","v":{"$error":"#REF!"}},{"$f":"+#REF!","v":{"$error":"#REF!"}},{"$f":"+'TEC1'!B39","v":0},{"$f":"+'TEC1'!C39","v":0},{"$f":"+'TEC1'!D39","v":0},{"$f":"+'TEC1'!E39","v":0}]
[null,{"$f":"+IF(#REF!>=1,#REF!,0)","v":{"$error":"#REF!"}},{"$f":"+IF(#REF!>=1,#REF!,0)","v":{"$error":"#REF!"}},{"$f":"+IF(#REF!>=1,#REF!,0)","v":{"$error":"#REF!"}},{"$f":"+IF(#REF!>=1,#REF!,0)","v":{"$error":"#REF!"}},{"$f":"+#REF!","v":{"$error":"#REF!"}},{"$f":"+#REF!","v":{"$error":"#REF!"}},{"$f":"+#REF!","v":{"$error":"#REF!"}},{"$f":"+#REF!","v":{"$error":"#REF!"}},{"$f":"+#REF!","v":{"$error":"#REF!"}},{"$f":"+#REF!","v":{"$error":"#REF!"}},{"$f":"+#REF!","v":{"$error":"#REF!"}},{"$f":"+#REF!","v":{"$error":"#REF!"}},{"$f":"+#REF!","v":{"$error":"#REF!"}},{"$f":"+#REF!","v":{"$error":"#REF!"}},{"$f":"+#REF!","v":{"$error":"#REF!"}},{"$f":"+#REF!","v":{"$error":"#REF!"}},{"$f":"+#REF!","v":{"$error":"#REF!"}},{"$f":"+#REF!","v":{"$error":"#REF!"}},{"$f":"+#REF!","v":{"$error":"#REF!"}},{"$f":"+#REF!","v":{"$error":"#REF!"}},{"$f":"+'TEC1'!B40","v":0},{"$f":"+'TEC1'!C40","v":0},{"$f":"+'TEC1'!D40","v":0},{"$f":"+'TEC1'!E40","v":0}]
[null,{"$f":"+IF(#REF!>=1,#REF!,0)","v":{"$error":"#REF!"}},{"$f":"+IF(#REF!>=1,#REF!,0)","v":{"$error":"#REF!"}},{"$f":"+IF(#REF!>=1,#REF!,0)","v":{"$error":"#REF!"}},{"$f":"+IF(#REF!>=1,#REF!,0)","v":{"$error":"#REF!"}},{"$f":"+#REF!","v":{"$error":"#REF!"}},{"$f":"+#REF!","v":{"$error":"#REF!"}},{"$f":"+#REF!","v":{"$error":"#REF!"}},{"$f":"+#REF!","v":{"$error":"#REF!"}},{"$f":"+#REF!","v":{"$error":"#REF!"}},{"$f":"+#REF!","v":{"$error":"#REF!"}},{"$f":"+#REF!","v":{"$error":"#REF!"}},{"$f":"+#REF!","v":{"$error":"#REF!"}},{"$f":"+#REF!","v":{"$error":"#REF!"}},{"$f":"+#REF!","v":{"$error":"#REF!"}},{"$f":"+#REF!","v":{"$error":"#REF!"}},{"$f":"+#REF!","v":{"$error":"#REF!"}},{"$f":"+#REF!","v":{"$error":"#REF!"}},{"$f":"+#REF!","v":{"$error":"#REF!"}},{"$f":"+#REF!","v":{"$error":"#REF!"}},{"$f":"+#REF!","v":{"$error":"#REF!"}},{"$f":"+'TEC1'!B41","v":0},{"$f":"+'TEC1'!C41","v":0},{"$f":"+'TEC1'!D41","v":0},{"$f":"+'TEC1'!E41","v":0}]
[null,{"$f":"+IF(#REF!>=1,#REF!,0)","v":{"$error":"#REF!"}},{"$f":"+IF(#REF!>=1,#REF!,0)","v":{"$error":"#REF!"}},{"$f":"+IF(#REF!>=1,#REF!,0)","v":{"$error":"#REF!"}},{"$f":"+IF(#REF!>=1,#REF!,0)","v":{"$error":"#REF!"}},{"$f":"+#REF!","v":{"$error":"#REF!"}},{"$f":"+#REF!","v":{"$error":"#REF!"}},{"$f":"+#REF!","v":{"$error":"#REF!"}},{"$f":"+#REF!","v":{"$error":"#REF!"}},{"$f":"+#REF!","v":{"$error":"#REF!"}},{"$f":"+#REF!","v":{"$error":"#REF!"}},{"$f":"+#REF!","v":{"$error":"#REF!"}},{"$f":"+#REF!","v":{"$error":"#REF!"}},{"$f":"+#REF!","v":{"$error":"#REF!"}},{"$f":"+#REF!","v":{"$error":"#REF!"}},{"$f":"+#REF!","v":{"$error":"#REF!"}},{"$f":"+#REF!","v":{"$error":"#REF!"}},{"$f":"+#REF!","v":{"$error":"#REF!"}},{"$f":"+#REF!","v":{"$error":"#REF!"}},{"$f":"+#REF!","v":{"$error":"#REF!"}},{"$f":"+#REF!","v":{"$error":"#REF!"}},{"$f":"+'TEC1'!B42","v":0},{"$f":"+'TEC1'!C42","v":0},{"$f":"+'TEC1'!D42","v":0},{"$f":"+'TEC1'!E42","v":0}]
[null,{"$f":"+IF(#REF!>=1,#REF!,0)","v":{"$error":"#REF!"}},{"$f":"+IF(#REF!>=1,#REF!,0)","v":{"$error":"#REF!"}},{"$f":"+IF(#REF!>=1,#REF!,0)","v":{"$error":"#REF!"}},{"$f":"+IF(#REF!>=1,#REF!,0)","v":{"$error":"#REF!"}},{"$f":"+#REF!","v":{"$error":"#REF!"}},{"$f":"+#REF!","v":{"$error":"#REF!"}},{"$f":"+#REF!","v":{"$error":"#REF!"}},{"$f":"+#REF!","v":{"$error":"#REF!"}},{"$f":"+#REF!","v":{"$error":"#REF!"}},{"$f":"+#REF!","v":{"$error":"#REF!"}},{"$f":"+#REF!","v":{"$error":"#REF!"}},{"$f":"+#REF!","v":{"$error":"#REF!"}},{"$f":"+#REF!","v":{"$error":"#REF!"}},{"$f":"+#REF!","v":{"$error":"#REF!"}},{"$f":"+#REF!","v":{"$error":"#REF!"}},{"$f":"+#REF!","v":{"$error":"#REF!"}},{"$f":"+#REF!","v":{"$error":"#REF!"}},{"$f":"+#REF!","v":{"$error":"#REF!"}},{"$f":"+#REF!","v":{"$error":"#REF!"}},{"$f":"+#REF!","v":{"$error":"#REF!"}},{"$f":"+'TEC1'!B43","v":0},{"$f":"+'TEC1'!C43","v":0},{"$f":"+'TEC1'!D43","v":0},{"$f":"+'TEC1'!E43","v":0}]
[null,{"$f":"+IF(#REF!>=1,#REF!,0)","v":{"$error":"#REF!"}},{"$f":"+IF(#REF!>=1,#REF!,0)","v":{"$error":"#REF!"}},{"$f":"+IF(#REF!>=1,#REF!,0)","v":{"$error":"#REF!"}},{"$f":"+IF(#REF!>=1,#REF!,0)","v":{"$error":"#REF!"}},{"$f":"+#REF!","v":{"$error":"#REF!"}},{"$f":"+#REF!","v":{"$error":"#REF!"}},{"$f":"+#REF!","v":{"$error":"#REF!"}},{"$f":"+#REF!","v":{"$error":"#REF!"}},{"$f":"+#REF!","v":{"$error":"#REF!"}},{"$f":"+#REF!","v":{"$error":"#REF!"}},{"$f":"+#REF!","v":{"$error":"#REF!"}},{"$f":"+#REF!","v":{"$error":"#REF!"}},{"$f":"+#REF!","v":{"$error":"#REF!"}},{"$f":"+#REF!","v":{"$error":"#REF!"}},{"$f":"+#REF!","v":{"$error":"#REF!"}},{"$f":"+#REF!","v":{"$error":"#REF!"}},{"$f":"+#REF!","v":{"$error":"#REF!"}},{"$f":"+#REF!","v":{"$error":"#REF!"}},{"$f":"+#REF!","v":{"$error":"#REF!"}},{"$f":"+#REF!","v":{"$error":"#REF!"}},{"$f":"+'TEC1'!B44","v":0},{"$f":"+'TEC1'!C44","v":0},{"$f":"+'TEC1'!D44","v":0},{"$f":"+'TEC1'!E44","v":0}]
[null,{"$f":"+IF(#REF!>=1,#REF!,0)","v":{"$error":"#REF!"}},{"$f":"+IF(#REF!>=1,#REF!,0)","v":{"$error":"#REF!"}},{"$f":"+IF(#REF!>=1,#REF!,0)","v":{"$error":"#REF!"}},{"$f":"+IF(#REF!>=1,#REF!,0)","v":{"$error":"#REF!"}},{"$f":"+#REF!","v":{"$error":"#REF!"}},{"$f":"+#REF!","v":{"$error":"#REF!"}},{"$f":"+#REF!","v":{"$error":"#REF!"}},{"$f":"+#REF!","v":{"$error":"#REF!"}},{"$f":"+#REF!","v":{"$error":"#REF!"}},{"$f":"+#REF!","v":{"$error":"#REF!"}},{"$f":"+#REF!","v":{"$error":"#REF!"}},{"$f":"+#REF!","v":{"$error":"#REF!"}},{"$f":"+#REF!","v":{"$error":"#REF!"}},{"$f":"+#REF!","v":{"$error":"#REF!"}},{"$f":"+#REF!","v":{"$error":"#REF!"}},{"$f":"+#REF!","v":{"$error":"#REF!"}},{"$f":"+#REF!","v":{"$error":"#REF!"}},{"$f":"+#REF!","v":{"$error":"#REF!"}},{"$f":"+#REF!","v":{"$error":"#REF!"}},{"$f":"+#REF!","v":{"$error":"#REF!"}},{"$f":"+'TEC1'!B45","v":0},{"$f":"+'TEC1'!C45","v":0},{"$f":"+'TEC1'!D45","v":0},{"$f":"+'TEC1'!E45","v":0}]
[null,{"$f":"+IF(#REF!>=1,#REF!,0)","v":{"$error":"#REF!"}},{"$f":"+IF(#REF!>=1,#REF!,0)","v":{"$error":"#REF!"}},{"$f":"+IF(#REF!>=1,#REF!,0)","v":{"$error":"#REF!"}},{"$f":"+IF(#REF!>=1,#REF!,0)","v":{"$error":"#REF!"}},{"$f":"+#REF!","v":{"$error":"#REF!"}},{"$f":"+#REF!","v":{"$error":"#REF!"}},{"$f":"+#REF!","v":{"$error":"#REF!"}},{"$f":"+#REF!","v":{"$error":"#REF!"}},{"$f":"+#REF!","v":{"$error":"#REF!"}},{"$f":"+#REF!","v":{"$error":"#REF!"}},{"$f":"+#REF!","v":{"$error":"#REF!"}},{"$f":"+#REF!","v":{"$error":"#REF!"}},{"$f":"+#REF!","v":{"$error":"#REF!"}},{"$f":"+#REF!","v":{"$error":"#REF!"}},{"$f":"+#REF!","v":{"$error":"#REF!"}},{"$f":"+#REF!","v":{"$error":"#REF!"}},{"$f":"+#REF!","v":{"$error":"#REF!"}},{"$f":"+#REF!","v":{"$error":"#REF!"}},{"$f":"+#REF!","v":{"$error":"#REF!"}},{"$f":"+#REF!","v":{"$error":"#REF!"}},{"$f":"+'TEC1'!B46","v":0},{"$f":"+'TEC1'!C46","v":0},{"$f":"+'TEC1'!D46","v":0},{"$f":"+'TEC1'!E46","v":0}]
[null,{"$f":"+IF(#REF!>=1,#REF!,0)","v":{"$error":"#REF!"}},{"$f":"+IF(#REF!>=1,#REF!,0)","v":{"$error":"#REF!"}},{"$f":"+IF(#REF!>=1,#REF!,0)","v":{"$error":"#REF!"}},{"$f":"+IF(#REF!>=1,#REF!,0)","v":{"$error":"#REF!"}},{"$f":"+#REF!","v":{"$error":"#REF!"}},{"$f":"+#REF!","v":{"$error":"#REF!"}},{"$f":"+#REF!","v":{"$error":"#REF!"}},{"$f":"+#REF!","v":{"$error":"#REF!"}},{"$f":"+#REF!","v":{"$error":"#REF!"}},{"$f":"+#REF!","v":{"$error":"#REF!"}},{"$f":"+#REF!","v":{"$error":"#REF!"}},{"$f":"+#REF!","v":{"$error":"#REF!"}},{"$f":"+#REF!","v":{"$error":"#REF!"}},{"$f":"+#REF!","v":{"$error":"#REF!"}},{"$f":"+#REF!","v":{"$error":"#REF!"}},{"$f":"+#REF!","v":{"$error":"#REF!"}},{"$f":"+#REF!","v":{"$error":"#REF!"}},{"$f":"+#REF!","v":{"$error":"#REF!"}},{"$f":"+#REF!","v":{"$error":"#REF!"}},{"$f":"+#REF!","v":{"$error":"#REF!"}},{"$f":"+'TEC1'!B47","v":0},{"$f":"+'TEC1'!C47","v":0},{"$f":"+'TEC1'!D47","v":0},{"$f":"+'TEC1'!E47","v":0}]
[null,{"$f":"+IF(#REF!>=1,#REF!,0)","v":{"$error":"#REF!"}},{"$f":"+IF(#REF!>=1,#REF!,0)","v":{"$error":"#REF!"}},{"$f":"+IF(#REF!>=1,#REF!,0)","v":{"$error":"#REF!"}},{"$f":"+IF(#REF!>=1,#REF!,0)","v":{"$error":"#REF!"}},{"$f":"+#REF!","v":{"$error":"#REF!"}},{"$f":"+#REF!","v":{"$error":"#REF!"}},{"$f":"+#REF!","v":{"$error":"#REF!"}},{"$f":"+#REF!","v":{"$error":"#REF!"}},{"$f":"+#REF!","v":{"$error":"#REF!"}},{"$f":"+#REF!","v":{"$error":"#REF!"}},{"$f":"+#REF!","v":{"$error":"#REF!"}},{"$f":"+#REF!","v":{"$error":"#REF!"}},{"$f":"+#REF!","v":{"$error":"#REF!"}},{"$f":"+#REF!","v":{"$error":"#REF!"}},{"$f":"+#REF!","v":{"$error":"#REF!"}},{"$f":"+#REF!","v":{"$error":"#REF!"}},{"$f":"+#REF!","v":{"$error":"#REF!"}},{"$f":"+#REF!","v":{"$error":"#REF!"}},{"$f":"+#REF!","v":{"$error":"#REF!"}},{"$f":"+#REF!","v":{"$error":"#REF!"}},{"$f":"+'TEC1'!B48","v":0},{"$f":"+'TEC1'!C48","v":0},{"$f":"+'TEC1'!D48","v":0},{"$f":"+'TEC1'!E48","v":0}]
[null,{"$f":"+IF(#REF!>=1,#REF!,0)","v":{"$error":"#REF!"}},{"$f":"+IF(#REF!>=1,#REF!,0)","v":{"$error":"#REF!"}},{"$f":"+IF(#REF!>=1,#REF!,0)","v":{"$error":"#REF!"}},{"$f":"+IF(#REF!>=1,#REF!,0)","v":{"$error":"#REF!"}},{"$f":"+#REF!","v":{"$error":"#REF!"}},{"$f":"+#REF!","v":{"$error":"#REF!"}},{"$f":"+#REF!","v":{"$error":"#REF!"}},{"$f":"+#REF!","v":{"$error":"#REF!"}},{"$f":"+#REF!","v":{"$error":"#REF!"}},{"$f":"+#REF!","v":{"$error":"#REF!"}},{"$f":"+#REF!","v":{"$error":"#REF!"}},{"$f":"+#REF!","v":{"$error":"#REF!"}},{"$f":"+#REF!","v":{"$error":"#REF!"}},{"$f":"+#REF!","v":{"$error":"#REF!"}},{"$f":"+#REF!","v":{"$error":"#REF!"}},{"$f":"+#REF!","v":{"$error":"#REF!"}},{"$f":"+#REF!","v":{"$error":"#REF!"}},{"$f":"+#REF!","v":{"$error":"#REF!"}},{"$f":"+#REF!","v":{"$error":"#REF!"}},{"$f":"+#REF!","v":{"$error":"#REF!"}},{"$f":"+'TEC1'!B49","v":0},{"$f":"+'TEC1'!C49","v":0},{"$f":"+'TEC1'!D49","v":0},{"$f":"+'TEC1'!E49","v":0}]
[null,{"$f":"+IF(#REF!>=1,#REF!,0)","v":{"$error":"#REF!"}},{"$f":"+IF(#REF!>=1,#REF!,0)","v":{"$error":"#REF!"}},{"$f":"+IF(#REF!>=1,#REF!,0)","v":{"$error":"#REF!"}},{"$f":"+IF(#REF!>=1,#REF!,0)","v":{"$error":"#REF!"}},{"$f":"+#REF!","v":{"$error":"#REF!"}},{"$f":"+#REF!","v":{"$error":"#REF!"}},{"$f":"+#REF!","v":{"$error":"#REF!"}},{"$f":"+#REF!","v":{"$error":"#REF!"}},{"$f":"+#REF!","v":{"$error":"#REF!"}},{"$f":"+#REF!","v":{"$error":"#REF!"}},{"$f":"+#REF!","v":{"$error":"#REF!"}},{"$f":"+#REF!","v":{"$error":"#REF!"}},{"$f":"+#REF!","v":{"$error":"#REF!"}},{"$f":"+#REF!","v":{"$error":"#REF!"}},{"$f":"+#REF!","v":{"$error":"#REF!"}},{"$f":"+#REF!","v":{"$error":"#REF!"}},{"$f":"+#REF!","v":{"$error":"#REF!"}},{"$f":"+#REF!","v":{"$error":"#REF!"}},{"$f":"+#REF!","v":{"$error":"#REF!"}},{"$f":"+#REF!","v":{"$error":"#REF!"}},{"$f":"+'TEC1'!B50","v":0},{"$f":"+'TEC1'!C50","v":0},{"$f":"+'TEC1'!D50","v":0},{"$f":"+'TEC1'!E50","v":0}]
[null,{"$f":"+IF(#REF!>=1,#REF!,0)","v":{"$error":"#REF!"}},{"$f":"+IF(#REF!>=1,#REF!,0)","v":{"$error":"#REF!"}},{"$f":"+IF(#REF!>=1,#REF!,0)","v":{"$error":"#REF!"}},{"$f":"+IF(#REF!>=1,#REF!,0)","v":{"$error":"#REF!"}},{"$f":"+#REF!","v":{"$error":"#REF!"}},{"$f":"+#REF!","v":{"$error":"#REF!"}},{"$f":"+#REF!","v":{"$error":"#REF!"}},{"$f":"+#REF!","v":{"$error":"#REF!"}},{"$f":"+#REF!","v":{"$error":"#REF!"}},{"$f":"+#REF!","v":{"$error":"#REF!"}},{"$f":"+#REF!","v":{"$error":"#REF!"}},{"$f":"+#REF!","v":{"$error":"#REF!"}},{"$f":"+#REF!","v":{"$error":"#REF!"}},{"$f":"+#REF!","v":{"$error":"#REF!"}},{"$f":"+#REF!","v":{"$error":"#REF!"}},{"$f":"+#REF!","v":{"$error":"#REF!"}},{"$f":"+#REF!","v":{"$error":"#REF!"}},{"$f":"+#REF!","v":{"$error":"#REF!"}},{"$f":"+#REF!","v":{"$error":"#REF!"}},{"$f":"+#REF!","v":{"$error":"#REF!"}},{"$f":"+'TEC1'!B51","v":0},{"$f":"+'TEC1'!C51","v":0},{"$f":"+'TEC1'!D51","v":0},{"$f":"+'TEC1'!E51","v":0}]
[null,{"$f":"+IF(#REF!>=1,#REF!,0)","v":{"$error":"#REF!"}},{"$f":"+IF(#REF!>=1,#REF!,0)","v":{"$error":"#REF!"}},{"$f":"+IF(#REF!>=1,#REF!,0)","v":{"$error":"#REF!"}},{"$f":"+IF(#REF!>=1,#REF!,0)","v":{"$error":"#REF!"}},{"$f":"+#REF!","v":{"$error":"#REF!"}},{"$f":"+#REF!","v":{"$error":"#REF!"}},{"$f":"+#REF!","v":{"$error":"#REF!"}},{"$f":"+#REF!","v":{"$error":"#REF!"}},{"$f":"+#REF!","v":{"$error":"#REF!"}},{"$f":"+#REF!","v":{"$error":"#REF!"}},{"$f":"+#REF!","v":{"$error":"#REF!"}},{"$f":"+#REF!","v":{"$error":"#REF!"}},{"$f":"+#REF!","v":{"$error":"#REF!"}},{"$f":"+#REF!","v":{"$error":"#REF!"}},{"$f":"+#REF!","v":{"$error":"#REF!"}},{"$f":"+#REF!","v":{"$error":"#REF!"}},{"$f":"+#REF!","v":{"$error":"#REF!"}},{"$f":"+#REF!","v":{"$error":"#REF!"}},{"$f":"+#REF!","v":{"$error":"#REF!"}},{"$f":"+#REF!","v":{"$error":"#REF!"}},{"$f":"+'TEC1'!B52","v":0},{"$f":"+'TEC1'!C52","v":0},{"$f":"+'TEC1'!D52","v":0},{"$f":"+'TEC1'!E52","v":0}]
[null,{"$f":"+IF(#REF!>=1,#REF!,0)","v":{"$error":"#REF!"}},{"$f":"+IF(#REF!>=1,#REF!,0)","v":{"$error":"#REF!"}},{"$f":"+IF(#REF!>=1,#REF!,0)","v":{"$error":"#REF!"}},{"$f":"+IF(#REF!>=1,#REF!,0)","v":{"$error":"#REF!"}},{"$f":"+#REF!","v":{"$error":"#REF!"}},{"$f":"+#REF!","v":{"$error":"#REF!"}},{"$f":"+#REF!","v":{"$error":"#REF!"}},{"$f":"+#REF!","v":{"$error":"#REF!"}},{"$f":"+#REF!","v":{"$error":"#REF!"}},{"$f":"+#REF!","v":{"$error":"#REF!"}},{"$f":"+#REF!","v":{"$error":"#REF!"}},{"$f":"+#REF!","v":{"$error":"#REF!"}},{"$f":"+#REF!","v":{"$error":"#REF!"}},{"$f":"+#REF!","v":{"$error":"#REF!"}},{"$f":"+#REF!","v":{"$error":"#REF!"}},{"$f":"+#REF!","v":{"$error":"#REF!"}},{"$f":"+#REF!","v":{"$error":"#REF!"}},{"$f":"+#REF!","v":{"$error":"#REF!"}},{"$f":"+#REF!","v":{"$error":"#REF!"}},{"$f":"+#REF!","v":{"$error":"#REF!"}},{"$f":"+'TEC1'!B53","v":0},{"$f":"+'TEC1'!C53","v":0},{"$f":"+'TEC1'!D53","v":0},{"$f":"+'TEC1'!E53","v":0}]
[null,{"$f":"+IF(#REF!>=1,#REF!,0)","v":{"$error":"#REF!"}},{"$f":"+IF(#REF!>=1,#REF!,0)","v":{"$error":"#REF!"}},{"$f":"+IF(#REF!>=1,#REF!,0)","v":{"$error":"#REF!"}},{"$f":"+IF(#REF!>=1,#REF!,0)","v":{"$error":"#REF!"}},{"$f":"+#REF!","v":{"$error":"#REF!"}},{"$f":"+#REF!","v":{"$error":"#REF!"}},{"$f":"+#REF!","v":{"$error":"#REF!"}},{"$f":"+#REF!","v":{"$error":"#REF!"}},{"$f":"+#REF!","v":{"$error":"#REF!"}},{"$f":"+#REF!","v":{"$error":"#REF!"}},{"$f":"+#REF!","v":{"$error":"#REF!"}},{"$f":"+#REF!","v":{"$error":"#REF!"}},{"$f":"+#REF!","v":{"$error":"#REF!"}},{"$f":"+#REF!","v":{"$error":"#REF!"}},{"$f":"+#REF!","v":{"$error":"#REF!"}},{"$f":"+#REF!","v":{"$error":"#REF!"}},{"$f":"+#REF!","v":{"$error":"#REF!"}},{"$f":"+#REF!","v":{"$error":"#REF!"}},{"$f":"+#REF!","v":{"$error":"#REF!"}},{"$f":"+#REF!","v":{"$error":"#REF!"}},{"$f":"+'TEC1'!B54","v":0},{"$f":"+'TEC1'!C54","v":0},{"$f":"+'TEC1'!D54","v":0},{"$f":"+'TEC1'!E54","v":0}]
[null,{"$f":"+IF(#REF!>=1,#REF!,0)","v":{"$error":"#REF!"}},{"$f":"+IF(#REF!>=1,#REF!,0)","v":{"$error":"#REF!"}},{"$f":"+IF(#REF!>=1,#REF!,0)","v":{"$error":"#REF!"}},{"$f":"+IF(#REF!>=1,#REF!,0)","v":{"$error":"#REF!"}},{"$f":"+#REF!","v":{"$error":"#REF!"}},{"$f":"+#REF!","v":{"$error":"#REF!"}},{"$f":"+#REF!","v":{"$error":"#REF!"}},{"$f":"+#REF!","v":{"$error":"#REF!"}},{"$f":"+#REF!","v":{"$error":"#REF!"}},{"$f":"+#REF!","v":{"$error":"#REF!"}},{"$f":"+#REF!","v":{"$error":"#REF!"}},{"$f":"+#REF!","v":{"$error":"#REF!"}},{"$f":"+#REF!","v":{"$error":"#REF!"}},{"$f":"+#REF!","v":{"$error":"#REF!"}},{"$f":"+#REF!","v":{"$error":"#REF!"}},{"$f":"+#REF!","v":{"$error":"#REF!"}},{"$f":"+#REF!","v":{"$error":"#REF!"}},{"$f":"+#REF!","v":{"$error":"#REF!"}},{"$f":"+#REF!","v":{"$error":"#REF!"}},{"$f":"+#REF!","v":{"$error":"#REF!"}},{"$f":"+'TEC1'!B55","v":0},{"$f":"+'TEC1'!C55","v":0},{"$f":"+'TEC1'!D55","v":0},{"$f":"+'TEC1'!E55","v":0}]
[null,{"$f":"+IF(#REF!>=1,#REF!,0)","v":{"$error":"#REF!"}},{"$f":"+IF(#REF!>=1,#REF!,0)","v":{"$error":"#REF!"}},{"$f":"+IF(#REF!>=1,#REF!,0)","v":{"$error":"#REF!"}},{"$f":"+IF(#REF!>=1,#REF!,0)","v":{"$error":"#REF!"}},{"$f":"+#REF!","v":{"$error":"#REF!"}},{"$f":"+#REF!","v":{"$error":"#REF!"}},{"$f":"+#REF!","v":{"$error":"#REF!"}},{"$f":"+#REF!","v":{"$error":"#REF!"}},{"$f":"+#REF!","v":{"$error":"#REF!"}},{"$f":"+#REF!","v":{"$error":"#REF!"}},{"$f":"+#REF!","v":{"$error":"#REF!"}},{"$f":"+#REF!","v":{"$error":"#REF!"}},{"$f":"+#REF!","v":{"$error":"#REF!"}},{"$f":"+#REF!","v":{"$error":"#REF!"}},{"$f":"+#REF!","v":{"$error":"#REF!"}},{"$f":"+#REF!","v":{"$error":"#REF!"}},{"$f":"+#REF!","v":{"$error":"#REF!"}},{"$f":"+#REF!","v":{"$error":"#REF!"}},{"$f":"+#REF!","v":{"$error":"#REF!"}},{"$f":"+#REF!","v":{"$error":"#REF!"}},{"$f":"+'TEC1'!B56","v":0},{"$f":"+'TEC1'!C56","v":0},{"$f":"+'TEC1'!D56","v":0},{"$f":"+'TEC1'!E56","v":0}]
[null,{"$f":"+IF(#REF!>=1,#REF!,0)","v":{"$error":"#REF!"}},{"$f":"+IF(#REF!>=1,#REF!,0)","v":{"$error":"#REF!"}},{"$f":"+IF(#REF!>=1,#REF!,0)","v":{"$error":"#REF!"}},{"$f":"+IF(#REF!>=1,#REF!,0)","v":{"$error":"#REF!"}},{"$f":"+#REF!","v":{"$error":"#REF!"}},{"$f":"+#REF!","v":{"$error":"#REF!"}},{"$f":"+#REF!","v":{"$error":"#REF!"}},{"$f":"+#REF!","v":{"$error":"#REF!"}},{"$f":"+#REF!","v":{"$error":"#REF!"}},{"$f":"+#REF!","v":{"$error":"#REF!"}},{"$f":"+#REF!","v":{"$error":"#REF!"}},{"$f":"+#REF!","v":{"$error":"#REF!"}},{"$f":"+#REF!","v":{"$error":"#REF!"}},{"$f":"+#REF!","v":{"$error":"#REF!"}},{"$f":"+#REF!","v":{"$error":"#REF!"}},{"$f":"+#REF!","v":{"$error":"#REF!"}},{"$f":"+#REF!","v":{"$error":"#REF!"}},{"$f":"+#REF!","v":{"$error":"#REF!"}},{"$f":"+#REF!","v":{"$error":"#REF!"}},{"$f":"+#REF!","v":{"$error":"#REF!"}},{"$f":"+'TEC1'!B57","v":0},{"$f":"+'TEC1'!C57","v":0},{"$f":"+'TEC1'!D57","v":0},{"$f":"+'TEC1'!E57","v":0}]
[null,{"$f":"+IF(#REF!>=1,#REF!,0)","v":{"$error":"#REF!"}},{"$f":"+IF(#REF!>=1,#REF!,0)","v":{"$error":"#REF!"}},{"$f":"+IF(#REF!>=1,#REF!,0)","v":{"$error":"#REF!"}},{"$f":"+IF(#REF!>=1,#REF!,0)","v":{"$error":"#REF!"}},{"$f":"+#REF!","v":{"$error":"#REF!"}},{"$f":"+#REF!","v":{"$error":"#REF!"}},{"$f":"+#REF!","v":{"$error":"#REF!"}},{"$f":"+#REF!","v":{"$error":"#REF!"}},{"$f":"+#REF!","v":{"$error":"#REF!"}},{"$f":"+#REF!","v":{"$error":"#REF!"}},{"$f":"+#REF!","v":{"$error":"#REF!"}},{"$f":"+#REF!","v":{"$error":"#REF!"}},{"$f":"+#REF!","v":{"$error":"#REF!"}},{"$f":"+#REF!","v":{"$error":"#REF!"}},{"$f":"+#REF!","v":{"$error":"#REF!"}},{"$f":"+#REF!","v":{"$error":"#REF!"}},{"$f":"+#REF!","v":{"$error":"#REF!"}},{"$f":"+#REF!","v":{"$error":"#REF!"}},{"$f":"+#REF!","v":{"$error":"#REF!"}},{"$f":"+#REF!","v":{"$error":"#REF!"}},{"$f":"+'TEC1'!B58","v":0},{"$f":"+'TEC1'!C58","v":0},{"$f":"+'TEC1'!D58","v":0},{"$f":"+'TEC1'!E58","v":0}]
[null,{"$f":"+IF(#REF!>=1,#REF!,0)","v":{"$error":"#REF!"}},{"$f":"+IF(#REF!>=1,#REF!,0)","v":{"$error":"#REF!"}},{"$f":"+IF(#REF!>=1,#REF!,0)","v":{"$error":"#REF!"}},{"$f":"+IF(#REF!>=1,#REF!,0)","v":{"$error":"#REF!"}},{"$f":"+#REF!","v":{"$error":"#REF!"}},{"$f":"+#REF!","v":{"$error":"#REF!"}},{"$f":"+#REF!","v":{"$error":"#REF!"}},{"$f":"+#REF!","v":{"$error":"#REF!"}},{"$f":"+#REF!","v":{"$error":"#REF!"}},{"$f":"+#REF!","v":{"$error":"#REF!"}},{"$f":"+#REF!","v":{"$error":"#REF!"}},{"$f":"+#REF!","v":{"$error":"#REF!"}},{"$f":"+#REF!","v":{"$error":"#REF!"}},{"$f":"+#REF!","v":{"$error":"#REF!"}},{"$f":"+#REF!","v":{"$error":"#REF!"}},{"$f":"+#REF!","v":{"$error":"#REF!"}},{"$f":"+#REF!","v":{"$error":"#REF!"}},{"$f":"+#REF!","v":{"$error":"#REF!"}},{"$f":"+#REF!","v":{"$error":"#REF!"}},{"$f":"+#REF!","v":{"$error":"#REF!"}},{"$f":"+'TEC1'!B59","v":0},{"$f":"+'TEC1'!C59","v":0},{"$f":"+'TEC1'!D59","v":0},{"$f":"+'TEC1'!E59","v":0}]
[null,{"$f":"+IF(#REF!>=1,#REF!,0)","v":{"$error":"#REF!"}},{"$f":"+IF(#REF!>=1,#REF!,0)","v":{"$error":"#REF!"}},{"$f":"+IF(#REF!>=1,#REF!,0)","v":{"$error":"#REF!"}},{"$f":"+IF(#REF!>=1,#REF!,0)","v":{"$error":"#REF!"}},{"$f":"+#REF!","v":{"$error":"#REF!"}},{"$f":"+#REF!","v":{"$error":"#REF!"}},{"$f":"+#REF!","v":{"$error":"#REF!"}},{"$f":"+#REF!","v":{"$error":"#REF!"}},{"$f":"+#REF!","v":{"$error":"#REF!"}},{"$f":"+#REF!","v":{"$error":"#REF!"}},{"$f":"+#REF!","v":{"$error":"#REF!"}},{"$f":"+#REF!","v":{"$error":"#REF!"}},{"$f":"+#REF!","v":{"$error":"#REF!"}},{"$f":"+#REF!","v":{"$error":"#REF!"}},{"$f":"+#REF!","v":{"$error":"#REF!"}},{"$f":"+#REF!","v":{"$error":"#REF!"}},{"$f":"+#REF!","v":{"$error":"#REF!"}},{"$f":"+#REF!","v":{"$error":"#REF!"}},{"$f":"+#REF!","v":{"$error":"#REF!"}},{"$f":"+#REF!","v":{"$error":"#REF!"}},{"$f":"+'TEC1'!B60","v":0},{"$f":"+'TEC1'!C60","v":0},{"$f":"+'TEC1'!D60","v":0},{"$f":"+'TEC1'!E60","v":0}]
[null,{"$f":"+IF(#REF!>=1,#REF!,0)","v":{"$error":"#REF!"}},{"$f":"+IF(#REF!>=1,#REF!,0)","v":{"$error":"#REF!"}},{"$f":"+IF(#REF!>=1,#REF!,0)","v":{"$error":"#REF!"}},{"$f":"+IF(#REF!>=1,#REF!,0)","v":{"$error":"#REF!"}},{"$f":"+#REF!","v":{"$error":"#REF!"}},{"$f":"+#REF!","v":{"$error":"#REF!"}},{"$f":"+#REF!","v":{"$error":"#REF!"}},{"$f":"+#REF!","v":{"$error":"#REF!"}},{"$f":"+#REF!","v":{"$error":"#REF!"}},{"$f":"+#REF!","v":{"$error":"#REF!"}},{"$f":"+#REF!","v":{"$error":"#REF!"}},{"$f":"+#REF!","v":{"$error":"#REF!"}},{"$f":"+#REF!","v":{"$error":"#REF!"}},{"$f":"+#REF!","v":{"$error":"#REF!"}},{"$f":"+#REF!","v":{"$error":"#REF!"}},{"$f":"+#REF!","v":{"$error":"#REF!"}},{"$f":"+#REF!","v":{"$error":"#REF!"}},{"$f":"+#REF!","v":{"$error":"#REF!"}},{"$f":"+#REF!","v":{"$error":"#REF!"}},{"$f":"+#REF!","v":{"$error":"#REF!"}},{"$f":"+'TEC1'!B61","v":0},{"$f":"+'TEC1'!C61","v":0},{"$f":"+'TEC1'!D61","v":0},{"$f":"+'TEC1'!E61","v":0}]
[null,{"$f":"+IF(#REF!>=1,#REF!,0)","v":{"$error":"#REF!"}},{"$f":"+IF(#REF!>=1,#REF!,0)","v":{"$error":"#REF!"}},{"$f":"+IF(#REF!>=1,#REF!,0)","v":{"$error":"#REF!"}},{"$f":"+IF(#REF!>=1,#REF!,0)","v":{"$error":"#REF!"}},{"$f":"+#REF!","v":{"$error":"#REF!"}},{"$f":"+#REF!","v":{"$error":"#REF!"}},{"$f":"+#REF!","v":{"$error":"#REF!"}},{"$f":"+#REF!","v":{"$error":"#REF!"}},{"$f":"+#REF!","v":{"$error":"#REF!"}},{"$f":"+#REF!","v":{"$error":"#REF!"}},{"$f":"+#REF!","v":{"$error":"#REF!"}},{"$f":"+#REF!","v":{"$error":"#REF!"}},{"$f":"+#REF!","v":{"$error":"#REF!"}},{"$f":"+#REF!","v":{"$error":"#REF!"}},{"$f":"+#REF!","v":{"$error":"#REF!"}},{"$f":"+#REF!","v":{"$error":"#REF!"}},{"$f":"+#REF!","v":{"$error":"#REF!"}},{"$f":"+#REF!","v":{"$error":"#REF!"}},{"$f":"+#REF!","v":{"$error":"#REF!"}},{"$f":"+#REF!","v":{"$error":"#REF!"}},{"$f":"+'TEC1'!B62","v":0},{"$f":"+'TEC1'!C62","v":0},{"$f":"+'TEC1'!D62","v":0},{"$f":"+'TEC1'!E62","v":0}]
[null,{"$f":"+IF(#REF!>=1,#REF!,0)","v":{"$error":"#REF!"}},{"$f":"+IF(#REF!>=1,#REF!,0)","v":{"$error":"#REF!"}},{"$f":"+IF(#REF!>=1,#REF!,0)","v":{"$error":"#REF!"}},{"$f":"+IF(#REF!>=1,#REF!,0)","v":{"$error":"#REF!"}},{"$f":"+#REF!","v":{"$error":"#REF!"}},{"$f":"+#REF!","v":{"$error":"#REF!"}},{"$f":"+#REF!","v":{"$error":"#REF!"}},{"$f":"+#REF!","v":{"$error":"#REF!"}},{"$f":"+#REF!","v":{"$error":"#REF!"}},{"$f":"+#REF!","v":{"$error":"#REF!"}},{"$f":"+#REF!","v":{"$error":"#REF!"}},{"$f":"+#REF!","v":{"$error":"#REF!"}},{"$f":"+#REF!","v":{"$error":"#REF!"}},{"$f":"+#REF!","v":{"$error":"#REF!"}},{"$f":"+#REF!","v":{"$error":"#REF!"}},{"$f":"+#REF!","v":{"$error":"#REF!"}},{"$f":"+#REF!","v":{"$error":"#REF!"}},{"$f":"+#REF!","v":{"$error":"#REF!"}},{"$f":"+#REF!","v":{"$error":"#REF!"}},{"$f":"+#REF!","v":{"$error":"#REF!"}},{"$f":"+'TEC1'!B63","v":0},{"$f":"+'TEC1'!C63","v":0},{"$f":"+'TEC1'!D63","v":0},{"$f":"+'TEC1'!E63","v":0}]
[null,{"$f":"+IF(#REF!>=1,#REF!,0)","v":{"$error":"#REF!"}},{"$f":"+IF(#REF!>=1,#REF!,0)","v":{"$error":"#REF!"}},{"$f":"+IF(#REF!>=1,#REF!,0)","v":{"$error":"#REF!"}},{"$f":"+IF(#REF!>=1,#REF!,0)","v":{"$error":"#REF!"}},{"$f":"+#REF!","v":{"$error":"#REF!"}},{"$f":"+#REF!","v":{"$error":"#REF!"}},{"$f":"+#REF!","v":{"$error":"#REF!"}},{"$f":"+#REF!","v":{"$error":"#REF!"}},{"$f":"+#REF!","v":{"$error":"#REF!"}},{"$f":"+#REF!","v":{"$error":"#REF!"}},{"$f":"+#REF!","v":{"$error":"#REF!"}},{"$f":"+#REF!","v":{"$error":"#REF!"}},{"$f":"+#REF!","v":{"$error":"#REF!"}},{"$f":"+#REF!","v":{"$error":"#REF!"}},{"$f":"+#REF!","v":{"$error":"#REF!"}},{"$f":"+#REF!","v":{"$error":"#REF!"}},{"$f":"+#REF!","v":{"$error":"#REF!"}},{"$f":"+#REF!","v":{"$error":"#REF!"}},{"$f":"+#REF!","v":{"$error":"#REF!"}},{"$f":"+#REF!","v":{"$error":"#REF!"}},{"$f":"+'TEC1'!B64","v":0},{"$f":"+'TEC1'!C64","v":0},{"$f":"+'TEC1'!D64","v":0},{"$f":"+'TEC1'!E64","v":0}]
[null,{"$f":"+IF(#REF!>=1,#REF!,0)","v":{"$error":"#REF!"}},{"$f":"+IF(#REF!>=1,#REF!,0)","v":{"$error":"#REF!"}},{"$f":"+IF(#REF!>=1,#REF!,0)","v":{"$error":"#REF!"}},{"$f":"+IF(#REF!>=1,#REF!,0)","v":{"$error":"#REF!"}},{"$f":"+#REF!","v":{"$error":"#REF!"}},{"$f":"+#REF!","v":{"$error":"#REF!"}},{"$f":"+#REF!","v":{"$error":"#REF!"}},{"$f":"+#REF!","v":{"$error":"#REF!"}},{"$f":"+#REF!","v":{"$error":"#REF!"}},{"$f":"+#REF!","v":{"$error":"#REF!"}},{"$f":"+#REF!","v":{"$error":"#REF!"}},{"$f":"+#REF!","v":{"$error":"#REF!"}},{"$f":"+#REF!","v":{"$error":"#REF!"}},{"$f":"+#REF!","v":{"$error":"#REF!"}},{"$f":"+#REF!","v":{"$error":"#REF!"}},{"$f":"+#REF!","v":{"$error":"#REF!"}},{"$f":"+#REF!","v":{"$error":"#REF!"}},{"$f":"+#REF!","v":{"$error":"#REF!"}},{"$f":"+#REF!","v":{"$error":"#REF!"}},{"$f":"+#REF!","v":{"$error":"#REF!"}},{"$f":"+'TEC1'!B65","v":0},{"$f":"+'TEC1'!C65","v":0},{"$f":"+'TEC1'!D65","v":0},{"$f":"+'TEC1'!E65","v":0}]
[null,{"$f":"+IF(#REF!>=1,#REF!,0)","v":{"$error":"#REF!"}},{"$f":"+IF(#REF!>=1,#REF!,0)","v":{"$error":"#REF!"}},{"$f":"+IF(#REF!>=1,#REF!,0)","v":{"$error":"#REF!"}},{"$f":"+IF(#REF!>=1,#REF!,0)","v":{"$error":"#REF!"}},{"$f":"+#REF!","v":{"$error":"#REF!"}},{"$f":"+#REF!","v":{"$error":"#REF!"}},{"$f":"+#REF!","v":{"$error":"#REF!"}},{"$f":"+#REF!","v":{"$error":"#REF!"}},{"$f":"+#REF!","v":{"$error":"#REF!"}},{"$f":"+#REF!","v":{"$error":"#REF!"}},{"$f":"+#REF!","v":{"$error":"#REF!"}},{"$f":"+#REF!","v":{"$error":"#REF!"}},{"$f":"+#REF!","v":{"$error":"#REF!"}},{"$f":"+#REF!","v":{"$error":"#REF!"}},{"$f":"+#REF!","v":{"$error":"#REF!"}},{"$f":"+#REF!","v":{"$error":"#REF!"}},{"$f":"+#REF!","v":{"$error":"#REF!"}},{"$f":"+#REF!","v":{"$error":"#REF!"}},{"$f":"+#REF!","v":{"$error":"#REF!"}},{"$f":"+#REF!","v":{"$error":"#REF!"}},{"$f":"+'TEC1'!B66","v":0},{"$f":"+'TEC1'!C66","v":0},{"$f":"+'TEC1'!D66","v":0},{"$f":"+'TEC1'!E66","v":0}]
[null,{"$f":"+IF(#REF!>=1,#REF!,0)","v":{"$error":"#REF!"}},{"$f":"+IF(#REF!>=1,#REF!,0)","v":{"$error":"#REF!"}},{"$f":"+IF(#REF!>=1,#REF!,0)","v":{"$error":"#REF!"}},{"$f":"+IF(#REF!>=1,#REF!,0)","v":{"$error":"#REF!"}},{"$f":"+#REF!","v":{"$error":"#REF!"}},{"$f":"+#REF!","v":{"$error":"#REF!"}},{"$f":"+#REF!","v":{"$error":"#REF!"}},{"$f":"+#REF!","v":{"$error":"#REF!"}},{"$f":"+#REF!","v":{"$error":"#REF!"}},{"$f":"+#REF!","v":{"$error":"#REF!"}},{"$f":"+#REF!","v":{"$error":"#REF!"}},{"$f":"+#REF!","v":{"$error":"#REF!"}},{"$f":"+#REF!","v":{"$error":"#REF!"}},{"$f":"+#REF!","v":{"$error":"#REF!"}},{"$f":"+#REF!","v":{"$error":"#REF!"}},{"$f":"+#REF!","v":{"$error":"#REF!"}},{"$f":"+#REF!","v":{"$error":"#REF!"}},{"$f":"+#REF!","v":{"$error":"#REF!"}},{"$f":"+#REF!","v":{"$error":"#REF!"}},{"$f":"+#REF!","v":{"$error":"#REF!"}},{"$f":"+'TEC1'!B67","v":0},{"$f":"+'TEC1'!C67","v":0},{"$f":"+'TEC1'!D67","v":0},{"$f":"+'TEC1'!E67","v":0}]
[null,{"$f":"+IF(#REF!>=1,#REF!,0)","v":{"$error":"#REF!"}},{"$f":"+IF(#REF!>=1,#REF!,0)","v":{"$error":"#REF!"}},{"$f":"+IF(#REF!>=1,#REF!,0)","v":{"$error":"#REF!"}},{"$f":"+IF(#REF!>=1,#REF!,0)","v":{"$error":"#REF!"}},{"$f":"+#REF!","v":{"$error":"#REF!"}},{"$f":"+#REF!","v":{"$error":"#REF!"}},{"$f":"+#REF!","v":{"$error":"#REF!"}},{"$f":"+#REF!","v":{"$error":"#REF!"}},{"$f":"+#REF!","v":{"$error":"#REF!"}},{"$f":"+#REF!","v":{"$error":"#REF!"}},{"$f":"+#REF!","v":{"$error":"#REF!"}},{"$f":"+#REF!","v":{"$error":"#REF!"}},{"$f":"+#REF!","v":{"$error":"#REF!"}},{"$f":"+#REF!","v":{"$error":"#REF!"}},{"$f":"+#REF!","v":{"$error":"#REF!"}},{"$f":"+#REF!","v":{"$error":"#REF!"}},{"$f":"+#REF!","v":{"$error":"#REF!"}},{"$f":"+#REF!","v":{"$error":"#REF!"}},{"$f":"+#REF!","v":{"$error":"#REF!"}},{"$f":"+#REF!","v":{"$error":"#REF!"}},{"$f":"+'TEC1'!B68","v":0},{"$f":"+'TEC1'!C68","v":0},{"$f":"+'TEC1'!D68","v":0},{"$f":"+'TEC1'!E68","v":0}]
[null,{"$f":"+IF(#REF!>=1,#REF!,0)","v":{"$error":"#REF!"}},{"$f":"+IF(#REF!>=1,#REF!,0)","v":{"$error":"#REF!"}},{"$f":"+IF(#REF!>=1,#REF!,0)","v":{"$error":"#REF!"}},{"$f":"+IF(#REF!>=1,#REF!,0)","v":{"$error":"#REF!"}},{"$f":"+#REF!","v":{"$error":"#REF!"}},{"$f":"+#REF!","v":{"$error":"#REF!"}},{"$f":"+#REF!","v":{"$error":"#REF!"}},{"$f":"+#REF!","v":{"$error":"#REF!"}},{"$f":"+#REF!","v":{"$error":"#REF!"}},{"$f":"+#REF!","v":{"$error":"#REF!"}},{"$f":"+#REF!","v":{"$error":"#REF!"}},{"$f":"+#REF!","v":{"$error":"#REF!"}},{"$f":"+#REF!","v":{"$error":"#REF!"}},{"$f":"+#REF!","v":{"$error":"#REF!"}},{"$f":"+#REF!","v":{"$error":"#REF!"}},{"$f":"+#REF!","v":{"$error":"#REF!"}},{"$f":"+#REF!","v":{"$error":"#REF!"}},{"$f":"+#REF!","v":{"$error":"#REF!"}},{"$f":"+#REF!","v":{"$error":"#REF!"}},{"$f":"+#REF!","v":{"$error":"#REF!"}},{"$f":"+'TEC1'!B69","v":0},{"$f":"+'TEC1'!C69","v":0},{"$f":"+'TEC1'!D69","v":0},{"$f":"+'TEC1'!E69","v":0}]
[null,{"$f":"+IF(#REF!>=1,#REF!,0)","v":{"$error":"#REF!"}},{"$f":"+IF(#REF!>=1,#REF!,0)","v":{"$error":"#REF!"}},{"$f":"+IF(#REF!>=1,#REF!,0)","v":{"$error":"#REF!"}},{"$f":"+IF(#REF!>=1,#REF!,0)","v":{"$error":"#REF!"}},{"$f":"+#REF!","v":{"$error":"#REF!"}},{"$f":"+#REF!","v":{"$error":"#REF!"}},{"$f":"+#REF!","v":{"$error":"#REF!"}},{"$f":"+#REF!","v":{"$error":"#REF!"}},{"$f":"+#REF!","v":{"$error":"#REF!"}},{"$f":"+#REF!","v":{"$error":"#REF!"}},{"$f":"+#REF!","v":{"$error":"#REF!"}},{"$f":"+#REF!","v":{"$error":"#REF!"}},{"$f":"+#REF!","v":{"$error":"#REF!"}},{"$f":"+#REF!","v":{"$error":"#REF!"}},{"$f":"+#REF!","v":{"$error":"#REF!"}},{"$f":"+#REF!","v":{"$error":"#REF!"}},{"$f":"+#REF!","v":{"$error":"#REF!"}},{"$f":"+#REF!","v":{"$error":"#REF!"}},{"$f":"+#REF!","v":{"$error":"#REF!"}},{"$f":"+#REF!","v":{"$error":"#REF!"}},{"$f":"+'TEC1'!B70","v":0},{"$f":"+'TEC1'!C70","v":0},{"$f":"+'TEC1'!D70","v":0},{"$f":"+'TEC1'!E70","v":0}]
[null,{"$f":"+IF(#REF!>=1,#REF!,0)","v":{"$error":"#REF!"}},{"$f":"+IF(#REF!>=1,#REF!,0)","v":{"$error":"#REF!"}},{"$f":"+IF(#REF!>=1,#REF!,0)","v":{"$error":"#REF!"}},{"$f":"+IF(#REF!>=1,#REF!,0)","v":{"$error":"#REF!"}},{"$f":"+#REF!","v":{"$error":"#REF!"}},{"$f":"+#REF!","v":{"$error":"#REF!"}},{"$f":"+#REF!","v":{"$error":"#REF!"}},{"$f":"+#REF!","v":{"$error":"#REF!"}},{"$f":"+#REF!","v":{"$error":"#REF!"}},{"$f":"+#REF!","v":{"$error":"#REF!"}},{"$f":"+#REF!","v":{"$error":"#REF!"}},{"$f":"+#REF!","v":{"$error":"#REF!"}},{"$f":"+#REF!","v":{"$error":"#REF!"}},{"$f":"+#REF!","v":{"$error":"#REF!"}},{"$f":"+#REF!","v":{"$error":"#REF!"}},{"$f":"+#REF!","v":{"$error":"#REF!"}},{"$f":"+#REF!","v":{"$error":"#REF!"}},{"$f":"+#REF!","v":{"$error":"#REF!"}},{"$f":"+#REF!","v":{"$error":"#REF!"}},{"$f":"+#REF!","v":{"$error":"#REF!"}},{"$f":"+'TEC1'!B71","v":0},{"$f":"+'TEC1'!C71","v":0},{"$f":"+'TEC1'!D71","v":0},{"$f":"+'TEC1'!E71","v":0}]
[null,{"$f":"+IF(#REF!>=1,#REF!,0)","v":{"$error":"#REF!"}},{"$f":"+IF(#REF!>=1,#REF!,0)","v":{"$error":"#REF!"}},{"$f":"+IF(#REF!>=1,#REF!,0)","v":{"$error":"#REF!"}},{"$f":"+IF(#REF!>=1,#REF!,0)","v":{"$error":"#REF!"}},{"$f":"+#REF!","v":{"$error":"#REF!"}},{"$f":"+#REF!","v":{"$error":"#REF!"}},{"$f":"+#REF!","v":{"$error":"#REF!"}},{"$f":"+#REF!","v":{"$error":"#REF!"}},{"$f":"+#REF!","v":{"$error":"#REF!"}},{"$f":"+#REF!","v":{"$error":"#REF!"}},{"$f":"+#REF!","v":{"$error":"#REF!"}},{"$f":"+#REF!","v":{"$error":"#REF!"}},{"$f":"+#REF!","v":{"$error":"#REF!"}},{"$f":"+#REF!","v":{"$error":"#REF!"}},{"$f":"+#REF!","v":{"$error":"#REF!"}},{"$f":"+#REF!","v":{"$error":"#REF!"}},{"$f":"+#REF!","v":{"$error":"#REF!"}},{"$f":"+#REF!","v":{"$error":"#REF!"}},{"$f":"+#REF!","v":{"$error":"#REF!"}},{"$f":"+#REF!","v":{"$error":"#REF!"}},{"$f":"+'TEC1'!B72","v":0},{"$f":"+'TEC1'!C72","v":0},{"$f":"+'TEC1'!D72","v":0},{"$f":"+'TEC1'!E72","v":0}]
[null,{"$f":"+IF(#REF!>=1,#REF!,0)","v":{"$error":"#REF!"}},{"$f":"+IF(#REF!>=1,#REF!,0)","v":{"$error":"#REF!"}},{"$f":"+IF(#REF!>=1,#REF!,0)","v":{"$error":"#REF!"}},{"$f":"+IF(#REF!>=1,#REF!,0)","v":{"$error":"#REF!"}},{"$f":"+#REF!","v":{"$error":"#REF!"}},{"$f":"+#REF!","v":{"$error":"#REF!"}},{"$f":"+#REF!","v":{"$error":"#REF!"}},{"$f":"+#REF!","v":{"$error":"#REF!"}},{"$f":"+#REF!","v":{"$error":"#REF!"}},{"$f":"+#REF!","v":{"$error":"#REF!"}},{"$f":"+#REF!","v":{"$error":"#REF!"}},{"$f":"+#REF!","v":{"$error":"#REF!"}},{"$f":"+#REF!","v":{"$error":"#REF!"}},{"$f":"+#REF!","v":{"$error":"#REF!"}},{"$f":"+#REF!","v":{"$error":"#REF!"}},{"$f":"+#REF!","v":{"$error":"#REF!"}},{"$f":"+#REF!","v":{"$error":"#REF!"}},{"$f":"+#REF!","v":{"$error":"#REF!"}},{"$f":"+#REF!","v":{"$error":"#REF!"}},{"$f":"+#REF!","v":{"$error":"#REF!"}},{"$f":"+'TEC1'!B73","v":0},{"$f":"+'TEC1'!C73","v":0},{"$f":"+'TEC1'!D73","v":0},{"$f":"+'TEC1'!E73","v":0}]
[null,{"$f":"+IF(#REF!>=1,#REF!,0)","v":{"$error":"#REF!"}},{"$f":"+IF(#REF!>=1,#REF!,0)","v":{"$error":"#REF!"}},{"$f":"+IF(#REF!>=1,#REF!,0)","v":{"$error":"#REF!"}},{"$f":"+IF(#REF!>=1,#REF!,0)","v":{"$error":"#REF!"}},{"$f":"+#REF!","v":{"$error":"#REF!"}},{"$f":"+#REF!","v":{"$error":"#REF!"}},{"$f":"+#REF!","v":{"$error":"#REF!"}},{"$f":"+#REF!","v":{"$error":"#REF!"}},{"$f":"+#REF!","v":{"$error":"#REF!"}},{"$f":"+#REF!","v":{"$error":"#REF!"}},{"$f":"+#REF!","v":{"$error":"#REF!"}},{"$f":"+#REF!","v":{"$error":"#REF!"}},{"$f":"+#REF!","v":{"$error":"#REF!"}},{"$f":"+#REF!","v":{"$error":"#REF!"}},{"$f":"+#REF!","v":{"$error":"#REF!"}},{"$f":"+#REF!","v":{"$error":"#REF!"}},{"$f":"+#REF!","v":{"$error":"#REF!"}},{"$f":"+#REF!","v":{"$error":"#REF!"}},{"$f":"+#REF!","v":{"$error":"#REF!"}},{"$f":"+#REF!","v":{"$error":"#REF!"}},{"$f":"+'TEC1'!B74","v":0},{"$f":"+'TEC1'!C74","v":0},{"$f":"+'TEC1'!D74","v":0},{"$f":"+'TEC1'!E74","v":0}]
[null,{"$f":"+IF(#REF!>=1,#REF!,0)","v":{"$error":"#REF!"}},{"$f":"+IF(#REF!>=1,#REF!,0)","v":{"$error":"#REF!"}},{"$f":"+IF(#REF!>=1,#REF!,0)","v":{"$error":"#REF!"}},{"$f":"+IF(#REF!>=1,#REF!,0)","v":{"$error":"#REF!"}},{"$f":"+#REF!","v":{"$error":"#REF!"}},{"$f":"+#REF!","v":{"$error":"#REF!"}},{"$f":"+#REF!","v":{"$error":"#REF!"}},{"$f":"+#REF!","v":{"$error":"#REF!"}},{"$f":"+#REF!","v":{"$error":"#REF!"}},{"$f":"+#REF!","v":{"$error":"#REF!"}},{"$f":"+#REF!","v":{"$error":"#REF!"}},{"$f":"+#REF!","v":{"$error":"#REF!"}},{"$f":"+#REF!","v":{"$error":"#REF!"}},{"$f":"+#REF!","v":{"$error":"#REF!"}},{"$f":"+#REF!","v":{"$error":"#REF!"}},{"$f":"+#REF!","v":{"$error":"#REF!"}},{"$f":"+#REF!","v":{"$error":"#REF!"}},{"$f":"+#REF!","v":{"$error":"#REF!"}},{"$f":"+#REF!","v":{"$error":"#REF!"}},{"$f":"+#REF!","v":{"$error":"#REF!"}},{"$f":"+'TEC1'!B75","v":0},{"$f":"+'TEC1'!C75","v":0},{"$f":"+'TEC1'!D75","v":0},{"$f":"+'TEC1'!E75","v":0}]
[null,{"$f":"+IF(#REF!>=1,#REF!,0)","v":{"$error":"#REF!"}},{"$f":"+IF(#REF!>=1,#REF!,0)","v":{"$error":"#REF!"}},{"$f":"+IF(#REF!>=1,#REF!,0)","v":{"$error":"#REF!"}},{"$f":"+IF(#REF!>=1,#REF!,0)","v":{"$error":"#REF!"}},{"$f":"+#REF!","v":{"$error":"#REF!"}},{"$f":"+#REF!","v":{"$error":"#REF!"}},{"$f":"+#REF!","v":{"$error":"#REF!"}},{"$f":"+#REF!","v":{"$error":"#REF!"}},{"$f":"+#REF!","v":{"$error":"#REF!"}},{"$f":"+#REF!","v":{"$error":"#REF!"}},{"$f":"+#REF!","v":{"$error":"#REF!"}},{"$f":"+#REF!","v":{"$error":"#REF!"}},{"$f":"+#REF!","v":{"$error":"#REF!"}},{"$f":"+#REF!","v":{"$error":"#REF!"}},{"$f":"+#REF!","v":{"$error":"#REF!"}},{"$f":"+#REF!","v":{"$error":"#REF!"}},{"$f":"+#REF!","v":{"$error":"#REF!"}},{"$f":"+#REF!","v":{"$error":"#REF!"}},{"$f":"+#REF!","v":{"$error":"#REF!"}},{"$f":"+#REF!","v":{"$error":"#REF!"}},{"$f":"+'TEC1'!B76","v":0},{"$f":"+'TEC1'!C76","v":0},{"$f":"+'TEC1'!D76","v":0},{"$f":"+'TEC1'!E76","v":0}]
[null,{"$f":"+IF(#REF!>=1,#REF!,0)","v":{"$error":"#REF!"}},{"$f":"+IF(#REF!>=1,#REF!,0)","v":{"$error":"#REF!"}},{"$f":"+IF(#REF!>=1,#REF!,0)","v":{"$error":"#REF!"}},{"$f":"+IF(#REF!>=1,#REF!,0)","v":{"$error":"#REF!"}},{"$f":"+#REF!","v":{"$error":"#REF!"}},{"$f":"+#REF!","v":{"$error":"#REF!"}},{"$f":"+#REF!","v":{"$error":"#REF!"}},{"$f":"+#REF!","v":{"$error":"#REF!"}},{"$f":"+#REF!","v":{"$error":"#REF!"}},{"$f":"+#REF!","v":{"$error":"#REF!"}},{"$f":"+#REF!","v":{"$error":"#REF!"}},{"$f":"+#REF!","v":{"$error":"#REF!"}},{"$f":"+#REF!","v":{"$error":"#REF!"}},{"$f":"+#REF!","v":{"$error":"#REF!"}},{"$f":"+#REF!","v":{"$error":"#REF!"}},{"$f":"+#REF!","v":{"$error":"#REF!"}},{"$f":"+#REF!","v":{"$error":"#REF!"}},{"$f":"+#REF!","v":{"$error":"#REF!"}},{"$f":"+#REF!","v":{"$error":"#REF!"}},{"$f":"+#REF!","v":{"$error":"#REF!"}},{"$f":"+'TEC1'!B77","v":0},{"$f":"+'TEC1'!C77","v":0},{"$f":"+'TEC1'!D77","v":0},{"$f":"+'TEC1'!E77","v":0}]
[null,{"$f":"+IF(#REF!>=1,#REF!,0)","v":{"$error":"#REF!"}},{"$f":"+IF(#REF!>=1,#REF!,0)","v":{"$error":"#REF!"}},{"$f":"+IF(#REF!>=1,#REF!,0)","v":{"$error":"#REF!"}},{"$f":"+IF(#REF!>=1,#REF!,0)","v":{"$error":"#REF!"}},{"$f":"+#REF!","v":{"$error":"#REF!"}},{"$f":"+#REF!","v":{"$error":"#REF!"}},{"$f":"+#REF!","v":{"$error":"#REF!"}},{"$f":"+#REF!","v":{"$error":"#REF!"}},{"$f":"+#REF!","v":{"$error":"#REF!"}},{"$f":"+#REF!","v":{"$error":"#REF!"}},{"$f":"+#REF!","v":{"$error":"#REF!"}},{"$f":"+#REF!","v":{"$error":"#REF!"}},{"$f":"+#REF!","v":{"$error":"#REF!"}},{"$f":"+#REF!","v":{"$error":"#REF!"}},{"$f":"+#REF!","v":{"$error":"#REF!"}},{"$f":"+#REF!","v":{"$error":"#REF!"}},{"$f":"+#REF!","v":{"$error":"#REF!"}},{"$f":"+#REF!","v":{"$error":"#REF!"}},{"$f":"+#REF!","v":{"$error":"#REF!"}},{"$f":"+#REF!","v":{"$error":"#REF!"}},{"$f":"+'TEC1'!B78","v":0},{"$f":"+'TEC1'!C78","v":0},{"$f":"+'TEC1'!D78","v":0},{"$f":"+'TEC1'!E78","v":0}]
[null,{"$f":"+IF(#REF!>=1,#REF!,0)","v":{"$error":"#REF!"}},{"$f":"+IF(#REF!>=1,#REF!,0)","v":{"$error":"#REF!"}},{"$f":"+IF(#REF!>=1,#REF!,0)","v":{"$error":"#REF!"}},{"$f":"+IF(#REF!>=1,#REF!,0)","v":{"$error":"#REF!"}},{"$f":"+#REF!","v":{"$error":"#REF!"}},{"$f":"+#REF!","v":{"$error":"#REF!"}},{"$f":"+#REF!","v":{"$error":"#REF!"}},{"$f":"+#REF!","v":{"$error":"#REF!"}},{"$f":"+#REF!","v":{"$error":"#REF!"}},{"$f":"+#REF!","v":{"$error":"#REF!"}},{"$f":"+#REF!","v":{"$error":"#REF!"}},{"$f":"+#REF!","v":{"$error":"#REF!"}},{"$f":"+#REF!","v":{"$error":"#REF!"}},{"$f":"+#REF!","v":{"$error":"#REF!"}},{"$f":"+#REF!","v":{"$error":"#REF!"}},{"$f":"+#REF!","v":{"$error":"#REF!"}},{"$f":"+#REF!","v":{"$error":"#REF!"}},{"$f":"+#REF!","v":{"$error":"#REF!"}},{"$f":"+#REF!","v":{"$error":"#REF!"}},{"$f":"+#REF!","v":{"$error":"#REF!"}},{"$f":"+'TEC1'!B79","v":0},{"$f":"+'TEC1'!C79","v":0},{"$f":"+'TEC1'!D79","v":0},{"$f":"+'TEC1'!E79","v":0}]
[null,{"$f":"+IF(#REF!>=1,#REF!,0)","v":{"$error":"#REF!"}},{"$f":"+IF(#REF!>=1,#REF!,0)","v":{"$error":"#REF!"}},{"$f":"+IF(#REF!>=1,#REF!,0)","v":{"$error":"#REF!"}},{"$f":"+IF(#REF!>=1,#REF!,0)","v":{"$error":"#REF!"}},{"$f":"+#REF!","v":{"$error":"#REF!"}},{"$f":"+#REF!","v":{"$error":"#REF!"}},{"$f":"+#REF!","v":{"$error":"#REF!"}},{"$f":"+#REF!","v":{"$error":"#REF!"}},{"$f":"+#REF!","v":{"$error":"#REF!"}},{"$f":"+#REF!","v":{"$error":"#REF!"}},{"$f":"+#REF!","v":{"$error":"#REF!"}},{"$f":"+#REF!","v":{"$error":"#REF!"}},{"$f":"+#REF!","v":{"$error":"#REF!"}},{"$f":"+#REF!","v":{"$error":"#REF!"}},{"$f":"+#REF!","v":{"$error":"#REF!"}},{"$f":"+#REF!","v":{"$error":"#REF!"}},{"$f":"+#REF!","v":{"$error":"#REF!"}},{"$f":"+#REF!","v":{"$error":"#REF!"}},{"$f":"+#REF!","v":{"$error":"#REF!"}},{"$f":"+#REF!","v":{"$error":"#REF!"}},{"$f":"+'TEC1'!B80","v":0},{"$f":"+'TEC1'!C80","v":0},{"$f":"+'TEC1'!D80","v":0},{"$f":"+'TEC1'!E80","v":0}]
[null,{"$f":"+IF(#REF!>=1,#REF!,0)","v":{"$error":"#REF!"}},{"$f":"+IF(#REF!>=1,#REF!,0)","v":{"$error":"#REF!"}},{"$f":"+IF(#REF!>=1,#REF!,0)","v":{"$error":"#REF!"}},{"$f":"+IF(#REF!>=1,#REF!,0)","v":{"$error":"#REF!"}},{"$f":"+#REF!","v":{"$error":"#REF!"}},{"$f":"+#REF!","v":{"$error":"#REF!"}},{"$f":"+#REF!","v":{"$error":"#REF!"}},{"$f":"+#REF!","v":{"$error":"#REF!"}},{"$f":"+#REF!","v":{"$error":"#REF!"}},{"$f":"+#REF!","v":{"$error":"#REF!"}},{"$f":"+#REF!","v":{"$error":"#REF!"}},{"$f":"+#REF!","v":{"$error":"#REF!"}},{"$f":"+#REF!","v":{"$error":"#REF!"}},{"$f":"+#REF!","v":{"$error":"#REF!"}},{"$f":"+#REF!","v":{"$error":"#REF!"}},{"$f":"+#REF!","v":{"$error":"#REF!"}},{"$f":"+#REF!","v":{"$error":"#REF!"}},{"$f":"+#REF!","v":{"$error":"#REF!"}},{"$f":"+#REF!","v":{"$error":"#REF!"}},{"$f":"+#REF!","v":{"$error":"#REF!"}},{"$f":"+'TEC1'!B81","v":0},{"$f":"+'TEC1'!C81","v":0},{"$f":"+'TEC1'!D81","v":0},{"$f":"+'TEC1'!E81","v":0}]
[null,{"$f":"+IF(#REF!>=1,#REF!,0)","v":{"$error":"#REF!"}},{"$f":"+IF(#REF!>=1,#REF!,0)","v":{"$error":"#REF!"}},{"$f":"+IF(#REF!>=1,#REF!,0)","v":{"$error":"#REF!"}},{"$f":"+IF(#REF!>=1,#REF!,0)","v":{"$error":"#REF!"}},{"$f":"+#REF!","v":{"$error":"#REF!"}},{"$f":"+#REF!","v":{"$error":"#REF!"}},{"$f":"+#REF!","v":{"$error":"#REF!"}},{"$f":"+#REF!","v":{"$error":"#REF!"}},{"$f":"+#REF!","v":{"$error":"#REF!"}},{"$f":"+#REF!","v":{"$error":"#REF!"}},{"$f":"+#REF!","v":{"$error":"#REF!"}},{"$f":"+#REF!","v":{"$error":"#REF!"}},{"$f":"+#REF!","v":{"$error":"#REF!"}},{"$f":"+#REF!","v":{"$error":"#REF!"}},{"$f":"+#REF!","v":{"$error":"#REF!"}},{"$f":"+#REF!","v":{"$error":"#REF!"}},{"$f":"+#REF!","v":{"$error":"#REF!"}},{"$f":"+#REF!","v":{"$error":"#REF!"}},{"$f":"+#REF!","v":{"$error":"#REF!"}},{"$f":"+#REF!","v":{"$error":"#REF!"}},{"$f":"+'TEC1'!B82","v":0},{"$f":"+'TEC1'!C82","v":0},{"$f":"+'TEC1'!D82","v":0},{"$f":"+'TEC1'!E82","v":0}]
[null,{"$f":"+IF(#REF!>=1,#REF!,0)","v":{"$error":"#REF!"}},{"$f":"+IF(#REF!>=1,#REF!,0)","v":{"$error":"#REF!"}},{"$f":"+IF(#REF!>=1,#REF!,0)","v":{"$error":"#REF!"}},{"$f":"+IF(#REF!>=1,#REF!,0)","v":{"$error":"#REF!"}},{"$f":"+#REF!","v":{"$error":"#REF!"}},{"$f":"+#REF!","v":{"$error":"#REF!"}},{"$f":"+#REF!","v":{"$error":"#REF!"}},{"$f":"+#REF!","v":{"$error":"#REF!"}},{"$f":"+#REF!","v":{"$error":"#REF!"}},{"$f":"+#REF!","v":{"$error":"#REF!"}},{"$f":"+#REF!","v":{"$error":"#REF!"}},{"$f":"+#REF!","v":{"$error":"#REF!"}},{"$f":"+#REF!","v":{"$error":"#REF!"}},{"$f":"+#REF!","v":{"$error":"#REF!"}},{"$f":"+#REF!","v":{"$error":"#REF!"}},{"$f":"+#REF!","v":{"$error":"#REF!"}},{"$f":"+#REF!","v":{"$error":"#REF!"}},{"$f":"+#REF!","v":{"$error":"#REF!"}},{"$f":"+#REF!","v":{"$error":"#REF!"}},{"$f":"+#REF!","v":{"$error":"#REF!"}},{"$f":"+'TEC1'!B83","v":0},{"$f":"+'TEC1'!C83","v":0},{"$f":"+'TEC1'!D83","v":0},{"$f":"+'TEC1'!E83","v":0}]
[null,{"$f":"+IF(#REF!>=1,#REF!,0)","v":{"$error":"#REF!"}},{"$f":"+IF(#REF!>=1,#REF!,0)","v":{"$error":"#REF!"}},{"$f":"+IF(#REF!>=1,#REF!,0)","v":{"$error":"#REF!"}},{"$f":"+IF(#REF!>=1,#REF!,0)","v":{"$error":"#REF!"}},{"$f":"+#REF!","v":{"$error":"#REF!"}},{"$f":"+#REF!","v":{"$error":"#REF!"}},{"$f":"+#REF!","v":{"$error":"#REF!"}},{"$f":"+#REF!","v":{"$error":"#REF!"}},{"$f":"+#REF!","v":{"$error":"#REF!"}},{"$f":"+#REF!","v":{"$error":"#REF!"}},{"$f":"+#REF!","v":{"$error":"#REF!"}},{"$f":"+#REF!","v":{"$error":"#REF!"}},{"$f":"+#REF!","v":{"$error":"#REF!"}},{"$f":"+#REF!","v":{"$error":"#REF!"}},{"$f":"+#REF!","v":{"$error":"#REF!"}},{"$f":"+#REF!","v":{"$error":"#REF!"}},{"$f":"+#REF!","v":{"$error":"#REF!"}},{"$f":"+#REF!","v":{"$error":"#REF!"}},{"$f":"+#REF!","v":{"$error":"#REF!"}},{"$f":"+#REF!","v":{"$error":"#REF!"}},{"$f":"+'TEC1'!B84","v":0},{"$f":"+'TEC1'!C84","v":0},{"$f":"+'TEC1'!D84","v":0},{"$f":"+'TEC1'!E84","v":0}]
[null,{"$f":"+IF(#REF!>=1,#REF!,0)","v":{"$error":"#REF!"}},{"$f":"+IF(#REF!>=1,#REF!,0)","v":{"$error":"#REF!"}},{"$f":"+IF(#REF!>=1,#REF!,0)","v":{"$error":"#REF!"}},{"$f":"+IF(#REF!>=1,#REF!,0)","v":{"$error":"#REF!"}},{"$f":"+#REF!","v":{"$error":"#REF!"}},{"$f":"+#REF!","v":{"$error":"#REF!"}},{"$f":"+#REF!","v":{"$error":"#REF!"}},{"$f":"+#REF!","v":{"$error":"#REF!"}},{"$f":"+#REF!","v":{"$error":"#REF!"}},{"$f":"+#REF!","v":{"$error":"#REF!"}},{"$f":"+#REF!","v":{"$error":"#REF!"}},{"$f":"+#REF!","v":{"$error":"#REF!"}},{"$f":"+#REF!","v":{"$error":"#REF!"}},{"$f":"+#REF!","v":{"$error":"#REF!"}},{"$f":"+#REF!","v":{"$error":"#REF!"}},{"$f":"+#REF!","v":{"$error":"#REF!"}},{"$f":"+#REF!","v":{"$error":"#REF!"}},{"$f":"+#REF!","v":{"$error":"#REF!"}},{"$f":"+#REF!","v":{"$error":"#REF!"}},{"$f":"+#REF!","v":{"$error":"#REF!"}},{"$f":"+'TEC1'!B85","v":0},{"$f":"+'TEC1'!C85","v":0},{"$f":"+'TEC1'!D85","v":0},{"$f":"+'TEC1'!E85","v":0}]
[null,{"$f":"+IF(#REF!>=1,#REF!,0)","v":{"$error":"#REF!"}},{"$f":"+IF(#REF!>=1,#REF!,0)","v":{"$error":"#REF!"}},{"$f":"+IF(#REF!>=1,#REF!,0)","v":{"$error":"#REF!"}},{"$f":"+IF(#REF!>=1,#REF!,0)","v":{"$error":"#REF!"}},{"$f":"+#REF!","v":{"$error":"#REF!"}},{"$f":"+#REF!","v":{"$error":"#REF!"}},{"$f":"+#REF!","v":{"$error":"#REF!"}},{"$f":"+#REF!","v":{"$error":"#REF!"}},{"$f":"+#REF!","v":{"$error":"#REF!"}},{"$f":"+#REF!","v":{"$error":"#REF!"}},{"$f":"+#REF!","v":{"$error":"#REF!"}},{"$f":"+#REF!","v":{"$error":"#REF!"}},{"$f":"+#REF!","v":{"$error":"#REF!"}},{"$f":"+#REF!","v":{"$error":"#REF!"}},{"$f":"+#REF!","v":{"$error":"#REF!"}},{"$f":"+#REF!","v":{"$error":"#REF!"}},{"$f":"+#REF!","v":{"$error":"#REF!"}},{"$f":"+#REF!","v":{"$error":"#REF!"}},{"$f":"+#REF!","v":{"$error":"#REF!"}},{"$f":"+#REF!","v":{"$error":"#REF!"}},{"$f":"+'TEC1'!B86","v":0},{"$f":"+'TEC1'!C86","v":0},{"$f":"+'TEC1'!D86","v":0},{"$f":"+'TEC1'!E86","v":0}]
[null,{"$f":"+IF(#REF!>=1,#REF!,0)","v":{"$error":"#REF!"}},{"$f":"+IF(#REF!>=1,#REF!,0)","v":{"$error":"#REF!"}},{"$f":"+IF(#REF!>=1,#REF!,0)","v":{"$error":"#REF!"}},{"$f":"+IF(#REF!>=1,#REF!,0)","v":{"$error":"#REF!"}},{"$f":"+#REF!","v":{"$error":"#REF!"}},{"$f":"+#REF!","v":{"$error":"#REF!"}},{"$f":"+#REF!","v":{"$error":"#REF!"}},{"$f":"+#REF!","v":{"$error":"#REF!"}},{"$f":"+#REF!","v":{"$error":"#REF!"}},{"$f":"+#REF!","v":{"$error":"#REF!"}},{"$f":"+#REF!","v":{"$error":"#REF!"}},{"$f":"+#REF!","v":{"$error":"#REF!"}},{"$f":"+#REF!","v":{"$error":"#REF!"}},{"$f":"+#REF!","v":{"$error":"#REF!"}},{"$f":"+#REF!","v":{"$error":"#REF!"}},{"$f":"+#REF!","v":{"$error":"#REF!"}},{"$f":"+#REF!","v":{"$error":"#REF!"}},{"$f":"+#REF!","v":{"$error":"#REF!"}},{"$f":"+#REF!","v":{"$error":"#REF!"}},{"$f":"+#REF!","v":{"$error":"#REF!"}},{"$f":"+'TEC1'!B87","v":0},{"$f":"+'TEC1'!C87","v":0},{"$f":"+'TEC1'!D87","v":0},{"$f":"+'TEC1'!E87","v":0}]
[null,{"$f":"+IF(#REF!>=1,#REF!,0)","v":{"$error":"#REF!"}},{"$f":"+IF(#REF!>=1,#REF!,0)","v":{"$error":"#REF!"}},{"$f":"+IF(#REF!>=1,#REF!,0)","v":{"$error":"#REF!"}},{"$f":"+IF(#REF!>=1,#REF!,0)","v":{"$error":"#REF!"}},{"$f":"+#REF!","v":{"$error":"#REF!"}},{"$f":"+#REF!","v":{"$error":"#REF!"}},{"$f":"+#REF!","v":{"$error":"#REF!"}},{"$f":"+#REF!","v":{"$error":"#REF!"}},{"$f":"+#REF!","v":{"$error":"#REF!"}},{"$f":"+#REF!","v":{"$error":"#REF!"}},{"$f":"+#REF!","v":{"$error":"#REF!"}},{"$f":"+#REF!","v":{"$error":"#REF!"}},{"$f":"+#REF!","v":{"$error":"#REF!"}},{"$f":"+#REF!","v":{"$error":"#REF!"}},{"$f":"+#REF!","v":{"$error":"#REF!"}},{"$f":"+#REF!","v":{"$error":"#REF!"}},{"$f":"+#REF!","v":{"$error":"#REF!"}},{"$f":"+#REF!","v":{"$error":"#REF!"}},{"$f":"+#REF!","v":{"$error":"#REF!"}},{"$f":"+#REF!","v":{"$error":"#REF!"}},{"$f":"+'TEC1'!B88","v":0},{"$f":"+'TEC1'!C88","v":0},{"$f":"+'TEC1'!D88","v":0},{"$f":"+'TEC1'!E88","v":0}]
[null,{"$f":"+IF(#REF!>=1,#REF!,0)","v":{"$error":"#REF!"}},{"$f":"+IF(#REF!>=1,#REF!,0)","v":{"$error":"#REF!"}},{"$f":"+IF(#REF!>=1,#REF!,0)","v":{"$error":"#REF!"}},{"$f":"+IF(#REF!>=1,#REF!,0)","v":{"$error":"#REF!"}},{"$f":"+#REF!","v":{"$error":"#REF!"}},{"$f":"+#REF!","v":{"$error":"#REF!"}},{"$f":"+#REF!","v":{"$error":"#REF!"}},{"$f":"+#REF!","v":{"$error":"#REF!"}},{"$f":"+#REF!","v":{"$error":"#REF!"}},{"$f":"+#REF!","v":{"$error":"#REF!"}},{"$f":"+#REF!","v":{"$error":"#REF!"}},{"$f":"+#REF!","v":{"$error":"#REF!"}},{"$f":"+#REF!","v":{"$error":"#REF!"}},{"$f":"+#REF!","v":{"$error":"#REF!"}},{"$f":"+#REF!","v":{"$error":"#REF!"}},{"$f":"+#REF!","v":{"$error":"#REF!"}},{"$f":"+#REF!","v":{"$error":"#REF!"}},{"$f":"+#REF!","v":{"$error":"#REF!"}},{"$f":"+#REF!","v":{"$error":"#REF!"}},{"$f":"+#REF!","v":{"$error":"#REF!"}},{"$f":"+'TEC1'!B89","v":0},{"$f":"+'TEC1'!C89","v":0},{"$f":"+'TEC1'!D89","v":0},{"$f":"+'TEC1'!E89","v":0}]
[null,{"$f":"+IF(#REF!>=1,#REF!,0)","v":{"$error":"#REF!"}},{"$f":"+IF(#REF!>=1,#REF!,0)","v":{"$error":"#REF!"}},{"$f":"+IF(#REF!>=1,#REF!,0)","v":{"$error":"#REF!"}},{"$f":"+IF(#REF!>=1,#REF!,0)","v":{"$error":"#REF!"}},{"$f":"+#REF!","v":{"$error":"#REF!"}},{"$f":"+#REF!","v":{"$error":"#REF!"}},{"$f":"+#REF!","v":{"$error":"#REF!"}},{"$f":"+#REF!","v":{"$error":"#REF!"}},{"$f":"+#REF!","v":{"$error":"#REF!"}},{"$f":"+#REF!","v":{"$error":"#REF!"}},{"$f":"+#REF!","v":{"$error":"#REF!"}},{"$f":"+#REF!","v":{"$error":"#REF!"}},{"$f":"+#REF!","v":{"$error":"#REF!"}},{"$f":"+#REF!","v":{"$error":"#REF!"}},{"$f":"+#REF!","v":{"$error":"#REF!"}},{"$f":"+#REF!","v":{"$error":"#REF!"}},{"$f":"+#REF!","v":{"$error":"#REF!"}},{"$f":"+#REF!","v":{"$error":"#REF!"}},{"$f":"+#REF!","v":{"$error":"#REF!"}},{"$f":"+#REF!","v":{"$error":"#REF!"}},{"$f":"+'TEC1'!B90","v":0},{"$f":"+'TEC1'!C90","v":0},{"$f":"+'TEC1'!D90","v":0},{"$f":"+'TEC1'!E90","v":0}]
[null,{"$f":"+IF(#REF!>=1,#REF!,0)","v":{"$error":"#REF!"}},{"$f":"+IF(#REF!>=1,#REF!,0)","v":{"$error":"#REF!"}},{"$f":"+IF(#REF!>=1,#REF!,0)","v":{"$error":"#REF!"}},{"$f":"+IF(#REF!>=1,#REF!,0)","v":{"$error":"#REF!"}},{"$f":"+#REF!","v":{"$error":"#REF!"}},{"$f":"+#REF!","v":{"$error":"#REF!"}},{"$f":"+#REF!","v":{"$error":"#REF!"}},{"$f":"+#REF!","v":{"$error":"#REF!"}},{"$f":"+#REF!","v":{"$error":"#REF!"}},{"$f":"+#REF!","v":{"$error":"#REF!"}},{"$f":"+#REF!","v":{"$error":"#REF!"}},{"$f":"+#REF!","v":{"$error":"#REF!"}},{"$f":"+#REF!","v":{"$error":"#REF!"}},{"$f":"+#REF!","v":{"$error":"#REF!"}},{"$f":"+#REF!","v":{"$error":"#REF!"}},{"$f":"+#REF!","v":{"$error":"#REF!"}},{"$f":"+#REF!","v":{"$error":"#REF!"}},{"$f":"+#REF!","v":{"$error":"#REF!"}},{"$f":"+#REF!","v":{"$error":"#REF!"}},{"$f":"+#REF!","v":{"$error":"#REF!"}},{"$f":"+'TEC1'!B91","v":0},{"$f":"+'TEC1'!C91","v":0},{"$f":"+'TEC1'!D91","v":0},{"$f":"+'TEC1'!E91","v":0}]
[null,{"$f":"+IF(#REF!>=1,#REF!,0)","v":{"$error":"#REF!"}},{"$f":"+IF(#REF!>=1,#REF!,0)","v":{"$error":"#REF!"}},{"$f":"+IF(#REF!>=1,#REF!,0)","v":{"$error":"#REF!"}},{"$f":"+IF(#REF!>=1,#REF!,0)","v":{"$error":"#REF!"}},{"$f":"+#REF!","v":{"$error":"#REF!"}},{"$f":"+#REF!","v":{"$error":"#REF!"}},{"$f":"+#REF!","v":{"$error":"#REF!"}},{"$f":"+#REF!","v":{"$error":"#REF!"}},{"$f":"+#REF!","v":{"$error":"#REF!"}},{"$f":"+#REF!","v":{"$error":"#REF!"}},{"$f":"+#REF!","v":{"$error":"#REF!"}},{"$f":"+#REF!","v":{"$error":"#REF!"}},{"$f":"+#REF!","v":{"$error":"#REF!"}},{"$f":"+#REF!","v":{"$error":"#REF!"}},{"$f":"+#REF!","v":{"$error":"#REF!"}},{"$f":"+#REF!","v":{"$error":"#REF!"}},{"$f":"+#REF!","v":{"$error":"#REF!"}},{"$f":"+#REF!","v":{"$error":"#REF!"}},{"$f":"+#REF!","v":{"$error":"#REF!"}},{"$f":"+#REF!","v":{"$error":"#REF!"}},{"$f":"+'TEC1'!B92","v":0},{"$f":"+'TEC1'!C92","v":0},{"$f":"+'TEC1'!D92","v":0},{"$f":"+'TEC1'!E92","v":0}]
[null,{"$f":"+IF(#REF!>=1,#REF!,0)","v":{"$error":"#REF!"}},{"$f":"+IF(#REF!>=1,#REF!,0)","v":{"$error":"#REF!"}},{"$f":"+IF(#REF!>=1,#REF!,0)","v":{"$error":"#REF!"}},{"$f":"+IF(#REF!>=1,#REF!,0)","v":{"$error":"#REF!"}},{"$f":"+#REF!","v":{"$error":"#REF!"}},{"$f":"+#REF!","v":{"$error":"#REF!"}},{"$f":"+#REF!","v":{"$error":"#REF!"}},{"$f":"+#REF!","v":{"$error":"#REF!"}},{"$f":"+#REF!","v":{"$error":"#REF!"}},{"$f":"+#REF!","v":{"$error":"#REF!"}},{"$f":"+#REF!","v":{"$error":"#REF!"}},{"$f":"+#REF!","v":{"$error":"#REF!"}},{"$f":"+#REF!","v":{"$error":"#REF!"}},{"$f":"+#REF!","v":{"$error":"#REF!"}},{"$f":"+#REF!","v":{"$error":"#REF!"}},{"$f":"+#REF!","v":{"$error":"#REF!"}},{"$f":"+#REF!","v":{"$error":"#REF!"}},{"$f":"+#REF!","v":{"$error":"#REF!"}},{"$f":"+#REF!","v":{"$error":"#REF!"}},{"$f":"+#REF!","v":{"$error":"#REF!"}},{"$f":"+'TEC1'!B93","v":0},{"$f":"+'TEC1'!C93","v":0},{"$f":"+'TEC1'!D93","v":0},{"$f":"+'TEC1'!E93","v":0}]
[null,{"$f":"+IF(#REF!>=1,#REF!,0)","v":{"$error":"#REF!"}},{"$f":"+IF(#REF!>=1,#REF!,0)","v":{"$error":"#REF!"}},{"$f":"+IF(#REF!>=1,#REF!,0)","v":{"$error":"#REF!"}},{"$f":"+IF(#REF!>=1,#REF!,0)","v":{"$error":"#REF!"}},{"$f":"+#REF!","v":{"$error":"#REF!"}},{"$f":"+#REF!","v":{"$error":"#REF!"}},{"$f":"+#REF!","v":{"$error":"#REF!"}},{"$f":"+#REF!","v":{"$error":"#REF!"}},{"$f":"+#REF!","v":{"$error":"#REF!"}},{"$f":"+#REF!","v":{"$error":"#REF!"}},{"$f":"+#REF!","v":{"$error":"#REF!"}},{"$f":"+#REF!","v":{"$error":"#REF!"}},{"$f":"+#REF!","v":{"$error":"#REF!"}},{"$f":"+#REF!","v":{"$error":"#REF!"}},{"$f":"+#REF!","v":{"$error":"#REF!"}},{"$f":"+#REF!","v":{"$error":"#REF!"}},{"$f":"+#REF!","v":{"$error":"#REF!"}},{"$f":"+#REF!","v":{"$error":"#REF!"}},{"$f":"+#REF!","v":{"$error":"#REF!"}},{"$f":"+#REF!","v":{"$error":"#REF!"}},{"$f":"+'TEC1'!B94","v":0},{"$f":"+'TEC1'!C94","v":0},{"$f":"+'TEC1'!D94","v":0},{"$f":"+'TEC1'!E94","v":0}]
[null,{"$f":"+IF(#REF!>=1,#REF!,0)","v":{"$error":"#REF!"}},{"$f":"+IF(#REF!>=1,#REF!,0)","v":{"$error":"#REF!"}},{"$f":"+IF(#REF!>=1,#REF!,0)","v":{"$error":"#REF!"}},{"$f":"+IF(#REF!>=1,#REF!,0)","v":{"$error":"#REF!"}},{"$f":"+#REF!","v":{"$error":"#REF!"}},{"$f":"+#REF!","v":{"$error":"#REF!"}},{"$f":"+#REF!","v":{"$error":"#REF!"}},{"$f":"+#REF!","v":{"$error":"#REF!"}},{"$f":"+#REF!","v":{"$error":"#REF!"}},{"$f":"+#REF!","v":{"$error":"#REF!"}},{"$f":"+#REF!","v":{"$error":"#REF!"}},{"$f":"+#REF!","v":{"$error":"#REF!"}},{"$f":"+#REF!","v":{"$error":"#REF!"}},{"$f":"+#REF!","v":{"$error":"#REF!"}},{"$f":"+#REF!","v":{"$error":"#REF!"}},{"$f":"+#REF!","v":{"$error":"#REF!"}},{"$f":"+#REF!","v":{"$error":"#REF!"}},{"$f":"+#REF!","v":{"$error":"#REF!"}},{"$f":"+#REF!","v":{"$error":"#REF!"}},{"$f":"+#REF!","v":{"$error":"#REF!"}},{"$f":"+'TEC1'!B95","v":0},{"$f":"+'TEC1'!C95","v":0},{"$f":"+'TEC1'!D95","v":0},{"$f":"+'TEC1'!E95","v":0}]
[null,{"$f":"+IF(#REF!>=1,#REF!,0)","v":{"$error":"#REF!"}},{"$f":"+IF(#REF!>=1,#REF!,0)","v":{"$error":"#REF!"}},{"$f":"+IF(#REF!>=1,#REF!,0)","v":{"$error":"#REF!"}},{"$f":"+IF(#REF!>=1,#REF!,0)","v":{"$error":"#REF!"}},{"$f":"+#REF!","v":{"$error":"#REF!"}},{"$f":"+#REF!","v":{"$error":"#REF!"}},{"$f":"+#REF!","v":{"$error":"#REF!"}},{"$f":"+#REF!","v":{"$error":"#REF!"}},{"$f":"+#REF!","v":{"$error":"#REF!"}},{"$f":"+#REF!","v":{"$error":"#REF!"}},{"$f":"+#REF!","v":{"$error":"#REF!"}},{"$f":"+#REF!","v":{"$error":"#REF!"}},{"$f":"+#REF!","v":{"$error":"#REF!"}},{"$f":"+#REF!","v":{"$error":"#REF!"}},{"$f":"+#REF!","v":{"$error":"#REF!"}},{"$f":"+#REF!","v":{"$error":"#REF!"}},{"$f":"+#REF!","v":{"$error":"#REF!"}},{"$f":"+#REF!","v":{"$error":"#REF!"}},{"$f":"+#REF!","v":{"$error":"#REF!"}},{"$f":"+#REF!","v":{"$error":"#REF!"}},{"$f":"+'TEC1'!B96","v":0},{"$f":"+'TEC1'!C96","v":0},{"$f":"+'TEC1'!D96","v":0},{"$f":"+'TEC1'!E96","v":0}]
[null,{"$f":"+IF(#REF!>=1,#REF!,0)","v":{"$error":"#REF!"}},{"$f":"+IF(#REF!>=1,#REF!,0)","v":{"$error":"#REF!"}},{"$f":"+IF(#REF!>=1,#REF!,0)","v":{"$error":"#REF!"}},{"$f":"+IF(#REF!>=1,#REF!,0)","v":{"$error":"#REF!"}},{"$f":"+#REF!","v":{"$error":"#REF!"}},{"$f":"+#REF!","v":{"$error":"#REF!"}},{"$f":"+#REF!","v":{"$error":"#REF!"}},{"$f":"+#REF!","v":{"$error":"#REF!"}},{"$f":"+#REF!","v":{"$error":"#REF!"}},{"$f":"+#REF!","v":{"$error":"#REF!"}},{"$f":"+#REF!","v":{"$error":"#REF!"}},{"$f":"+#REF!","v":{"$error":"#REF!"}},{"$f":"+#REF!","v":{"$error":"#REF!"}},{"$f":"+#REF!","v":{"$error":"#REF!"}},{"$f":"+#REF!","v":{"$error":"#REF!"}},{"$f":"+#REF!","v":{"$error":"#REF!"}},{"$f":"+#REF!","v":{"$error":"#REF!"}},{"$f":"+#REF!","v":{"$error":"#REF!"}},{"$f":"+#REF!","v":{"$error":"#REF!"}},{"$f":"+#REF!","v":{"$error":"#REF!"}},{"$f":"+'TEC1'!B97","v":0},{"$f":"+'TEC1'!C97","v":0},{"$f":"+'TEC1'!D97","v":0},{"$f":"+'TEC1'!E97","v":0}]
[null,{"$f":"+IF(#REF!>=1,#REF!,0)","v":{"$error":"#REF!"}},{"$f":"+IF(#REF!>=1,#REF!,0)","v":{"$error":"#REF!"}},{"$f":"+IF(#REF!>=1,#REF!,0)","v":{"$error":"#REF!"}},{"$f":"+IF(#REF!>=1,#REF!,0)","v":{"$error":"#REF!"}},{"$f":"+#REF!","v":{"$error":"#REF!"}},{"$f":"+#REF!","v":{"$error":"#REF!"}},{"$f":"+#REF!","v":{"$error":"#REF!"}},{"$f":"+#REF!","v":{"$error":"#REF!"}},{"$f":"+#REF!","v":{"$error":"#REF!"}},{"$f":"+#REF!","v":{"$error":"#REF!"}},{"$f":"+#REF!","v":{"$error":"#REF!"}},{"$f":"+#REF!","v":{"$error":"#REF!"}},{"$f":"+#REF!","v":{"$error":"#REF!"}},{"$f":"+#REF!","v":{"$error":"#REF!"}},{"$f":"+#REF!","v":{"$error":"#REF!"}},{"$f":"+#REF!","v":{"$error":"#REF!"}},{"$f":"+#REF!","v":{"$error":"#REF!"}},{"$f":"+#REF!","v":{"$error":"#REF!"}},{"$f":"+#REF!","v":{"$error":"#REF!"}},{"$f":"+#REF!","v":{"$error":"#REF!"}},{"$f":"+'TEC1'!B98","v":0},{"$f":"+'TEC1'!C98","v":0},{"$f":"+'TEC1'!D98","v":0},{"$f":"+'TEC1'!E98","v":0}]
[null,{"$f":"+IF(#REF!>=1,#REF!,0)","v":{"$error":"#REF!"}},{"$f":"+IF(#REF!>=1,#REF!,0)","v":{"$error":"#REF!"}},{"$f":"+IF(#REF!>=1,#REF!,0)","v":{"$error":"#REF!"}},{"$f":"+IF(#REF!>=1,#REF!,0)","v":{"$error":"#REF!"}},{"$f":"+#REF!","v":{"$error":"#REF!"}},{"$f":"+#REF!","v":{"$error":"#REF!"}},{"$f":"+#REF!","v":{"$error":"#REF!"}},{"$f":"+#REF!","v":{"$error":"#REF!"}},{"$f":"+#REF!","v":{"$error":"#REF!"}},{"$f":"+#REF!","v":{"$error":"#REF!"}},{"$f":"+#REF!","v":{"$error":"#REF!"}},{"$f":"+#REF!","v":{"$error":"#REF!"}},{"$f":"+#REF!","v":{"$error":"#REF!"}},{"$f":"+#REF!","v":{"$error":"#REF!"}},{"$f":"+#REF!","v":{"$error":"#REF!"}},{"$f":"+#REF!","v":{"$error":"#REF!"}},{"$f":"+#REF!","v":{"$error":"#REF!"}},{"$f":"+#REF!","v":{"$error":"#REF!"}},{"$f":"+#REF!","v":{"$error":"#REF!"}},{"$f":"+#REF!","v":{"$error":"#REF!"}},{"$f":"+'TEC1'!B99","v":0},{"$f":"+'TEC1'!C99","v":0},{"$f":"+'TEC1'!D99","v":0},{"$f":"+'TEC1'!E99","v":0}]
[null,{"$f":"+IF(#REF!>=1,#REF!,0)","v":{"$error":"#REF!"}},{"$f":"+IF(#REF!>=1,#REF!,0)","v":{"$error":"#REF!"}},{"$f":"+IF(#REF!>=1,#REF!,0)","v":{"$error":"#REF!"}},{"$f":"+IF(#REF!>=1,#REF!,0)","v":{"$error":"#REF!"}},{"$f":"+#REF!","v":{"$error":"#REF!"}},{"$f":"+#REF!","v":{"$error":"#REF!"}},{"$f":"+#REF!","v":{"$error":"#REF!"}},{"$f":"+#REF!","v":{"$error":"#REF!"}},{"$f":"+#REF!","v":{"$error":"#REF!"}},{"$f":"+#REF!","v":{"$error":"#REF!"}},{"$f":"+#REF!","v":{"$error":"#REF!"}},{"$f":"+#REF!","v":{"$error":"#REF!"}},{"$f":"+#REF!","v":{"$error":"#REF!"}},{"$f":"+#REF!","v":{"$error":"#REF!"}},{"$f":"+#REF!","v":{"$error":"#REF!"}},{"$f":"+#REF!","v":{"$error":"#REF!"}},{"$f":"+#REF!","v":{"$error":"#REF!"}},{"$f":"+#REF!","v":{"$error":"#REF!"}},{"$f":"+#REF!","v":{"$error":"#REF!"}},{"$f":"+#REF!","v":{"$error":"#REF!"}},{"$f":"+'TEC1'!B100","v":0},{"$f":"+'TEC1'!C100","v":0},{"$f":"+'TEC1'!D100","v":0},{"$f":"+'TEC1'!E100","v":0}]

{"sheet":"TEC2","index":4,"n_rows":100,"n_cols":29,"rows_kept":100,"cut":false,"hidden":false,"merged":[[13,25,13,26],[16,9,16,10],[17,6,17,13],[21,7,21,8],[1,24,3,24],[4,15,4,18],[5,17,7,18],[5,20,5,22],[6,20,6,22],[23,6,23,13],[25,6,25,8],[4,19,4,23],[8,6,8,13],[12,6,12,13]]}
[]
[null,null,null,null,null,null,null,null,null,null,null,null,null,null,null,null,null,null,null,null,null,null,{"$f":"+IF($B$9>1,\"AKA Nigel\",\"\")","v":""},null,{"$f":"+IF($B$9>1,\"AKA Nigel\",\"\")","v":""}]
[]
[]
[null," Centre for Education Statistics and Evaluation",null,null,null,null,null,null,null,null,null,null,null,null,null,"Class Name:",null,null,null,"Ms Johnson"]
[null,null,null,null,null,null,null,null,null,null,null,null,null,null,null,null,null,null,null,null,"To convert to %"]
[null,null,null,null,null,null,null,null,null,null,null,null,null,null,null,null,null,null,null,null,"Maximum value"]
[]
[null,null,null,null,null,null,"Basics",null,null,null,null,null,null,null,null,null,null,null,null,null,{"$f":"+IF($X$7=0,B9,((B9/$X$7)*100))","v":0},0,0,0]
[null,null,null,null,null,null,null,"Count",null,"Sum",null,"Min",null,"Max",null,null,null,null,null,null,0,0,0,0]
[null,null,null,null,null,null,null,{"$f":"COUNTIF(U9:X100,\">1\")","v":0},null,{"$f":"SUM($U$9:$X$100)","v":0},null,{"$f":"+MIN(IF($U$9:$X$100>1,$U$9:$X$100))","v":0},null,{"$f":"MAX($U$9:$X$100)","v":0},null,null,null,null,null,null,0,0,0,0]
[null,null,null,null,null,null,null,null,null,null,null,null,null,null,null,null,null,null,null,null,0,0,0,0]
[null,null,null,null,null,null,"Measures of Central Tendency",null,null,null,null,null,null,null,null,null,null,null,null,null,0,0,0,0,null,null,"Standard Deviation",{"$f":"STDEV(IF(U9:X100<>0,U9:X100))","v":{"$error":"#DIV/0!"}}]
[null,null,null,null,null,null,null,"Mean",null,"Median",null,"Mode 1 ",null,"Mode 2,3",null,null,null,null,null,null,0,0,0,0,null,"Square Root of no: values",null,{"$f":"SQRT(H11)","v":0}]
[null,null,null,null,null,null,null,{"$f":"+AVERAGEIF($U$9:$X$100,\">1\",$U$9:$X$100)","v":{"$error":"#DIV/0!"}},null,{"$f":"+MEDIAN(IF($U$9:$X$100<>0,$U$9:$X$100))","v":{"$error":"#NUM!"}},null,{"$f":"+AB19","v":{"$error":"#N/A"}},null,{"$f":"+IF(AB20=L15,\"\",AB20)","v":{"$error":"#N/A"}},null,null,null,null,null,null,{"$f":"+IF($X$7=0,B15,((B15/$X$7)*100))","v":0},{"$f":"+IF($X$7=0,C15,((C15/$X$7)*100))","v":0},{"$f":"+IF($X$7=0,D15,((D15/$X$7)*100))","v":0},{"$f":"+IF($X$7=0,E15,((E15/$X$7)*100))","v":0},null,null," Standard Error (SE)",{"$f":"+IF(AB14=0,0,(AB13/AB14))","v":0}]
[null,null,null,null,null,null,null,null,null,null,null,null,null,{"$f":"+IF(AB21=L15,\"\",AB21)","v":{"$error":"#N/A"}},null,null,null,null,null,null,0,0,0,0,null,null,"T-distribution probability figure",0.95,{"$f":"+IF(H11=0,0,VLOOKUP(H11,Sheet2!C2:D65,2,TRUE))","v":0}]
[null,null,null,null,null,null,null,null,null,null,null,null,null,null,null,null,null,null,null,null,0,0,0,0,null,null,"SE x T-distribution figure",{"$f":"IF(AC16=\"\",0,AB15*AC16)","v":0}]
[null,null,null,null,null,null,"Quartiles - Interquartile area/range",null,null,null,null,null,null,null,null,null,null,null,null,null,0,0,0,0,null,null,"Variance",{"$f":"+IF(H11=0,\"\",_xlfn.VAR.S($B$9:$E$100))","v":""}]
[null,null,null,null,null,null,null,"Lower Quartile",null,"Middle Quartile",null,"Upper Quartile",null,null,null,null,null,null,null,null,0,0,0,0,null,null,"Mode #1",{"$f":"+IF($X$7=0,AC19,((AC19/$X$7)*100))","v":{"$error":"#N/A"}},{"$f":"_xlfn.MODE.MULT($B$9:$E$100,$B$9:$E$100)","v":{"$error":"#N/A"}}]
[null,null,null,null,null,null,null,{"$f":"IF(H11=0,0,QUARTILE(IF($U$9:$X$100>1,$U$9:$X$100),1))","v":0},null,{"$f":"IF(H11=0,0,QUARTILE(IF($U$9:$X$100>1,$U$9:$X$100),2))","v":0},null,{"$f":"IF(H11=0,0,QUARTILE(IF($U$9:$X$100>1,$U$9:$X$100),3))","v":0},null,null,null,null,null,null,null,null,0,0,0,0,null,null,"Mode #2",{"$f":"+IF($X$7=0,AC20,((AC20/$X$7)*100))","v":{"$error":"#N/A"}},{"$error":"#N/A"}]
[null,null,null,null,null,null,null,null,null,null,null,null,null,null,null,null,null,null,null,null,0,0,0,0,null,null,"Mode #3",{"$f":"+IF($X$7=0,AC21,((AC21/$X$7)*100))","v":{"$error":"#N/A"}},{"$error":"#N/A"}]
[null,null,null,null,null,null,null,"Interquartile Area",null,{"$f":"+H20","v":0},"to",{"$f":"+L20","v":0},null,null,null,null,null,null,null,null,0,0,0,0,null,null,"Mode #4",{"$error":"#N/A"},{"$error":"#N/A"}]
[null,null,null,null,null,null,null,null,null,null,null,null,null,null,null,null,null,null,null,null,0,0,0,0]
[null,null,null,null,null,null,"Confidence Interval",null,null,null,null,null,null,null,null,null,null,null,null,null,0,0,0,0,null,null,"q1-min",{"$f":"+H20-L11","v":0},27.5]
[null,null,null,null,null,null,"CI commences with sample size >5. The bigger the sample, the more accurate the CI.",null,null,null,null,null,null,null,null,null,null,null,null,null,0,0,0,0,null,null,"q1",{"$f":"+H20","v":0},51.944444444444443]
[null,null,null,null,null,null,"Confidence Interval",null,null,{"$f":"+IF(H11<=5,0,H15-AB17)","v":0},"to",{"$f":"+IF(H11<=5,\"\",(H15+AB17))","v":""},null,null,null,null,null,null,null,null,0,0,0,0,null,null,"median-q1",{"$f":"+J15-H20","v":{"$error":"#NUM!"}},15.277777777777786]
[null,null,null,null,null,null,null,null,null,null,null,null,null,null,null,null,null,null,null,null,0,0,0,0,null,null,"median"]
[null,null,null,null,null,null,null,null,null,null,null,null,null,null,null,null,null,null,null,null,0,0,0,0,null,null,"Q3-median",{"$f":"+L20-J15","v":{"$error":"#NUM!"}},15.277777777777771]
[null,null,null,null,null,null,null,null,null,null,null,null,null,null,null,null,null,null,null,null,0,0,0,0,null,null,"Max-q3",{"$f":"+N11-L20","v":0},15.277777777777771]
[null,null,null,null,null,null,null,null,null,null,null,null,null,null,null,null,null,null,null,null,0,0,0,0,null,null,"Mean",{"$f":"+H15","v":{"$error":"#DIV/0!"}},65.185185185185176]
[null,null,null,null,null,null,null,null,null,null,null,null,null,null,null,null,null,null,null,null,0,0,0,0]
[null,null,null,null,null,null,null,null,"Percentile %",0.9,null,{"$f":"IF(H11=0,\"\",PERCENTILE($B$9:$E$100,J32))","v":""},null,null,null,null,null,null,null,null,0,0,0,0,null,null,{"$f":"+J26","v":0},{"$f":"+AC32-AA32","v":{"$error":"#VALUE!"}},{"$f":"+L26","v":""}]
[null,null,null,null,null,null,null,null,null,null,null,null,null,null,null,null,null,null,null,null,0,0,0,0]
[null,null,null,null,null,null,null,"Standard Deviation",null,{"$f":"+AB13","v":{"$error":"#DIV/0!"}},null,null,null,null,null,null,null,null,null,null,0,0,0,0]
[null,null,null,null,null,null,null,null,null,null,null,null,null,null,null,null,null,null,null,null,0,0,0,0]
[null,null,null,null,null,null,null,null,null,null,null,null,null,null,null,null,null,null,null,null,0,0,0,0]
[null,null,null,null,null,null,null,null,null,null,null,null,null,null,null,null,null,null,null,null,0,0,0,0]
[null,null,null,null,null,null,null,null,null,null,null,null,null,null,null,null,null,null,null,null,0,0,0,0]
[null,null,null,null,null,null,null,null,null,null,null,null,null,null,null,null,null,null,null,null,0,0,0,0]
[null,null,null,null,null,null,null,null,null,null,null,null,null,null,null,null,null,null,null,null,0,0,0,0]
[null,null,null,null,null,null,null,null,null,null,null,null,null,null,null,null,null,null,null,null,{"$f":"+IF($X$7=0,B41,((B41/$X$7)*100))","v":0},{"$f":"+IF($X$7=0,C41,((C41/$X$7)*100))","v":0},{"$f":"+IF($X$7=0,D41,((D41/$X$7)*100))","v":0},{"$f":"+IF($X$7=0,E41,((E41/$X$7)*100))","v":0}]
[null,null,null,null,null,null,null,null,null,null,null,null,null,null,null,null,null,null,null,null,0,0,0,0]
[null,null,null,null,null,null,null,null,null,null,null,null,null,null,null,null,null,null,null,null,0,0,0,0]
[null,null,null,null,null,null,null,null,null,null,null,null,null,null,null,null,null,null,null,null,0,0,0,0]
[null,null,null,null,null,null,null,null,null,null,null,null,null,null,null,null,null,null,null,null,0,0,0,0]
[null,null,null,null,null,null,null,null,null,null,null,null,null,null,null,null,null,null,null,null,0,0,0,0]
[null,null,null,null,null,null,null,null,null,null,null,null,null,null,null,null,null,null,null,null,0,0,0,0]
[null,null,null,null,null,null,null,null,null,null,null,null,null,null,null,null,null,null,null,null,0,0,0,0]
[null,null,null,null,null,null,null,null,null,null,null,null,null,null,null,null,null,null,null,null,0,0,0,0]
[null,null,null,null,null,null,null,null,null,null,null,null,null,null,null,null,null,null,null,null,0,0,0,0]
[null,null,null,null,null,null,null,null,null,null,null,null,null,null,null,null,null,null,null,null,0,0,0,0]
[null,null,null,null,null,null,null,null,null,null,null,null,null,null,null,null,null,null,null,null,0,0,0,0]
[null,null,null,null,null,null,null,null,null,null,null,null,null,null,null,null,null,null,null,null,0,0,0,0]
[null,null,null,null,null,null,null,null,null,null,null,null,null,null,null,null,null,null,null,null,0,0,0,0]
[null,null,null,null,null,null,null,null,null,null,null,null,null,null,null,null,null,null,null,null,0,0,0,0]
[null,null,null,null,null,null,null,null,null,null,null,null,null,null,null,null,null,null,null,null,0,0,0,0]
[null,null,null,null,null,null,null,null,null,null,null,null,null,null,null,null,null,null,null,null,0,0,0,0]
[null,null,null,null,null,null,null,null,null,null,null,null,null,null,null,null,null,null,null,null,0,0,0,0]
[null,null,null,null,null,null,null,null,null,null,null,null,null,null,null,null,null,null,null,null,0,0,0,0]
[null,null,null,null,null,null,null,null,null,null,null,null,null,null,null,null,null,null,null,null,0,0,0,0]
[null,null,null,null,null,null,null,null,null,null,null,null,null,null,null,null,null,null,null,null,0,0,0,0]
[null,null,null,null,null,null,null,null,null,null,null,null,null,null,null,null,null,null,null,null,0,0,0,0]
[null,null,null,null,null,null,null,null,null,null,null,null,null,null,null,null,null,null,null,null,0,0,0,0]
[null,null,null,null,null,null,null,null,null,null,null,null,null,null,null,null,null,null,null,null,0,0,0,0]
[null,null,null,null,null,null,null,null,null,null,null,null,null,null,null,null,null,null,null,null,0,0,0,0]
[null,null,null,null,null,null,null,null,null,null,null,null,null,null,null,null,null,null,null,null,0,0,0,0]
[null,null,null,null,null,null,null,null,null,null,null,null,null,null,null,null,null,null,null,null,0,0,0,0]
[null,null,null,null,null,null,null,null,null,null,null,null,null,null,null,null,null,null,null,null,0,0,0,0]
[null,null,null,null,null,null,null,null,null,null,null,null,null,null,null,null,null,null,null,null,0,0,0,0]
[null,null,null,null,null,null,null,null,null,null,null,null,null,null,null,null,null,null,null,null,0,0,0,0]
[null,null,null,null,null,null,null,null,null,null,null,null,null,null,null,null,null,null,null,null,0,0,0,0]
[null,null,null,null,null,null,null,null,null,null,null,null,null,null,null,null,null,null,null,null,0,0,0,0]
[null,null,null,null,null,null,null,null,null,null,null,null,null,null,null,null,null,null,null,null,{"$f":"+IF($X$7=0,B73,((B73/$X$7)*100))","v":0},{"$f":"+IF($X$7=0,C73,((C73/$X$7)*100))","v":0},{"$f":"+IF($X$7=0,D73,((D73/$X$7)*100))","v":0},{"$f":"+IF($X$7=0,E73,((E73/$X$7)*100))","v":0}]
[null,null,null,null,null,null,null,null,null,null,null,null,null,null,null,null,null,null,null,null,0,0,0,0]
[null,null,null,null,null,null,null,null,null,null,null,null,null,null,null,null,null,null,null,null,0,0,0,0]
[null,null,null,null,null,null,null,null,null,null,null,null,null,null,null,null,null,null,null,null,0,0,0,0]
[null,null,null,null,null,null,null,null,null,null,null,null,null,null,null,null,null,null,null,null,0,0,0,0]
[null,null,null,null,null,null,null,null,null,null,null,null,null,null,null,null,null,null,null,null,0,0,0,0]
[null,null,null,null,null,null,null,null,null,null,null,null,null,null,null,null,null,null,null,null,0,0,0,0]
[null,null,null,null,null,null,null,null,null,null,null,null,null,null,null,null,null,null,null,null,0,0,0,0]
[null,null,null,null,null,null,null,null,null,null,null,null,null,null,null,null,null,null,null,null,0,0,0,0]
[null,null,null,null,null,null,null,null,null,null,null,null,null,null,null,null,null,null,null,null,0,0,0,0]
[null,null,null,null,null,null,null,null,null,null,null,null,null,null,null,null,null,null,null,null,0,0,0,0]
[null,null,null,null,null,null,null,null,null,null,null,null,null,null,null,null,null,null,null,null,0,0,0,0]
[null,null,null,null,null,null,null,null,null,null,null,null,null,null,null,null,null,null,null,null,0,0,0,0]
[null,null,null,null,null,null,null,null,null,null,null,null,null,null,null,null,null,null,null,null,0,0,0,0]
[null,null,null,null,null,null,null,null,null,null,null,null,null,null,null,null,null,null,null,null,0,0,0,0]
[null,null,null,null,null,null,null,null,null,null,null,null,null,null,null,null,null,null,null,null,0,0,0,0]
[null,null,null,null,null,null,null,null,null,null,null,null,null,null,null,null,null,null,null,null,0,0,0,0]
[null,null,null,null,null,null,null,null,null,null,null,null,null,null,null,null,null,null,null,null,0,0,0,0]
[null,null,null,null,null,null,null,null,null,null,null,null,null,null,null,null,null,null,null,null,0,0,0,0]
[null,null,null,null,null,null,null,null,null,null,null,null,null,null,null,null,null,null,null,null,0,0,0,0]
[null,null,null,null,null,null,null,null,null,null,null,null,null,null,null,null,null,null,null,null,0,0,0,0]
[null,null,null,null,null,null,null,null,null,null,null,null,null,null,null,null,null,null,null,null,0,0,0,0]
[null,null,null,null,null,null,null,null,null,null,null,null,null,null,null,null,null,null,null,null,0,0,0,0]
[null,null,null,null,null,null,null,null,null,null,null,null,null,null,null,null,null,null,null,null,0,0,0,0]
[null,null,null,null,null,null,null,null,null,null,null,null,null,null,null,null,null,null,null,null,0,0,0,0]
[null,null,null,null,null,null,null,null,null,null,null,null,null,null,null,null,null,null,null,null,0,0,0,0]
[null,null,null,null,null,null,null,null,null,null,null,null,null,null,null,null,null,null,null,null,0,0,0,0]
[null,null,null,null,null,null,null,null,null,null,null,null,null,null,null,null,null,null,null,null,0,0,0,0]

{"sheet":"TEC3","index":5,"n_rows":100,"n_cols":29,"rows_kept":100,"cut":false,"hidden":false,"merged":[[13,25,13,26],[16,9,16,10],[17,6,17,13],[21,7,21,8],[1,24,3,24],[4,15,4,18],[5,17,7,18],[5,20,5,22],[6,20,6,22],[23,6,23,13],[25,6,25,8],[4,19,4,23],[8,6,8,13],[12,6,12,13]]}
[]
[null,null,null,null,null,null,null,null,null,null,null,null,null,null,null,null,null,null,null,null,null,null,{"$f":"+IF($B$9>1,\"AKA Nigel\",\"\")","v":""},null,{"$f":"+IF($B$9>1,\"AKA Nigel\",\"\")","v":""}]
[]
[]
[null," Centre for Education Statistics and Evaluation",null,null,null,null,null,null,null,null,null,null,null,null,null,"Class Name:",null,null,null,"Mr Baldwin"]
[null,null,null,null,null,null,null,null,null,null,null,null,null,null,null,null,null,null,null,null,"To convert to %"]
[null,null,null,null,null,null,null,null,null,null,null,null,null,null,null,null,null,null,null,null,"Maximum value"]
[]
[null,null,null,null,null,null,"Basics",null,null,null,null,null,null,null,null,null,null,null,null,null,{"$f":"+IF($X$7=0,B9,((B9/$X$7)*100))","v":0},{"$f":"+IF($X$7=0,C9,((C9/$X$7)*100))","v":0},{"$f":"+IF($X$7=0,D9,((D9/$X$7)*100))","v":0},{"$f":"+IF($X$7=0,E9,((E9/$X$7)*100))","v":0}]
[null,null,null,null,null,null,null,"Count",null,"Sum",null,"Min",null,"Max",null,null,null,null,null,null,0,0,0,0]
[null,null,null,null,null,null,null,{"$f":"COUNTIF(U9:X100,\">1\")","v":0},null,{"$f":"SUM($U$9:$X$100)","v":0},null,{"$f":"+MIN(IF($U$9:$X$100>1,$U$9:$X$100))","v":0},null,{"$f":"MAX($U$9:$X$100)","v":0},null,null,null,null,null,null,0,0,0,0]
[null,null,null,null,null,null,null,null,null,null,null,null,null,null,null,null,null,null,null,null,0,0,0,0]
[null,null,null,null,null,null,"Measures of Central Tendency",null,null,null,null,null,null,null,null,null,null,null,null,null,0,0,0,0,null,null,"Standard Deviation",{"$f":"STDEV(IF(U9:X100<>0,U9:X100))","v":{"$error":"#DIV/0!"}}]
[null,null,null,null,null,null,null,"Mean",null,"Median",null,"Mode 1 ",null,"Mode 2,3",null,null,null,null,null,null,0,0,0,0,null,"Square Root of no: values",null,{"$f":"SQRT(H11)","v":0}]
[null,null,null,null,null,null,null,{"$f":"+AVERAGEIF($U$9:$X$100,\">1\",$U$9:$X$100)","v":{"$error":"#DIV/0!"}},null,{"$f":"+MEDIAN(IF($U$9:$X$100<>0,$U$9:$X$100))","v":{"$error":"#NUM!"}},null,{"$f":"+AB19","v":{"$error":"#N/A"}},null,{"$f":"+IF(AB20=L15,\"\",AB20)","v":{"$error":"#N/A"}},null,null,null,null,null,null,0,0,0,0,null,null," Standard Error (SE)",{"$f":"+IF(AB14=0,0,(AB13/AB14))","v":0}]
[null,null,null,null,null,null,null,null,null,null,null,null,null,{"$f":"+IF(AB21=L15,\"\",AB21)","v":{"$error":"#N/A"}},null,null,null,null,null,null,0,0,0,0,null,null,"T-distribution probability figure",0.95,{"$f":"+IF(H11=0,0,VLOOKUP(H11,Sheet2!C2:D65,2,TRUE))","v":0}]
[null,null,null,null,null,null,null,null,null,null,null,null,null,null,null,null,null,null,null,null,0,0,0,0,null,null,"SE x T-distribution figure",{"$f":"IF(AC16=\"\",0,AB15*AC16)","v":0}]
[null,null,null,null,null,null,"Quartiles - Interquartile area/range",null,null,null,null,null,null,null,null,null,null,null,null,null,0,0,0,0,null,null,"Variance",{"$f":"+IF(H11=0,\"\",_xlfn.VAR.S($B$9:$E$100))","v":""}]
[null,null,null,null,null,null,null,"Lower Quartile",null,"Middle Quartile",null,"Upper Quartile",null,null,null,null,null,null,null,null,0,0,0,0,null,null,"Mode #1",{"$f":"+IF($X$7=0,AC19,((AC19/$X$7)*100))","v":{"$error":"#N/A"}},{"$f":"_xlfn.MODE.MULT($B$9:$E$100,$B$9:$E$100)","v":{"$error":"#N/A"}}]
[null,null,null,null,null,null,null,{"$f":"IF(H11=0,0,QUARTILE(IF($U$9:$X$100>1,$U$9:$X$100),1))","v":0},null,{"$f":"IF(H11=0,0,QUARTILE(IF($U$9:$X$100>1,$U$9:$X$100),2))","v":0},null,{"$f":"IF(H11=0,0,QUARTILE(IF($U$9:$X$100>1,$U$9:$X$100),3))","v":0},null,null,null,null,null,null,null,null,0,0,0,0,null,null,"Mode #2",{"$f":"+IF($X$7=0,AC20,((AC20/$X$7)*100))","v":{"$error":"#N/A"}},{"$error":"#N/A"}]
[null,null,null,null,null,null,null,null,null,null,null,null,null,null,null,null,null,null,null,null,0,0,0,0,null,null,"Mode #3",{"$f":"+IF($X$7=0,AC21,((AC21/$X$7)*100))","v":{"$error":"#N/A"}},{"$error":"#N/A"}]
[null,null,null,null,null,null,null,"Interquartile Area",null,{"$f":"+H20","v":0},"to",{"$f":"+L20","v":0},null,null,null,null,null,null,null,null,0,0,0,0,null,null,"Mode #4",{"$error":"#N/A"},{"$error":"#N/A"}]
[null,null,null,null,null,null,null,null,null,null,null,null,null,null,null,null,null,null,null,null,0,0,0,0]
[null,null,null,null,null,null,"Confidence Interval",null,null,null,null,null,null,null,null,null,null,null,null,null,0,0,0,0,null,null,"q1-min",{"$f":"+H20-L11","v":0}]
[null,null,null,null,null,null,"CI commences with sample size >5. The bigger the sample, the more accurate the CI.",null,null,null,null,null,null,null,null,null,null,null,null,null,0,0,0,0,null,null,"q1",{"$f":"+H20","v":0}]
[null,null,null,null,null,null,"Confidence Interval",null,null,{"$f":"+IF(H11<=5,\"\",(H15-AB17))","v":""},"to",{"$f":"+IF(H11<=5,\"\",(H15+AB17))","v":""},null,null,null,null,null,null,null,null,0,0,0,0,null,null,"median-q1",{"$f":"+J15-H20","v":{"$error":"#NUM!"}}]
[null,null,null,null,null,null,null,null,null,null,null,null,null,null,null,null,null,null,null,null,0,0,0,0,null,null,"median"]
[null,null,null,null,null,null,null,null,null,null,null,null,null,null,null,null,null,null,null,null,0,0,0,0,null,null,"Q3-median",{"$f":"+L20-J15","v":{"$error":"#NUM!"}}]
[null,null,null,null,null,null,null,null,null,null,null,null,null,null,null,null,null,null,null,null,0,0,0,0,null,null,"Max-q3",{"$f":"+N11-L20","v":0}]
[null,null,null,null,null,null,null,null,null,null,null,null,null,null,null,null,null,null,null,null,0,0,0,0,null,null,"Mean",{"$f":"+H15","v":{"$error":"#DIV/0!"}}]
[null,null,null,null,null,null,null,null,null,null,null,null,null,null,null,null,null,null,null,null,0,0,0,0]
[null,null,null,null,null,null,null,null,"Percentile %",0.9,null,{"$f":"IF(H11=0,\"\",PERCENTILE($B$9:$E$100,J32))","v":""},null,null,null,null,null,null,null,null,0,0,0,0,null,null,{"$f":"+J26","v":""},{"$f":"+AC32-AA32","v":{"$error":"#VALUE!"}},{"$f":"+L26","v":""}]
[null,null,null,null,null,null,null,null,null,null,null,null,null,null,null,null,null,null,null,null,0,0,0,0]
[null,null,null,null,null,null,null,"Standard Deviation",null,{"$f":"+AB13","v":{"$error":"#DIV/0!"}},null,null,null,null,null,null,null,null,null,null,0,0,0,0]
[null,null,null,null,null,null,null,null,null,null,null,null,null,null,null,null,null,null,null,null,0,0,0,0]
[null,null,null,null,null,null,null,null,null,null,null,null,null,null,null,null,null,null,null,null,0,0,0,0]
[null,null,null,null,null,null,null,null,null,null,null,null,null,null,null,null,null,null,null,null,0,0,0,0]
[null,null,null,null,null,null,null,null,null,null,null,null,null,null,null,null,null,null,null,null,0,0,0,0]
[null,null,null,null,null,null,null,null,null,null,null,null,null,null,null,null,null,null,null,null,0,0,0,0]
[null,null,null,null,null,null,null,null,null,null,null,null,null,null,null,null,null,null,null,null,0,0,0,0]
[null,null,null,null,null,null,null,null,null,null,null,null,null,null,null,null,null,null,null,null,{"$f":"+IF($X$7=0,B41,((B41/$X$7)*100))","v":0},{"$f":"+IF($X$7=0,C41,((C41/$X$7)*100))","v":0},{"$f":"+IF($X$7=0,D41,((D41/$X$7)*100))","v":0},{"$f":"+IF($X$7=0,E41,((E41/$X$7)*100))","v":0}]
[null,null,null,null,null,null,null,null,null,null,null,null,null,null,null,null,null,null,null,null,0,0,0,0]
[null,null,null,null,null,null,null,null,null,null,null,null,null,null,null,null,null,null,null,null,0,0,0,0]
[null,null,null,null,null,null,null,null,null,null,null,null,null,null,null,null,null,null,null,null,0,0,0,0]
[null,null,null,null,null,null,null,null,null,null,null,null,null,null,null,null,null,null,null,null,0,0,0,0]
[null,null,null,null,null,null,null,null,null,null,null,null,null,null,null,null,null,null,null,null,0,0,0,0]
[null,null,null,null,null,null,null,null,null,null,null,null,null,null,null,null,null,null,null,null,0,0,0,0]
[null,null,null,null,null,null,null,null,null,null,null,null,null,null,null,null,null,null,null,null,0,0,0,0]
[null,null,null,null,null,null,null,null,null,null,null,null,null,null,null,null,null,null,null,null,0,0,0,0]
[null,null,null,null,null,null,null,null,null,null,null,null,null,null,null,null,null,null,null,null,0,0,0,0]
[null,null,null,null,null,null,null,null,null,null,null,null,null,null,null,null,null,null,null,null,0,0,0,0]
[null,null,null,null,null,null,null,null,null,null,null,null,null,null,null,null,null,null,null,null,0,0,0,0]
[null,null,null,null,null,null,null,null,null,null,null,null,null,null,null,null,null,null,null,null,0,0,0,0]
[null,null,null,null,null,null,null,null,null,null,null,null,null,null,null,null,null,null,null,null,0,0,0,0]
[null,null,null,null,null,null,null,null,null,null,null,null,null,null,null,null,null,null,null,null,0,0,0,0]
[null,null,null,null,null,null,null,null,null,null,null,null,null,null,null,null,null,null,null,null,0,0,0,0]
[null,null,null,null,null,null,null,null,null,null,null,null,null,null,null,null,null,null,null,null,0,0,0,0]
[null,null,null,null,null,null,null,null,null,null,null,null,null,null,null,null,null,null,null,null,0,0,0,0]
[null,null,null,null,null,null,null,null,null,null,null,null,null,null,null,null,null,null,null,null,0,0,0,0]
[null,null,null,null,null,null,null,null,null,null,null,null,null,null,null,null,null,null,null,null,0,0,0,0]
[null,null,null,null,null,null,null,null,null,null,null,null,null,null,null,null,null,null,null,null,0,0,0,0]
[null,null,null,null,null,null,null,null,null,null,null,null,null,null,null,null,null,null,null,null,0,0,0,0]
[null,null,null,null,null,null,null,null,null,null,null,null,null,null,null,null,null,null,null,null,0,0,0,0]
[null,null,null,null,null,null,null,null,null,null,null,null,null,null,null,null,null,null,null,null,0,0,0,0]
[null,null,null,null,null,null,null,null,null,null,null,null,null,null,null,null,null,null,null,null,0,0,0,0]
[null,null,null,null,null,null,null,null,null,null,null,null,null,null,null,null,null,null,null,null,0,0,0,0]
[null,null,null,null,null,null,null,null,null,null,null,null,null,null,null,null,null,null,null,null,0,0,0,0]
[null,null,null,null,null,null,null,null,null,null,null,null,null,null,null,null,null,null,null,null,0,0,0,0]
[null,null,null,null,null,null,null,null,null,null,null,null,null,null,null,null,null,null,null,null,0,0,0,0]
[null,null,null,null,null,null,null,null,null,null,null,null,null,null,null,null,null,null,null,null,0,0,0,0]
[null,null,null,null,null,null,null,null,null,null,null,null,null,null,null,null,null,null,null,null,0,0,0,0]
[null,null,null,null,null,null,null,null,null,null,null,null,null,null,null,null,null,null,null,null,0,0,0,0]
[null,null,null,null,null,null,null,null,null,null,null,null,null,null,null,null,null,null,null,null,{"$f":"+IF($X$7=0,B73,((B73/$X$7)*100))","v":0},{"$f":"+IF($X$7=0,C73,((C73/$X$7)*100))","v":0},{"$f":"+IF($X$7=0,D73,((D73/$X$7)*100))","v":0},{"$f":"+IF($X$7=0,E73,((E73/$X$7)*100))","v":0}]
[null,null,null,null,null,null,null,null,null,null,null,null,null,null,null,null,null,null,null,null,0,0,0,0]
[null,null,null,null,null,null,null,null,null,null,null,null,null,null,null,null,null,null,null,null,0,0,0,0]
[null,null,null,null,null,null,null,null,null,null,null,null,null,null,null,null,null,null,null,null,0,0,0,0]
[null,null,null,null,null,null,null,null,null,null,null,null,null,null,null,null,null,null,null,null,0,0,0,0]
[null,null,null,null,null,null,null,null,null,null,null,null,null,null,null,null,null,null,null,null,0,0,0,0]
[null,null,null,null,null,null,null,null,null,null,null,null,null,null,null,null,null,null,null,null,0,0,0,0]
[null,null,null,null,null,null,null,null,null,null,null,null,null,null,null,null,null,null,null,null,0,0,0,0]
[null,null,null,null,null,null,null,null,null,null,null,null,null,null,null,null,null,null,null,null,0,0,0,0]
[null,null,null,null,null,null,null,null,null,null,null,null,null,null,null,null,null,null,null,null,0,0,0,0]
[null,null,null,null,null,null,null,null,null,null,null,null,null,null,null,null,null,null,null,null,0,0,0,0]
[null,null,null,null,null,null,null,null,null,null,null,null,null,null,null,null,null,null,null,null,0,0,0,0]
[null,null,null,null,null,null,null,null,null,null,null,null,null,null,null,null,null,null,null,null,0,0,0,0]
[null,null,null,null,null,null,null,null,null,null,null,null,null,null,null,null,null,null,null,null,0,0,0,0]
[null,null,null,null,null,null,null,null,null,null,null,null,null,null,null,null,null,null,null,null,0,0,0,0]
[null,null,null,null,null,null,null,null,null,null,null,null,null,null,null,null,null,null,null,null,0,0,0,0]
[null,null,null,null,null,null,null,null,null,null,null,null,null,null,null,null,null,null,null,null,0,0,0,0]
[null,null,null,null,null,null,null,null,null,null,null,null,null,null,null,null,null,null,null,null,0,0,0,0]
[null,null,null,null,null,null,null,null,null,null,null,null,null,null,null,null,null,null,null,null,0,0,0,0]
[null,null,null,null,null,null,null,null,null,null,null,null,null,null,null,null,null,null,null,null,0,0,0,0]
[null,null,null,null,null,null,null,null,null,null,null,null,null,null,null,null,null,null,null,null,0,0,0,0]
[null,null,null,null,null,null,null,null,null,null,null,null,null,null,null,null,null,null,null,null,0,0,0,0]
[null,null,null,null,null,null,null,null,null,null,null,null,null,null,null,null,null,null,null,null,0,0,0,0]
[null,null,null,null,null,null,null,null,null,null,null,null,null,null,null,null,null,null,null,null,0,0,0,0]
[null,null,null,null,null,null,null,null,null,null,null,null,null,null,null,null,null,null,null,null,0,0,0,0]
[null,null,null,null,null,null,null,null,null,null,null,null,null,null,null,null,null,null,null,null,0,0,0,0]
[null,null,null,null,null,null,null,null,null,null,null,null,null,null,null,null,null,null,null,null,0,0,0,0]
[null,null,null,null,null,null,null,null,null,null,null,null,null,null,null,null,null,null,null,null,0,0,0,0]

{"sheet":"TEC4","index":6,"n_rows":100,"n_cols":29,"rows_kept":100,"cut":false,"hidden":false,"merged":[[13,25,13,26],[16,9,16,10],[17,6,17,13],[21,7,21,8],[1,24,3,24],[4,15,4,18],[5,17,7,18],[5,20,5,22],[6,20,6,22],[23,6,23,13],[25,6,25,8],[4,19,4,23],[8,6,8,13],[12,6,12,13]]}
[]
[null,null,null,null,null,null,null,null,null,null,null,null,null,null,null,null,null,null,null,null,null,null,{"$f":"+IF($B$9>1,\"AKA Nigel\",\"\")","v":""},null,{"$f":"+IF($B$9>1,\"AKA Nigel\",\"\")","v":""}]
[]
[]
[null," Centre for Education Statistics and Evaluation",null,null,null,null,null,null,null,null,null,null,null,null,null,"Class Name:",null,null,null,"Ms Galley"]
[null,null,null,null,null,null,null,null,null,null,null,null,null,null,null,null,null,null,null,null,"To convert to %"]
[null,null,null,null,null,null,null,null,null,null,null,null,null,null,null,null,null,null,null,null,"Maximum value"]
[]
[null,null,null,null,null,null,"Basics",null,null,null,null,null,null,null,null,null,null,null,null,null,{"$f":"+IF($X$7=0,B9,((B9/$X$7)*100))","v":0},{"$f":"+IF($X$7=0,C9,((C9/$X$7)*100))","v":0},{"$f":"+IF($X$7=0,D9,((D9/$X$7)*100))","v":0},{"$f":"+IF($X$7=0,E9,((E9/$X$7)*100))","v":0}]
[null,null,null,null,null,null,null,"Count",null,"Sum",null,"Min",null,"Max",null,null,null,null,null,null,0,0,0,0]
[null,null,null,null,null,null,null,{"$f":"COUNTIF(U9:X100,\">1\")","v":0},null,{"$f":"SUM($U$9:$X$100)","v":0},null,{"$f":"+MIN(IF($U$9:$X$100>1,$U$9:$X$100))","v":0},null,{"$f":"MAX($U$9:$X$100)","v":0},null,null,null,null,null,null,0,0,0,0]
[null,null,null,null,null,null,null,null,null,null,null,null,null,null,null,null,null,null,null,null,0,0,0,0]
[null,null,null,null,null,null,"Measures of Central Tendency",null,null,null,null,null,null,null,null,null,null,null,null,null,0,0,0,0,null,null,"Standard Deviation",{"$f":"STDEV(IF(U9:X100<>0,U9:X100))","v":{"$error":"#DIV/0!"}}]
[null,null,null,null,null,null,null,"Mean",null,"Median",null,"Mode 1 ",null,"Mode 2,3",null,null,null,null,null,null,0,0,0,0,null,"Square Root of no: values",null,{"$f":"SQRT(H11)","v":0}]
[null,null,null,null,null,null,null,{"$f":"+AVERAGEIF($U$9:$X$100,\">1\",$U$9:$X$100)","v":{"$error":"#DIV/0!"}},null,{"$f":"+MEDIAN(IF($U$9:$X$100<>0,$U$9:$X$100))","v":{"$error":"#NUM!"}},null,{"$f":"+AB19","v":{"$error":"#N/A"}},null,{"$f":"+IF(AB20=L15,\"\",AB20)","v":{"$error":"#N/A"}},null,null,null,null,null,null,0,0,0,0,null,null," Standard Error (SE)",{"$f":"+IF(AB14=0,0,(AB13/AB14))","v":0}]
[null,null,null,null,null,null,null,null,null,null,null,null,null,{"$f":"+IF(AB21=L15,\"\",AB21)","v":{"$error":"#N/A"}},null,null,null,null,null,null,0,0,0,0,null,null,"T-distribution probability figure",0.95,{"$f":"+IF(H11=0,0,VLOOKUP(H11,Sheet2!C2:D65,2,TRUE))","v":0}]
[null,null,null,null,null,null,null,null,null,null,null,null,null,null,null,null,null,null,null,null,0,0,0,0,null,null,"SE x T-distribution figure",{"$f":"IF(AC16=\"\",0,AB15*AC16)","v":0}]
[null,null,null,null,null,null,"Quartiles - Interquartile area/range",null,null,null,null,null,null,null,null,null,null,null,null,null,0,0,0,0,null,null,"Variance",{"$f":"+IF(H11=0,\"\",_xlfn.VAR.S($B$9:$E$100))","v":""}]
[null,null,null,null,null,null,null,"Lower Quartile",null,"Middle Quartile",null,"Upper Quartile",null,null,null,null,null,null,null,null,0,0,0,0,null,null,"Mode #1",{"$f":"+IF($X$7=0,AC19,((AC19/$X$7)*100))","v":{"$error":"#N/A"}},{"$f":"_xlfn.MODE.MULT($B$9:$E$100,$B$9:$E$100)","v":{"$error":"#N/A"}}]
[null,null,null,null,null,null,null,{"$f":"IF(H11=0,0,QUARTILE(IF($U$9:$X$100>1,$U$9:$X$100),1))","v":0},null,{"$f":"IF(H11=0,0,QUARTILE(IF($U$9:$X$100>1,$U$9:$X$100),2))","v":0},null,{"$f":"IF(H11=0,0,QUARTILE(IF($U$9:$X$100>1,$U$9:$X$100),3))","v":0},null,null,null,null,null,null,null,null,0,0,0,0,null,null,"Mode #2",{"$f":"+IF($X$7=0,AC20,((AC20/$X$7)*100))","v":{"$error":"#N/A"}},{"$error":"#N/A"}]
[null,null,null,null,null,null,null,null,null,null,null,null,null,null,null,null,null,null,null,null,0,0,0,0,null,null,"Mode #3",{"$f":"+IF($X$7=0,AC21,((AC21/$X$7)*100))","v":{"$error":"#N/A"}},{"$error":"#N/A"}]
[null,null,null,null,null,null,null,"Interquartile Area",null,{"$f":"+H20","v":0},"to",{"$f":"+L20","v":0},null,null,null,null,null,null,null,null,0,0,0,0,null,null,"Mode #4",{"$error":"#N/A"},{"$error":"#N/A"}]
[null,null,null,null,null,null,null,null,null,null,null,null,null,null,null,null,null,null,null,null,0,0,0,0]
[null,null,null,null,null,null,"Confidence Interval",null,null,null,null,null,null,null,null,null,null,null,null,null,0,0,0,0,null,null,"q1-min",{"$f":"+H20-L11","v":0}]
[null,null,null,null,null,null,"CI commences with sample size >5. The bigger the sample, the more accurate the CI.",null,null,null,null,null,null,null,null,null,null,null,null,null,0,0,0,0,null,null,"q1",{"$f":"+H20","v":0}]
[null,null,null,null,null,null,"Confidence Interval",null,null,{"$f":"+IF(H11<=5,\"\",(H15-AB17))","v":""},"to",{"$f":"+IF(H11<=5,\"\",(H15+AB17))","v":""},null,null,null,null,null,null,null,null,0,0,0,0,null,null,"median-q1",{"$f":"+J15-H20","v":{"$error":"#NUM!"}}]
[null,null,null,null,null,null,null,null,null,null,null,null,null,null,null,null,null,null,null,null,0,0,0,0,null,null,"median"]
[null,null,null,null,null,null,null,null,null,null,null,null,null,null,null,null,null,null,null,null,0,0,0,0,null,null,"Q3-median",{"$f":"+L20-J15","v":{"$error":"#NUM!"}}]
[null,null,null,null,null,null,null,null,null,null,null,null,null,null,null,null,null,null,null,null,0,0,0,0,null,null,"Max-q3",{"$f":"+N11-L20","v":0}]
[null,null,null,null,null,null,null,null,null,null,null,null,null,null,null,null,null,null,null,null,0,0,0,0,null,null,"Mean",{"$f":"+H15","v":{"$error":"#DIV/0!"}}]
[null,null,null,null,null,null,null,null,null,null,null,null,null,null,null,null,null,null,null,null,0,0,0,0]
[null,null,null,null,null,null,null,null,"Percentile %",0.9,null,{"$f":"IF(H11=0,\"\",PERCENTILE($B$9:$E$100,J32))","v":""},null,null,null,null,null,null,null,null,0,0,0,0,null,null,{"$f":"+J26","v":""},{"$f":"+AC32-AA32","v":{"$error":"#VALUE!"}},{"$f":"+L26","v":""}]
[null,null,null,null,null,null,null,null,null,null,null,null,null,null,null,null,null,null,null,null,0,0,0,0]
[null,null,null,null,null,null,null,"Standard Deviation",null,{"$f":"+AB13","v":{"$error":"#DIV/0!"}},null,null,null,null,null,null,null,null,null,null,0,0,0,0]
[null,null,null,null,null,null,null,null,null,null,null,null,null,null,null,null,null,null,null,null,0,0,0,0]
[null,null,null,null,null,null,null,null,null,null,null,null,null,null,null,null,null,null,null,null,0,0,0,0]
[null,null,null,null,null,null,null,null,null,null,null,null,null,null,null,null,null,null,null,null,0,0,0,0]
[null,null,null,null,null,null,null,null,null,null,null,null,null,null,null,null,null,null,null,null,0,0,0,0]
[null,null,null,null,null,null,null,null,null,null,null,null,null,null,null,null,null,null,null,null,0,0,0,0]
[null,null,null,null,null,null,null,null,null,null,null,null,null,null,null,null,null,null,null,null,0,0,0,0]
[null,null,null,null,null,null,null,null,null,null,null,null,null,null,null,null,null,null,null,null,{"$f":"+IF($X$7=0,B41,((B41/$X$7)*100))","v":0},{"$f":"+IF($X$7=0,C41,((C41/$X$7)*100))","v":0},{"$f":"+IF($X$7=0,D41,((D41/$X$7)*100))","v":0},{"$f":"+IF($X$7=0,E41,((E41/$X$7)*100))","v":0}]
[null,null,null,null,null,null,null,null,null,null,null,null,null,null,null,null,null,null,null,null,0,0,0,0]
[null,null,null,null,null,null,null,null,null,null,null,null,null,null,null,null,null,null,null,null,0,0,0,0]
[null,null,null,null,null,null,null,null,null,null,null,null,null,null,null,null,null,null,null,null,0,0,0,0]
[null,null,null,null,null,null,null,null,null,null,null,null,null,null,null,null,null,null,null,null,0,0,0,0]
[null,null,null,null,null,null,null,null,null,null,null,null,null,null,null,null,null,null,null,null,0,0,0,0]
[null,null,null,null,null,null,null,null,null,null,null,null,null,null,null,null,null,null,null,null,0,0,0,0]
[null,null,null,null,null,null,null,null,null,null,null,null,null,null,null,null,null,null,null,null,0,0,0,0]
[null,null,null,null,null,null,null,null,null,null,null,null,null,null,null,null,null,null,null,null,0,0,0,0]
[null,null,null,null,null,null,null,null,null,null,null,null,null,null,null,null,null,null,null,null,0,0,0,0]
[null,null,null,null,null,null,null,null,null,null,null,null,null,null,null,null,null,null,null,null,0,0,0,0]
[null,null,null,null,null,null,null,null,null,null,null,null,null,null,null,null,null,null,null,null,0,0,0,0]
[null,null,null,null,null,null,null,null,null,null,null,null,null,null,null,null,null,null,null,null,0,0,0,0]
[null,null,null,null,null,null,null,null,null,null,null,null,null,null,null,null,null,null,null,null,0,0,0,0]
[null,null,null,null,null,null,null,null,null,null,null,null,null,null,null,null,null,null,null,null,0,0,0,0]
[null,null,null,null,null,null,null,null,null,null,null,null,null,null,null,null,null,null,null,null,0,0,0,0]
[null,null,null,null,null,null,null,null,null,null,null,null,null,null,null,null,null,null,null,null,0,0,0,0]
[null,null,null,null,null,null,null,null,null,null,null,null,null,null,null,null,null,null,null,null,0,0,0,0]
[null,null,null,null,null,null,null,null,null,null,null,null,null,null,null,null,null,null,null,null,0,0,0,0]
[null,null,null,null,null,null,null,null,null,null,null,null,null,null,null,null,null,null,null,null,0,0,0,0]
[null,null,null,null,null,null,null,null,null,null,null,null,null,null,null,null,null,null,null,null,0,0,0,0]
[null,null,null,null,null,null,null,null,null,null,null,null,null,null,null,null,null,null,null,null,0,0,0,0]
[null,null,null,null,null,null,null,null,null,null,null,null,null,null,null,null,null,null,null,null,0,0,0,0]
[null,null,null,null,null,null,null,null,null,null,null,null,null,null,null,null,null,null,null,null,0,0,0,0]
[null,null,null,null,null,null,null,null,null,null,null,null,null,null,null,null,null,null,null,null,0,0,0,0]
[null,null,null,null,null,null,null,null,null,null,null,null,null,null,null,null,null,null,null,null,0,0,0,0]
[null,null,null,null,null,null,null,null,null,null,null,null,null,null,null,null,null,null,null,null,0,0,0,0]
[null,null,null,null,null,null,null,null,null,null,null,null,null,null,null,null,null,null,null,null,0,0,0,0]
[null,null,null,null,null,null,null,null,null,null,null,null,null,null,null,null,null,null,null,null,0,0,0,0]
[null,null,null,null,null,null,null,null,null,null,null,null,null,null,null,null,null,null,null,null,0,0,0,0]
[null,null,null,null,null,null,null,null,null,null,null,null,null,null,null,null,null,null,null,null,0,0,0,0]
[null,null,null,null,null,null,null,null,null,null,null,null,null,null,null,null,null,null,null,null,0,0,0,0]
[null,null,null,null,null,null,null,null,null,null,null,null,null,null,null,null,null,null,null,null,{"$f":"+IF($X$7=0,B73,((B73/$X$7)*100))","v":0},{"$f":"+IF($X$7=0,C73,((C73/$X$7)*100))","v":0},{"$f":"+IF($X$7=0,D73,((D73/$X$7)*100))","v":0},{"$f":"+IF($X$7=0,E73,((E73/$X$7)*100))","v":0}]
[null,null,null,null,null,null,null,null,null,null,null,null,null,null,null,null,null,null,null,null,0,0,0,0]
[null,null,null,null,null,null,null,null,null,null,null,null,null,null,null,null,null,null,null,null,0,0,0,0]
[null,null,null,null,null,null,null,null,null,null,null,null,null,null,null,null,null,null,null,null,0,0,0,0]
[null,null,null,null,null,null,null,null,null,null,null,null,null,null,null,null,null,null,null,null,0,0,0,0]
[null,null,null,null,null,null,null,null,null,null,null,null,null,null,null,null,null,null,null,null,0,0,0,0]
[null,null,null,null,null,null,null,null,null,null,null,null,null,null,null,null,null,null,null,null,0,0,0,0]
[null,null,null,null,null,null,null,null,null,null,null,null,null,null,null,null,null,null,null,null,0,0,0,0]
[null,null,null,null,null,null,null,null,null,null,null,null,null,null,null,null,null,null,null,null,0,0,0,0]
[null,null,null,null,null,null,null,null,null,null,null,null,null,null,null,null,null,null,null,null,0,0,0,0]
[null,null,null,null,null,null,null,null,null,null,null,null,null,null,null,null,null,null,null,null,0,0,0,0]
[null,null,null,null,null,null,null,null,null,null,null,null,null,null,null,null,null,null,null,null,0,0,0,0]
[null,null,null,null,null,null,null,null,null,null,null,null,null,null,null,null,null,null,null,null,0,0,0,0]
[null,null,null,null,null,null,null,null,null,null,null,null,null,null,null,null,null,null,null,null,0,0,0,0]
[null,null,null,null,null,null,null,null,null,null,null,null,null,null,null,null,null,null,null,null,0,0,0,0]
[null,null,null,null,null,null,null,null,null,null,null,null,null,null,null,null,null,null,null,null,0,0,0,0]
[null,null,null,null,null,null,null,null,null,null,null,null,null,null,null,null,null,null,null,null,0,0,0,0]
[null,null,null,null,null,null,null,null,null,null,null,null,null,null,null,null,null,null,null,null,0,0,0,0]
[null,null,null,null,null,null,null,null,null,null,null,null,null,null,null,null,null,null,null,null,0,0,0,0]
[null,null,null,null,null,null,null,null,null,null,null,null,null,null,null,null,null,null,null,null,0,0,0,0]
[null,null,null,null,null,null,null,null,null,null,null,null,null,null,null,null,null,null,null,null,0,0,0,0]
[null,null,null,null,null,null,null,null,null,null,null,null,null,null,null,null,null,null,null,null,0,0,0,0]
[null,null,null,null,null,null,null,null,null,null,null,null,null,null,null,null,null,null,null,null,0,0,0,0]
[null,null,null,null,null,null,null,null,null,null,null,null,null,null,null,null,null,null,null,null,0,0,0,0]
[null,null,null,null,null,null,null,null,null,null,null,null,null,null,null,null,null,null,null,null,0,0,0,0]
[null,null,null,null,null,null,null,null,null,null,null,null,null,null,null,null,null,null,null,null,0,0,0,0]
[null,null,null,null,null,null,null,null,null,null,null,null,null,null,null,null,null,null,null,null,0,0,0,0]
[null,null,null,null,null,null,null,null,null,null,null,null,null,null,null,null,null,null,null,null,0,0,0,0]

{"sheet":"TEC5","index":7,"n_rows":100,"n_cols":29,"rows_kept":100,"cut":false,"hidden":false,"merged":[[13,25,13,26],[16,9,16,10],[17,6,17,13],[21,7,21,8],[1,24,3,24],[4,15,4,18],[5,17,7,18],[5,20,5,22],[6,20,6,22],[23,6,23,13],[25,6,25,8],[4,19,4,23],[8,6,8,13],[12,6,12,13]]}
[]
[null,null,null,null,null,null,null,null,null,null,null,null,null,null,null,null,null,null,null,null,null,null,{"$f":"+IF($B$9>1,\"AKA Nigel\",\"\")","v":""},null,{"$f":"+IF($B$9>1,\"AKA Nigel\",\"\")","v":""}]
[]
[]
[null," Centre for Education Statistics and Evaluation",null,null,null,null,null,null,null,null,null,null,null,null,null,"Class Name:",null,null,null,"Ms Sendall"]
[null,null,null,null,null,null,null,null,null,null,null,null,null,null,null,null,null,null,null,null,"To convert to %"]
[null,null,null,null,null,null,null,null,null,null,null,null,null,null,null,null,null,null,null,null,"Maximum value"]
[]
[null,null,null,null,null,null,"Basics",null,null,null,null,null,null,null,null,null,null,null,null,null,{"$f":"+IF($X$7=0,B9,((B9/$X$7)*100))","v":0},{"$f":"+IF($X$7=0,C9,((C9/$X$7)*100))","v":0},{"$f":"+IF($X$7=0,D9,((D9/$X$7)*100))","v":0},{"$f":"+IF($X$7=0,E9,((E9/$X$7)*100))","v":0}]
[null,null,null,null,null,null,null,"Count",null,"Sum",null,"Min",null,"Max",null,null,null,null,null,null,0,0,0,0]
[null,null,null,null,null,null,null,{"$f":"COUNTIF(U9:X100,\">1\")","v":0},null,{"$f":"SUM($U$9:$X$100)","v":0},null,{"$f":"+MIN(IF($U$9:$X$100>1,$U$9:$X$100))","v":0},null,{"$f":"MAX($U$9:$X$100)","v":0},null,null,null,null,null,null,0,0,0,0]
[null,null,null,null,null,null,null,null,null,null,null,null,null,null,null,null,null,null,null,null,0,0,0,0]
[null,null,null,null,null,null,"Measures of Central Tendency",null,null,null,null,null,null,null,null,null,null,null,null,null,0,0,0,0,null,null,"Standard Deviation",{"$f":"STDEV(IF(U9:X100<>0,U9:X100))","v":{"$error":"#DIV/0!"}}]
[null,null,null,null,null,null,null,"Mean",null,"Median",null,"Mode 1 ",null,"Mode 2,3",null,null,null,null,null,null,0,0,0,0,null,"Square Root of no: values",null,{"$f":"SQRT(H11)","v":0}]
[null,null,null,null,null,null,null,{"$f":"+AVERAGEIF($U$9:$X$100,\">1\",$U$9:$X$100)","v":{"$error":"#DIV/0!"}},null,{"$f":"+MEDIAN(IF($U$9:$X$100<>0,$U$9:$X$100))","v":{"$error":"#NUM!"}},null,{"$f":"+AB19","v":{"$error":"#N/A"}},null,{"$f":"+IF(AB20=L15,\"\",AB20)","v":{"$error":"#N/A"}},null,null,null,null,null,null,0,0,0,0,null,null," Standard Error (SE)",{"$f":"+IF(AB14=0,0,(AB13/AB14))","v":0}]
[null,null,null,null,null,null,null,null,null,null,null,null,null,{"$f":"+IF(AB21=L15,\"\",AB21)","v":{"$error":"#N/A"}},null,null,null,null,null,null,0,0,0,0,null,null,"T-distribution probability figure",0.95,{"$f":"+IF(H11=0,0,VLOOKUP(H11,Sheet2!C2:D65,2,TRUE))","v":0}]
[null,null,null,null,null,null,null,null,null,null,null,null,null,null,null,null,null,null,null,null,0,0,0,0,null,null,"SE x T-distribution figure",{"$f":"IF(AC16=\"\",0,AB15*AC16)","v":0}]
[null,null,null,null,null,null,"Quartiles - Interquartile area/range",null,null,null,null,null,null,null,null,null,null,null,null,null,0,0,0,0,null,null,"Variance",{"$f":"+IF(H11=0,\"\",_xlfn.VAR.S($B$9:$E$100))","v":""}]
[null,null,null,null,null,null,null,"Lower Quartile",null,"Middle Quartile",null,"Upper Quartile",null,null,null,null,null,null,null,null,0,0,0,0,null,null,"Mode #1",{"$f":"+IF($X$7=0,AC19,((AC19/$X$7)*100))","v":{"$error":"#N/A"}},{"$f":"_xlfn.MODE.MULT($B$9:$E$100,$B$9:$E$100)","v":{"$error":"#N/A"}}]
[null,null,null,null,null,null,null,{"$f":"IF(H11=0,0,QUARTILE(IF($U$9:$X$100>1,$U$9:$X$100),1))","v":0},null,{"$f":"IF(H11=0,0,QUARTILE(IF($U$9:$X$100>1,$U$9:$X$100),2))","v":0},null,{"$f":"IF(H11=0,0,QUARTILE(IF($U$9:$X$100>1,$U$9:$X$100),3))","v":0},null,null,null,null,null,null,null,null,0,0,0,0,null,null,"Mode #2",{"$f":"+IF($X$7=0,AC20,((AC20/$X$7)*100))","v":{"$error":"#N/A"}},{"$error":"#N/A"}]
[null,null,null,null,null,null,null,null,null,null,null,null,null,null,null,null,null,null,null,null,0,0,0,0,null,null,"Mode #3",{"$f":"+IF($X$7=0,AC21,((AC21/$X$7)*100))","v":{"$error":"#N/A"}},{"$error":"#N/A"}]
[null,null,null,null,null,null,null,"Interquartile Area",null,{"$f":"+H20","v":0},"to",{"$f":"+L20","v":0},null,null,null,null,null,null,null,null,0,0,0,0,null,null,"Mode #4",{"$error":"#N/A"},{"$error":"#N/A"}]
[null,null,null,null,null,null,null,null,null,null,null,null,null,null,null,null,null,null,null,null,0,0,0,0]
[null,null,null,null,null,null,"Confidence Interval",null,null,null,null,null,null,null,null,null,null,null,null,null,0,0,0,0,null,null,"q1-min",{"$f":"+H20-L11","v":0}]
[null,null,null,null,null,null,"CI commences with sample size >5. The bigger the sample, the more accurate the CI.",null,null,null,null,null,null,null,null,null,null,null,null,null,0,0,0,0,null,null,"q1",{"$f":"+H20","v":0}]
[null,null,null,null,null,null,"Confidence Interval",null,null,{"$f":"+IF(H11<=5,\"\",(H15-AB17))","v":""},"to",{"$f":"+IF(H11<=5,\"\",(H15+AB17))","v":""},null,null,null,null,null,null,null,null,0,0,0,0,null,null,"median-q1",{"$f":"+J15-H20","v":{"$error":"#NUM!"}}]
[null,null,null,null,null,null,null,null,null,null,null,null,null,null,null,null,null,null,null,null,0,0,0,0,null,null,"median"]
[null,null,null,null,null,null,null,null,null,null,null,null,null,null,null,null,null,null,null,null,0,0,0,0,null,null,"Q3-median",{"$f":"+L20-J15","v":{"$error":"#NUM!"}}]
[null,null,null,null,null,null,null,null,null,null,null,null,null,null,null,null,null,null,null,null,0,0,0,0,null,null,"Max-q3",{"$f":"+N11-L20","v":0}]
[null,null,null,null,null,null,null,null,null,null,null,null,null,null,null,null,null,null,null,null,0,0,0,0,null,null,"Mean",{"$f":"+H15","v":{"$error":"#DIV/0!"}}]
[null,null,null,null,null,null,null,null,null,null,null,null,null,null,null,null,null,null,null,null,0,0,0,0]
[null,null,null,null,null,null,null,null,"Percentile %",0.9,null,{"$f":"IF(H11=0,\"\",PERCENTILE($B$9:$E$100,J32))","v":""},null,null,null,null,null,null,null,null,0,0,0,0,null,null,{"$f":"+J26","v":""},{"$f":"+AC32-AA32","v":{"$error":"#VALUE!"}},{"$f":"+L26","v":""}]
[null,null,null,null,null,null,null,null,null,null,null,null,null,null,null,null,null,null,null,null,0,0,0,0]
[null,null,null,null,null,null,null,"Standard Deviation",null,{"$f":"+AB13","v":{"$error":"#DIV/0!"}},null,null,null,null,null,null,null,null,null,null,0,0,0,0]
[null,null,null,null,null,null,null,null,null,null,null,null,null,null,null,null,null,null,null,null,0,0,0,0]
[null,null,null,null,null,null,null,null,null,null,null,null,null,null,null,null,null,null,null,null,0,0,0,0]
[null,null,null,null,null,null,null,null,null,null,null,null,null,null,null,null,null,null,null,null,0,0,0,0]
[null,null,null,null,null,null,null,null,null,null,null,null,null,null,null,null,null,null,null,null,0,0,0,0]
[null,null,null,null,null,null,null,null,null,null,null,null,null,null,null,null,null,null,null,null,0,0,0,0]
[null,null,null,null,null,null,null,null,null,null,null,null,null,null,null,null,null,null,null,null,0,0,0,0]
[null,null,null,null,null,null,null,null,null,null,null,null,null,null,null,null,null,null,null,null,{"$f":"+IF($X$7=0,B41,((B41/$X$7)*100))","v":0},{"$f":"+IF($X$7=0,C41,((C41/$X$7)*100))","v":0},{"$f":"+IF($X$7=0,D41,((D41/$X$7)*100))","v":0},{"$f":"+IF($X$7=0,E41,((E41/$X$7)*100))","v":0}]
[null,null,null,null,null,null,null,null,null,null,null,null,null,null,null,null,null,null,null,null,0,0,0,0]
[null,null,null,null,null,null,null,null,null,null,null,null,null,null,null,null,null,null,null,null,0,0,0,0]
[null,null,null,null,null,null,null,null,null,null,null,null,null,null,null,null,null,null,null,null,0,0,0,0]
[null,null,null,null,null,null,null,null,null,null,null,null,null,null,null,null,null,null,null,null,0,0,0,0]
[null,null,null,null,null,null,null,null,null,null,null,null,null,null,null,null,null,null,null,null,0,0,0,0]
[null,null,null,null,null,null,null,null,null,null,null,null,null,null,null,null,null,null,null,null,0,0,0,0]
[null,null,null,null,null,null,null,null,null,null,null,null,null,null,null,null,null,null,null,null,0,0,0,0]
[null,null,null,null,null,null,null,null,null,null,null,null,null,null,null,null,null,null,null,null,0,0,0,0]
[null,null,null,null,null,null,null,null,null,null,null,null,null,null,null,null,null,null,null,null,0,0,0,0]
[null,null,null,null,null,null,null,null,null,null,null,null,null,null,null,null,null,null,null,null,0,0,0,0]
[null,null,null,null,null,null,null,null,null,null,null,null,null,null,null,null,null,null,null,null,0,0,0,0]
[null,null,null,null,null,null,null,null,null,null,null,null,null,null,null,null,null,null,null,null,0,0,0,0]
[null,null,null,null,null,null,null,null,null,null,null,null,null,null,null,null,null,null,null,null,0,0,0,0]
[null,null,null,null,null,null,null,null,null,null,null,null,null,null,null,null,null,null,null,null,0,0,0,0]
[null,null,null,null,null,null,null,null,null,null,null,null,null,null,null,null,null,null,null,null,0,0,0,0]
[null,null,null,null,null,null,null,null,null,null,null,null,null,null,null,null,null,null,null,null,0,0,0,0]
[null,null,null,null,null,null,null,null,null,null,null,null,null,null,null,null,null,null,null,null,0,0,0,0]
[null,null,null,null,null,null,null,null,null,null,null,null,null,null,null,null,null,null,null,null,0,0,0,0]
[null,null,null,null,null,null,null,null,null,null,null,null,null,null,null,null,null,null,null,null,0,0,0,0]
[null,null,null,null,null,null,null,null,null,null,null,null,null,null,null,null,null,null,null,null,0,0,0,0]
[null,null,null,null,null,null,null,null,null,null,null,null,null,null,null,null,null,null,null,null,0,0,0,0]
[null,null,null,null,null,null,null,null,null,null,null,null,null,null,null,null,null,null,null,null,0,0,0,0]
[null,null,null,null,null,null,null,null,null,null,null,null,null,null,null,null,null,null,null,null,0,0,0,0]
[null,null,null,null,null,null,null,null,null,null,null,null,null,null,null,null,null,null,null,null,0,0,0,0]
[null,null,null,null,null,null,null,null,null,null,null,null,null,null,null,null,null,null,null,null,0,0,0,0]
[null,null,null,null,null,null,null,null,null,null,null,null,null,null,null,null,null,null,null,null,0,0,0,0]
[null,null,null,null,null,null,null,null,null,null,null,null,null,null,null,null,null,null,null,null,0,0,0,0]
[null,null,null,null,null,null,null,null,null,null,null,null,null,null,null,null,null,null,null,null,0,0,0,0]
[null,null,null,null,null,null,null,null,null,null,null,null,null,null,null,null,null,null,null,null,0,0,0,0]
[null,null,null,null,null,null,null,null,null,null,null,null,null,null,null,null,null,null,null,null,0,0,0,0]
[null,null,null,null,null,null,null,null,null,null,null,null,null,null,null,null,null,null,null,null,0,0,0,0]
[null,null,null,null,null,null,null,null,null,null,null,null,null,null,null,null,null,null,null,null,{"$f":"+IF($X$7=0,B73,((B73/$X$7)*100))","v":0},{"$f":"+IF($X$7=0,C73,((C73/$X$7)*100))","v":0},{"$f":"+IF($X$7=0,D73,((D73/$X$7)*100))","v":0},{"$f":"+IF($X$7=0,E73,((E73/$X$7)*100))","v":0}]
[null,null,null,null,null,null,null,null,null,null,null,null,null,null,null,null,null,null,null,null,0,0,0,0]
[null,null,null,null,null,null,null,null,null,null,null,null,null,null,null,null,null,null,null,null,0,0,0,0]
[null,null,null,null,null,null,null,null,null,null,null,null,null,null,null,null,null,null,null,null,0,0,0,0]
[null,null,null,null,null,null,null,null,null,null,null,null,null,null,null,null,null,null,null,null,0,0,0,0]
[null,null,null,null,null,null,null,null,null,null,null,null,null,null,null,null,null,null,null,null,0,0,0,0]
[null,null,null,null,null,null,null,null,null,null,null,null,null,null,null,null,null,null,null,null,0,0,0,0]
[null,null,null,null,null,null,null,null,null,null,null,null,null,null,null,null,null,null,null,null,0,0,0,0]
[null,null,null,null,null,null,null,null,null,null,null,null,null,null,null,null,null,null,null,null,0,0,0,0]
[null,null,null,null,null,null,null,null,null,null,null,null,null,null,null,null,null,null,null,null,0,0,0,0]
[null,null,null,null,null,null,null,null,null,null,null,null,null,null,null,null,null,null,null,null,0,0,0,0]
[null,null,null,null,null,null,null,null,null,null,null,null,null,null,null,null,null,null,null,null,0,0,0,0]
[null,null,null,null,null,null,null,null,null,null,null,null,null,null,null,null,null,null,null,null,0,0,0,0]
[null,null,null,null,null,null,null,null,null,null,null,null,null,null,null,null,null,null,null,null,0,0,0,0]
[null,null,null,null,null,null,null,null,null,null,null,null,null,null,null,null,null,null,null,null,0,0,0,0]
[null,null,null,null,null,null,null,null,null,null,null,null,null,null,null,null,null,null,null,null,0,0,0,0]
[null,null,null,null,null,null,null,null,null,null,null,null,null,null,null,null,null,null,null,null,0,0,0,0]
[null,null,null,null,null,null,null,null,null,null,null,null,null,null,null,null,null,null,null,null,0,0,0,0]
[null,null,null,null,null,null,null,null,null,null,null,null,null,null,null,null,null,null,null,null,0,0,0,0]
[null,null,null,null,null,null,null,null,null,null,null,null,null,null,null,null,null,null,null,null,0,0,0,0]
[null,null,null,null,null,null,null,null,null,null,null,null,null,null,null,null,null,null,null,null,0,0,0,0]
[null,null,null,null,null,null,null,null,null,null,null,null,null,null,null,null,null,null,null,null,0,0,0,0]
[null,null,null,null,null,null,null,null,null,null,null,null,null,null,null,null,null,null,null,null,0,0,0,0]
[null,null,null,null,null,null,null,null,null,null,null,null,null,null,null,null,null,null,null,null,0,0,0,0]
[null,null,null,null,null,null,null,null,null,null,null,null,null,null,null,null,null,null,null,null,0,0,0,0]
[null,null,null,null,null,null,null,null,null,null,null,null,null,null,null,null,null,null,null,null,0,0,0,0]
[null,null,null,null,null,null,null,null,null,null,null,null,null,null,null,null,null,null,null,null,0,0,0,0]
[null,null,null,null,null,null,null,null,null,null,null,null,null,null,null,null,null,null,null,null,0,0,0,0]

{"sheet":"TEC6","index":8,"n_rows":100,"n_cols":29,"rows_kept":100,"cut":false,"hidden":false,"merged":[[13,25,13,26],[16,9,16,10],[17,6,17,13],[21,7,21,8],[1,24,3,24],[4,15,4,18],[5,17,7,18],[5,20,5,22],[6,20,6,22],[23,6,23,13],[25,6,25,8],[4,19,4,23],[8,6,8,13],[12,6,12,13]]}
[]
[null,null,null,null,null,null,null,null,null,null,null,null,null,null,null,null,null,null,null,null,null,null,{"$f":"+IF($B$9>1,\"AKA Nigel\",\"\")","v":""},null,{"$f":"+IF($B$9>1,\"AKA Nigel\",\"\")","v":""}]
[]
[]
[null," Centre for Education Statistics and Evaluation",null,null,null,null,null,null,null,null,null,null,null,null,null,"Class Name:",null,null,null,"Mr Chifley"]
[null,null,null,null,null,null,null,null,null,null,null,null,null,null,null,null,null,null,null,null,"To convert to %"]
[null,null,null,null,null,null,null,null,null,null,null,null,null,null,null,null,null,null,null,null,"Maximum value"]
[]
[null,null,null,null,null,null,"Basics",null,null,null,null,null,null,null,null,null,null,null,null,null,{"$f":"+IF($X$7=0,B9,((B9/$X$7)*100))","v":0},{"$f":"+IF($X$7=0,C9,((C9/$X$7)*100))","v":0},{"$f":"+IF($X$7=0,D9,((D9/$X$7)*100))","v":0},{"$f":"+IF($X$7=0,E9,((E9/$X$7)*100))","v":0}]
[null,null,null,null,null,null,null,"Count",null,"Sum",null,"Min",null,"Max",null,null,null,null,null,null,0,0,0,0]
[null,null,null,null,null,null,null,{"$f":"COUNTIF(U9:X100,\">1\")","v":0},null,{"$f":"SUM($U$9:$X$100)","v":0},null,{"$f":"+MIN(IF($U$9:$X$100>1,$U$9:$X$100))","v":0},null,{"$f":"MAX($U$9:$X$100)","v":0},null,null,null,null,null,null,0,0,0,0]
[null,null,null,null,null,null,null,null,null,null,null,null,null,null,null,null,null,null,null,null,0,0,0,0]
[null,null,null,null,null,null,"Measures of Central Tendency",null,null,null,null,null,null,null,null,null,null,null,null,null,0,0,0,0,null,null,"Standard Deviation",{"$f":"STDEV(IF(U9:X100<>0,U9:X100))","v":{"$error":"#DIV/0!"}}]
[null,null,null,null,null,null,null,"Mean",null,"Median",null,"Mode 1 ",null,"Mode 2,3",null,null,null,null,null,null,0,0,0,0,null,"Square Root of no: values",null,{"$f":"SQRT(H11)","v":0}]
[null,null,null,null,null,null,null,{"$f":"+AVERAGEIF($U$9:$X$100,\">1\",$U$9:$X$100)","v":{"$error":"#DIV/0!"}},null,{"$f":"+MEDIAN(IF($U$9:$X$100<>0,$U$9:$X$100))","v":{"$error":"#NUM!"}},null,{"$f":"+AB19","v":{"$error":"#N/A"}},null,{"$f":"+IF(AB20=L15,\"\",AB20)","v":{"$error":"#N/A"}},null,null,null,null,null,null,0,0,0,0,null,null," Standard Error (SE)",{"$f":"+IF(AB14=0,0,(AB13/AB14))","v":0}]
[null,null,null,null,null,null,null,null,null,null,null,null,null,{"$f":"+IF(AB21=L15,\"\",AB21)","v":{"$error":"#N/A"}},null,null,null,null,null,null,0,0,0,0,null,null,"T-distribution probability figure",0.95,{"$f":"+IF(H11=0,0,VLOOKUP(H11,Sheet2!C2:D65,2,TRUE))","v":0}]
[null,null,null,null,null,null,null,null,null,null,null,null,null,null,null,null,null,null,null,null,0,0,0,0,null,null,"SE x T-distribution figure",{"$f":"IF(AC16=\"\",0,AB15*AC16)","v":0}]
[null,null,null,null,null,null,"Quartiles - Interquartile area/range",null,null,null,null,null,null,null,null,null,null,null,null,null,0,0,0,0,null,null,"Variance",{"$f":"+IF(H11=0,\"\",_xlfn.VAR.S($B$9:$E$100))","v":""}]
[null,null,null,null,null,null,null,"Lower Quartile",null,"Middle Quartile",null,"Upper Quartile",null,null,null,null,null,null,null,null,0,0,0,0,null,null,"Mode #1",{"$f":"+IF($X$7=0,AC19,((AC19/$X$7)*100))","v":{"$error":"#N/A"}},{"$f":"_xlfn.MODE.MULT($B$9:$E$100,$B$9:$E$100)","v":{"$error":"#N/A"}}]
[null,null,null,null,null,null,null,{"$f":"IF(H11=0,0,QUARTILE(IF($U$9:$X$100>1,$U$9:$X$100),1))","v":0},null,{"$f":"IF(H11=0,0,QUARTILE(IF($U$9:$X$100>1,$U$9:$X$100),2))","v":0},null,{"$f":"IF(H11=0,0,QUARTILE(IF($U$9:$X$100>1,$U$9:$X$100),3))","v":0},null,null,null,null,null,null,null,null,0,0,0,0,null,null,"Mode #2",{"$f":"+IF($X$7=0,AC20,((AC20/$X$7)*100))","v":{"$error":"#N/A"}},{"$error":"#N/A"}]
[null,null,null,null,null,null,null,null,null,null,null,null,null,null,null,null,null,null,null,null,0,0,0,0,null,null,"Mode #3",{"$f":"+IF($X$7=0,AC21,((AC21/$X$7)*100))","v":{"$error":"#N/A"}},{"$error":"#N/A"}]
[null,null,null,null,null,null,null,"Interquartile Area",null,{"$f":"+H20","v":0},"to",{"$f":"+L20","v":0},null,null,null,null,null,null,null,null,0,0,0,0,null,null,"Mode #4",{"$error":"#N/A"},{"$error":"#N/A"}]
[null,null,null,null,null,null,null,null,null,null,null,null,null,null,null,null,null,null,null,null,0,0,0,0]
[null,null,null,null,null,null,"Confidence Interval",null,null,null,null,null,null,null,null,null,null,null,null,null,0,0,0,0,null,null,"q1-min",{"$f":"+H20-L11","v":0}]
[null,null,null,null,null,null,"CI commences with sample size >5. The bigger the sample, the more accurate the CI.",null,null,null,null,null,null,null,null,null,null,null,null,null,0,0,0,0,null,null,"q1",{"$f":"+H20","v":0}]
[null,null,null,null,null,null,"Confidence Interval",null,null,{"$f":"+IF(H11<=5,\"\",(H15-AB17))","v":""},"to",{"$f":"+IF(H11<=5,\"\",(H15+AB17))","v":""},null,null,null,null,null,null,null,null,0,0,0,0,null,null,"median-q1",{"$f":"+J15-H20","v":{"$error":"#NUM!"}}]
[null,null,null,null,null,null,null,null,null,null,null,null,null,null,null,null,null,null,null,null,0,0,0,0,null,null,"median"]
[null,null,null,null,null,null,null,null,null,null,null,null,null,null,null,null,null,null,null,null,0,0,0,0,null,null,"Q3-median",{"$f":"+L20-J15","v":{"$error":"#NUM!"}}]
[null,null,null,null,null,null,null,null,null,null,null,null,null,null,null,null,null,null,null,null,0,0,0,0,null,null,"Max-q3",{"$f":"+N11-L20","v":0}]
[null,null,null,null,null,null,null,null,null,null,null,null,null,null,null,null,null,null,null,null,0,0,0,0,null,null,"Mean",{"$f":"+H15","v":{"$error":"#DIV/0!"}}]
[null,null,null,null,null,null,null,null,null,null,null,null,null,null,null,null,null,null,null,null,0,0,0,0]
[null,null,null,null,null,null,null,null,"Percentile %",0.9,null,{"$f":"IF(H11=0,\"\",PERCENTILE($B$9:$E$100,J32))","v":""},null,null,null,null,null,null,null,null,0,0,0,0,null,null,{"$f":"+J26","v":""},{"$f":"+AC32-AA32","v":{"$error":"#VALUE!"}},{"$f":"+L26","v":""}]
[null,null,null,null,null,null,null,null,null,null,null,null,null,null,null,null,null,null,null,null,0,0,0,0]
[null,null,null,null,null,null,null,"Standard Deviation",null,{"$f":"+AB13","v":{"$error":"#DIV/0!"}},null,null,null,null,null,null,null,null,null,null,0,0,0,0]
[null,null,null,null,null,null,null,null,null,null,null,null,null,null,null,null,null,null,null,null,0,0,0,0]
[null,null,null,null,null,null,null,null,null,null,null,null,null,null,null,null,null,null,null,null,0,0,0,0]
[null,null,null,null,null,null,null,null,null,null,null,null,null,null,null,null,null,null,null,null,0,0,0,0]
[null,null,null,null,null,null,null,null,null,null,null,null,null,null,null,null,null,null,null,null,0,0,0,0]
[null,null,null,null,null,null,null,null,null,null,null,null,null,null,null,null,null,null,null,null,0,0,0,0]
[null,null,null,null,null,null,null,null,null,null,null,null,null,null,null,null,null,null,null,null,0,0,0,0]
[null,null,null,null,null,null,null,null,null,null,null,null,null,null,null,null,null,null,null,null,{"$f":"+IF($X$7=0,B41,((B41/$X$7)*100))","v":0},{"$f":"+IF($X$7=0,C41,((C41/$X$7)*100))","v":0},{"$f":"+IF($X$7=0,D41,((D41/$X$7)*100))","v":0},{"$f":"+IF($X$7=0,E41,((E41/$X$7)*100))","v":0}]
[null,null,null,null,null,null,null,null,null,null,null,null,null,null,null,null,null,null,null,null,0,0,0,0]
[null,null,null,null,null,null,null,null,null,null,null,null,null,null,null,null,null,null,null,null,0,0,0,0]
[null,null,null,null,null,null,null,null,null,null,null,null,null,null,null,null,null,null,null,null,0,0,0,0]
[null,null,null,null,null,null,null,null,null,null,null,null,null,null,null,null,null,null,null,null,0,0,0,0]
[null,null,null,null,null,null,null,null,null,null,null,null,null,null,null,null,null,null,null,null,0,0,0,0]
[null,null,null,null,null,null,null,null,null,null,null,null,null,null,null,null,null,null,null,null,0,0,0,0]
[null,null,null,null,null,null,null,null,null,null,null,null,null,null,null,null,null,null,null,null,0,0,0,0]
[null,null,null,null,null,null,null,null,null,null,null,null,null,null,null,null,null,null,null,null,0,0,0,0]
[null,null,null,null,null,null,null,null,null,null,null,null,null,null,null,null,null,null,null,null,0,0,0,0]
[null,null,null,null,null,null,null,null,null,null,null,null,null,null,null,null,null,null,null,null,0,0,0,0]
[null,null,null,null,null,null,null,null,null,null,null,null,null,null,null,null,null,null,null,null,0,0,0,0]
[null,null,null,null,null,null,null,null,null,null,null,null,null,null,null,null,null,null,null,null,0,0,0,0]
[null,null,null,null,null,null,null,null,null,null,null,null,null,null,null,null,null,null,null,null,0,0,0,0]
[null,null,null,null,null,null,null,null,null,null,null,null,null,null,null,null,null,null,null,null,0,0,0,0]
[null,null,null,null,null,null,null,null,null,null,null,null,null,null,null,null,null,null,null,null,0,0,0,0]
[null,null,null,null,null,null,null,null,null,null,null,null,null,null,null,null,null,null,null,null,0,0,0,0]
[null,null,null,null,null,null,null,null,null,null,null,null,null,null,null,null,null,null,null,null,0,0,0,0]
[null,null,null,null,null,null,null,null,null,null,null,null,null,null,null,null,null,null,null,null,0,0,0,0]
[null,null,null,null,null,null,null,null,null,null,null,null,null,null,null,null,null,null,null,null,0,0,0,0]
[null,null,null,null,null,null,null,null,null,null,null,null,null,null,null,null,null,null,null,null,0,0,0,0]
[null,null,null,null,null,null,null,null,null,null,null,null,null,null,null,null,null,null,null,null,0,0,0,0]
[null,null,null,null,null,null,null,null,null,null,null,null,null,null,null,null,null,null,null,null,0,0,0,0]
[null,null,null,null,null,null,null,null,null,null,null,null,null,null,null,null,null,null,null,null,0,0,0,0]
[null,null,null,null,null,null,null,null,null,null,null,null,null,null,null,null,null,null,null,null,0,0,0,0]
[null,null,null,null,null,null,null,null,null,null,null,null,null,null,null,null,null,null,null,null,0,0,0,0]
[null,null,null,null,null,null,null,null,null,null,null,null,null,null,null,null,null,null,null,null,0,0,0,0]
[null,null,null,null,null,null,null,null,null,null,null,null,null,null,null,null,null,null,null,null,0,0,0,0]
[null,null,null,null,null,null,null,null,null,null,null,null,null,null,null,null,null,null,null,null,0,0,0,0]
[null,null,null,null,null,null,null,null,null,null,null,null,null,null,null,null,null,null,null,null,0,0,0,0]
[null,null,null,null,null,null,null,null,null,null,null,null,null,null,null,null,null,null,null,null,0,0,0,0]
[null,null,null,null,null,null,null,null,null,null,null,null,null,null,null,null,null,null,null,null,0,0,0,0]
[null,null,null,null,null,null,null,null,null,null,null,null,null,null,null,null,null,null,null,null,{"$f":"+IF($X$7=0,B73,((B73/$X$7)*100))","v":0},{"$f":"+IF($X$7=0,C73,((C73/$X$7)*100))","v":0},{"$f":"+IF($X$7=0,D73,((D73/$X$7)*100))","v":0},{"$f":"+IF($X$7=0,E73,((E73/$X$7)*100))","v":0}]
[null,null,null,null,null,null,null,null,null,null,null,null,null,null,null,null,null,null,null,null,0,0,0,0]
[null,null,null,null,null,null,null,null,null,null,null,null,null,null,null,null,null,null,null,null,0,0,0,0]
[null,null,null,null,null,null,null,null,null,null,null,null,null,null,null,null,null,null,null,null,0,0,0,0]
[null,null,null,null,null,null,null,null,null,null,null,null,null,null,null,null,null,null,null,null,0,0,0,0]
[null,null,null,null,null,null,null,null,null,null,null,null,null,null,null,null,null,null,null,null,0,0,0,0]
[null,null,null,null,null,null,null,null,null,null,null,null,null,null,null,null,null,null,null,null,0,0,0,0]
[null,null,null,null,null,null,null,null,null,null,null,null,null,null,null,null,null,null,null,null,0,0,0,0]
[null,null,null,null,null,null,null,null,null,null,null,null,null,null,null,null,null,null,null,null,0,0,0,0]
[null,null,null,null,null,null,null,null,null,null,null,null,null,null,null,null,null,null,null,null,0,0,0,0]
[null,null,null,null,null,null,null,null,null,null,null,null,null,null,null,null,null,null,null,null,0,0,0,0]
[null,null,null,null,null,null,null,null,null,null,null,null,null,null,null,null,null,null,null,null,0,0,0,0]
[null,null,null,null,null,null,null,null,null,null,null,null,null,null,null,null,null,null,null,null,0,0,0,0]
[null,null,null,null,null,null,null,null,null,null,null,null,null,null,null,null,null,null,null,null,0,0,0,0]
[null,null,null,null,null,null,null,null,null,null,null,null,null,null,null,null,null,null,null,null,0,0,0,0]
[null,null,null,null,null,null,null,null,null,null,null,null,null,null,null,null,null,null,null,null,0,0,0,0]
[null,null,null,null,null,null,null,null,null,null,null,null,null,null,null,null,null,null,null,null,0,0,0,0]
[null,null,null,null,null,null,null,null,null,null,null,null,null,null,null,null,null,null,null,null,0,0,0,0]
[null,null,null,null,null,null,null,null,null,null,null,null,null,null,null,null,null,null,null,null,0,0,0,0]
[null,null,null,null,null,null,null,null,null,null,null,null,null,null,null,null,null,null,null,null,0,0,0,0]
[null,null,null,null,null,null,null,null,null,null,null,null,null,null,null,null,null,null,null,null,0,0,0,0]
[null,null,null,null,null,null,null,null,null,null,null,null,null,null,null,null,null,null,null,null,0,0,0,0]
[null,null,null,null,null,null,null,null,null,null,null,null,null,null,null,null,null,null,null,null,0,0,0,0]
[null,null,null,null,null,null,null,null,null,null,null,null,null,null,null,null,null,null,null,null,0,0,0,0]
[null,null,null,null,null,null,null,null,null,null,null,null,null,null,null,null,null,null,null,null,0,0,0,0]
[null,null,null,null,null,null,null,null,null,null,null,null,null,null,null,null,null,null,null,null,0,0,0,0]
[null,null,null,null,null,null,null,null,null,null,null,null,null,null,null,null,null,null,null,null,0,0,0,0]
[null,null,null,null,null,null,null,null,null,null,null,null,null,null,null,null,null,null,null,null,0,0,0,0]

{"sheet":"Sheet8","index":9,"n_rows":100,"n_cols":46,"rows_kept":100,"cut":false,"hidden":true,"merged":[[23,26,23,33],[25,26,25,28],[4,35,4,38],[5,37,7,38],[8,26,8,33],[13,40,13,41],[12,26,12,33],[16,29,16,30],[17,26,17,33],[21,27,21,28]]}
[]
[]
[]
[]
[null," Centre for Education Statistics and Evaluation",null,null,null,null,null,null,null,null,null,null,null,null,null,null,null,null,null,null,null,null,null,null,null,null,null,null,null,null,null,null,null,null,null,"Class Name:"]
[]
[]
[]
[null,{"$f":"+IF('TEC1'!U9=0,\"\",'TEC1'!U9)","v":""},{"$f":"+IF('TEC1'!V9=0,\"\",'TEC1'!V9)","v":""},{"$f":"+IF('TEC1'!W9=0,\"\",'TEC1'!W9)","v":""},{"$f":"+IF('TEC1'!X9=0,\"\",'TEC1'!X9)","v":""},{"$f":"+'TEC2'!U9","v":0},{"$f":"+'TEC2'!V9","v":0},{"$f":"+'TEC2'!W9","v":0},{"$f":"+'TEC2'!X9","v":0},{"$f":"+'TEC3'!U9","v":0},{"$f":"+'TEC3'!V9","v":0},{"$f":"+'TEC3'!W9","v":0},{"$f":"+'TEC3'!X9","v":0},{"$f":"+'TEC4'!U9","v":0},{"$f":"+'TEC4'!V9","v":0},{"$f":"+'TEC4'!W9","v":0},{"$f":"+'TEC4'!X9","v":0},{"$f":"+'TEC5'!U9","v":0},{"$f":"+'TEC5'!V9","v":0},{"$f":"+'TEC5'!W9","v":0},{"$f":"+'TEC5'!X9","v":0},{"$f":"+'TEC6'!U9","v":0},{"$f":"+'TEC6'!V9","v":0},{"$f":"+'TEC6'!W9","v":0},{"$f":"+'TEC6'!X9","v":0},null,"Basics"]
[null,{"$f":"+IF('TEC1'!U10=0,\"\",'TEC1'!U10)","v":""},{"$f":"+IF('TEC1'!V10=0,\"\",'TEC1'!V10)","v":""},{"$f":"+IF('TEC1'!W10=0,\"\",'TEC1'!W10)","v":""},{"$f":"+IF('TEC1'!X10=0,\"\",'TEC1'!X10)","v":""},{"$f":"+'TEC2'!U10","v":0},{"$f":"+'TEC2'!V10","v":0},{"$f":"+'TEC2'!W10","v":0},{"$f":"+'TEC2'!X10","v":0},{"$f":"+'TEC3'!U10","v":0},{"$f":"+'TEC3'!V10","v":0},{"$f":"+'TEC3'!W10","v":0},{"$f":"+'TEC3'!X10","v":0},{"$f":"+'TEC4'!U10","v":0},{"$f":"+'TEC4'!V10","v":0},{"$f":"+'TEC4'!W10","v":0},{"$f":"+'TEC4'!X10","v":0},{"$f":"+'TEC5'!U10","v":0},{"$f":"+'TEC5'!V10","v":0},{"$f":"+'TEC5'!W10","v":0},{"$f":"+'TEC5'!X10","v":0},{"$f":"+'TEC6'!U10","v":0},{"$f":"+'TEC6'!V10","v":0},{"$f":"+'TEC6'!W10","v":0},{"$f":"+'TEC6'!X10","v":0},null,null,"Count",null,"Sum",null,"Min",null,"Max"]
[null,{"$f":"+IF('TEC1'!U11=0,\"\",'TEC1'!U11)","v":""},{"$f":"+IF('TEC1'!V11=0,\"\",'TEC1'!V11)","v":""},{"$f":"+IF('TEC1'!W11=0,\"\",'TEC1'!W11)","v":""},{"$f":"+IF('TEC1'!X11=0,\"\",'TEC1'!X11)","v":""},{"$f":"+'TEC2'!U11","v":0},{"$f":"+'TEC2'!V11","v":0},{"$f":"+'TEC2'!W11","v":0},{"$f":"+'TEC2'!X11","v":0},{"$f":"+'TEC3'!U11","v":0},{"$f":"+'TEC3'!V11","v":0},{"$f":"+'TEC3'!W11","v":0},{"$f":"+'TEC3'!X11","v":0},{"$f":"+'TEC4'!U11","v":0},{"$f":"+'TEC4'!V11","v":0},{"$f":"+'TEC4'!W11","v":0},{"$f":"+'TEC4'!X11","v":0},{"$f":"+'TEC5'!U11","v":0},{"$f":"+'TEC5'!V11","v":0},{"$f":"+'TEC5'!W11","v":0},{"$f":"+'TEC5'!X11","v":0},{"$f":"+'TEC6'!U11","v":0},{"$f":"+'TEC6'!V11","v":0},{"$f":"+'TEC6'!W11","v":0},{"$f":"+'TEC6'!X11","v":0},null,null,{"$f":"COUNTIF($B$9:$Y$100,\">1\")","v":0},null,{"$f":"SUM(B9:Y100)","v":0},null,{"$f":"+MIN(IF(B9:Y100>1,B9:Y100))","v":0},null,{"$f":"MAX(B9:Y100)","v":0}]
[null,{"$f":"+IF('TEC1'!U12=0,\"\",'TEC1'!U12)","v":""},{"$f":"+IF('TEC1'!V12=0,\"\",'TEC1'!V12)","v":""},{"$f":"+IF('TEC1'!W12=0,\"\",'TEC1'!W12)","v":""},{"$f":"+IF('TEC1'!X12=0,\"\",'TEC1'!X12)","v":""},{"$f":"+'TEC2'!U12","v":0},{"$f":"+'TEC2'!V12","v":0},{"$f":"+'TEC2'!W12","v":0},{"$f":"+'TEC2'!X12","v":0},{"$f":"+'TEC3'!U12","v":0},{"$f":"+'TEC3'!V12","v":0},{"$f":"+'TEC3'!W12","v":0},{"$f":"+'TEC3'!X12","v":0},{"$f":"+'TEC4'!U12","v":0},{"$f":"+'TEC4'!V12","v":0},{"$f":"+'TEC4'!W12","v":0},{"$f":"+'TEC4'!X12","v":0},{"$f":"+'TEC5'!U12","v":0},{"$f":"+'TEC5'!V12","v":0},{"$f":"+'TEC5'!W12","v":0},{"$f":"+'TEC5'!X12","v":0},{"$f":"+'TEC6'!U12","v":0},{"$f":"+'TEC6'!V12","v":0},{"$f":"+'TEC6'!W12","v":0},{"$f":"+'TEC6'!X12","v":0}]
[null,{"$f":"+IF('TEC1'!U13=0,\"\",'TEC1'!U13)","v":""},{"$f":"+IF('TEC1'!V13=0,\"\",'TEC1'!V13)","v":""},{"$f":"+IF('TEC1'!W13=0,\"\",'TEC1'!W13)","v":""},{"$f":"+IF('TEC1'!X13=0,\"\",'TEC1'!X13)","v":""},{"$f":"+'TEC2'!U13","v":0},{"$f":"+'TEC2'!V13","v":0},{"$f":"+'TEC2'!W13","v":0},{"$f":"+'TEC2'!X13","v":0},{"$f":"+'TEC3'!U13","v":0},{"$f":"+'TEC3'!V13","v":0},{"$f":"+'TEC3'!W13","v":0},{"$f":"+'TEC3'!X13","v":0},{"$f":"+'TEC4'!U13","v":0},{"$f":"+'TEC4'!V13","v":0},{"$f":"+'TEC4'!W13","v":0},{"$f":"+'TEC4'!X13","v":0},{"$f":"+'TEC5'!U13","v":0},{"$f":"+'TEC5'!V13","v":0},{"$f":"+'TEC5'!W13","v":0},{"$f":"+'TEC5'!X13","v":0},{"$f":"+'TEC6'!U13","v":0},{"$f":"+'TEC6'!V13","v":0},{"$f":"+'TEC6'!W13","v":0},{"$f":"+'TEC6'!X13","v":0},null,"Measures of Central Tendency",null,null,null,null,null,null,null,null,null,null,null,null,null,null,"Standard Deviation",{"$f":"STDEV(IF((B9:Y100<>0)*(B9:Y100>0),B9:Y100))","v":{"$error":"#DIV/0!"}}]
[null,{"$f":"+IF('TEC1'!U14=0,\"\",'TEC1'!U14)","v":""},{"$f":"+IF('TEC1'!V14=0,\"\",'TEC1'!V14)","v":""},{"$f":"+IF('TEC1'!W14=0,\"\",'TEC1'!W14)","v":""},{"$f":"+IF('TEC1'!X14=0,\"\",'TEC1'!X14)","v":""},{"$f":"+'TEC2'!U14","v":0},{"$f":"+'TEC2'!V14","v":0},{"$f":"+'TEC2'!W14","v":0},{"$f":"+'TEC2'!X14","v":0},{"$f":"+'TEC3'!U14","v":0},{"$f":"+'TEC3'!V14","v":0},{"$f":"+'TEC3'!W14","v":0},{"$f":"+'TEC3'!X14","v":0},{"$f":"+'TEC4'!U14","v":0},{"$f":"+'TEC4'!V14","v":0},{"$f":"+'TEC4'!W14","v":0},{"$f":"+'TEC4'!X14","v":0},{"$f":"+'TEC5'!U14","v":0},{"$f":"+'TEC5'!V14","v":0},{"$f":"+'TEC5'!W14","v":0},{"$f":"+'TEC5'!X14","v":0},{"$f":"+'TEC6'!U14","v":0},{"$f":"+'TEC6'!V14","v":0},{"$f":"+'TEC6'!W14","v":0},{"$f":"+'TEC6'!X14","v":0},null,null,"Mean",null,"Median",null,"Mode 1 ",null,"Mode 2,3",null,null,null,null,null,null,"Square Root of no: values",null,{"$f":"SQRT(AB11)","v":0}]
[null,{"$f":"+IF('TEC1'!U15=0,\"\",'TEC1'!U15)","v":""},{"$f":"+IF('TEC1'!V15=0,\"\",'TEC1'!V15)","v":""},{"$f":"+IF('TEC1'!W15=0,\"\",'TEC1'!W15)","v":""},{"$f":"+IF('TEC1'!X15=0,\"\",'TEC1'!X15)","v":""},{"$f":"+'TEC2'!U15","v":0},{"$f":"+'TEC2'!V15","v":0},{"$f":"+'TEC2'!W15","v":0},{"$f":"+'TEC2'!X15","v":0},{"$f":"+'TEC3'!U15","v":0},{"$f":"+'TEC3'!V15","v":0},{"$f":"+'TEC3'!W15","v":0},{"$f":"+'TEC3'!X15","v":0},{"$f":"+'TEC4'!U15","v":0},{"$f":"+'TEC4'!V15","v":0},{"$f":"+'TEC4'!W15","v":0},{"$f":"+'TEC4'!X15","v":0},{"$f":"+'TEC5'!U15","v":0},{"$f":"+'TEC5'!V15","v":0},{"$f":"+'TEC5'!W15","v":0},{"$f":"+'TEC5'!X15","v":0},{"$f":"+'TEC6'!U15","v":0},{"$f":"+'TEC6'!V15","v":0},{"$f":"+'TEC6'!W15","v":0},{"$f":"+'TEC6'!X15","v":0},null,null,{"$f":"+AVERAGEIF(B9:Y100,\">1\",B9:Y100)","v":{"$error":"#DIV/0!"}},null,{"$f":"+MEDIAN(IF(B9:Y100<>0,B9:Y100))","v":{"$error":"#NUM!"}},null,{"$f":"+AQ19","v":0},null,{"$f":"+IF(AQ20=AF15,\"\",AQ20)","v":""},null,null,null,null,null,null,null," Standard Error (SE)",{"$f":"+IF(AQ14=0,0,(AQ13/AQ14))","v":0}]
[null,{"$f":"+IF('TEC1'!U16=0,\"\",'TEC1'!U16)","v":""},{"$f":"+IF('TEC1'!V16=0,\"\",'TEC1'!V16)","v":""},{"$f":"+IF('TEC1'!W16=0,\"\",'TEC1'!W16)","v":""},{"$f":"+IF('TEC1'!X16=0,\"\",'TEC1'!X16)","v":""},{"$f":"+'TEC2'!U16","v":0},{"$f":"+'TEC2'!V16","v":0},{"$f":"+'TEC2'!W16","v":0},{"$f":"+'TEC2'!X16","v":0},{"$f":"+'TEC3'!U16","v":0},{"$f":"+'TEC3'!V16","v":0},{"$f":"+'TEC3'!W16","v":0},{"$f":"+'TEC3'!X16","v":0},{"$f":"+'TEC4'!U16","v":0},{"$f":"+'TEC4'!V16","v":0},{"$f":"+'TEC4'!W16","v":0},{"$f":"+'TEC4'!X16","v":0},{"$f":"+'TEC5'!U16","v":0},{"$f":"+'TEC5'!V16","v":0},{"$f":"+'TEC5'!W16","v":0},{"$f":"+'TEC5'!X16","v":0},{"$f":"+'TEC6'!U16","v":0},{"$f":"+'TEC6'!V16","v":0},{"$f":"+'TEC6'!W16","v":0},{"$f":"+'TEC6'!X16","v":0},null,null,null,null,null,null,null,null,{"$f":"+IF(AQ21=AF15,\"\",AQ21)","v":""},null,null,null,null,null,null,null,"T-distribution probability figure",0.95,2.093]
[null,{"$f":"+IF('TEC1'!U17=0,\"\",'TEC1'!U17)","v":""},{"$f":"+IF('TEC1'!V17=0,\"\",'TEC1'!V17)","v":""},{"$f":"+IF('TEC1'!W17=0,\"\",'TEC1'!W17)","v":""},{"$f":"+IF('TEC1'!X17=0,\"\",'TEC1'!X17)","v":""},{"$f":"+'TEC2'!U17","v":0},{"$f":"+'TEC2'!V17","v":0},{"$f":"+'TEC2'!W17","v":0},{"$f":"+'TEC2'!X17","v":0},{"$f":"+'TEC3'!U17","v":0},{"$f":"+'TEC3'!V17","v":0},{"$f":"+'TEC3'!W17","v":0},{"$f":"+'TEC3'!X17","v":0},{"$f":"+'TEC4'!U17","v":0},{"$f":"+'TEC4'!V17","v":0},{"$f":"+'TEC4'!W17","v":0},{"$f":"+'TEC4'!X17","v":0},{"$f":"+'TEC5'!U17","v":0},{"$f":"+'TEC5'!V17","v":0},{"$f":"+'TEC5'!W17","v":0},{"$f":"+'TEC5'!X17","v":0},{"$f":"+'TEC6'!U17","v":0},{"$f":"+'TEC6'!V17","v":0},{"$f":"+'TEC6'!W17","v":0},{"$f":"+'TEC6'!X17","v":0},null,null,null,null,null,null,null,null,null,null,null,null,null,null,null,null,"SE x T-distribution figure",{"$f":"IF(AR16=\"\",0,AQ15*AR16)","v":0}]
[null,{"$f":"+IF('TEC1'!U18=0,\"\",'TEC1'!U18)","v":""},{"$f":"+IF('TEC1'!V18=0,\"\",'TEC1'!V18)","v":""},{"$f":"+IF('TEC1'!W18=0,\"\",'TEC1'!W18)","v":""},{"$f":"+IF('TEC1'!X18=0,\"\",'TEC1'!X18)","v":""},{"$f":"+'TEC2'!U18","v":0},{"$f":"+'TEC2'!V18","v":0},{"$f":"+'TEC2'!W18","v":0},{"$f":"+'TEC2'!X18","v":0},{"$f":"+'TEC3'!U18","v":0},{"$f":"+'TEC3'!V18","v":0},{"$f":"+'TEC3'!W18","v":0},{"$f":"+'TEC3'!X18","v":0},{"$f":"+'TEC4'!U18","v":0},{"$f":"+'TEC4'!V18","v":0},{"$f":"+'TEC4'!W18","v":0},{"$f":"+'TEC4'!X18","v":0},{"$f":"+'TEC5'!U18","v":0},{"$f":"+'TEC5'!V18","v":0},{"$f":"+'TEC5'!W18","v":0},{"$f":"+'TEC5'!X18","v":0},{"$f":"+'TEC6'!U18","v":0},{"$f":"+'TEC6'!V18","v":0},{"$f":"+'TEC6'!W18","v":0},{"$f":"+'TEC6'!X18","v":0},null,"Quartiles - Interquartile area/range",null,null,null,null,null,null,null,null,null,null,null,null,null,null,"Variance",{"$f":"+IF(AB11=0,\"\",_xlfn.VAR.S(B9:Y100))","v":""},null,null,{"$f":"55.56-6.67","v":48.89}]
[null,{"$f":"+IF('TEC1'!U19=0,\"\",'TEC1'!U19)","v":""},{"$f":"+IF('TEC1'!V19=0,\"\",'TEC1'!V19)","v":""},{"$f":"+IF('TEC1'!W19=0,\"\",'TEC1'!W19)","v":""},{"$f":"+IF('TEC1'!X19=0,\"\",'TEC1'!X19)","v":""},{"$f":"+'TEC2'!U19","v":0},{"$f":"+'TEC2'!V19","v":0},{"$f":"+'TEC2'!W19","v":0},{"$f":"+'TEC2'!X19","v":0},{"$f":"+'TEC3'!U19","v":0},{"$f":"+'TEC3'!V19","v":0},{"$f":"+'TEC3'!W19","v":0},{"$f":"+'TEC3'!X19","v":0},{"$f":"+'TEC4'!U19","v":0},{"$f":"+'TEC4'!V19","v":0},{"$f":"+'TEC4'!W19","v":0},{"$f":"+'TEC4'!X19","v":0},{"$f":"+'TEC5'!U19","v":0},{"$f":"+'TEC5'!V19","v":0},{"$f":"+'TEC5'!W19","v":0},{"$f":"+'TEC5'!X19","v":0},{"$f":"+'TEC6'!U19","v":0},{"$f":"+'TEC6'!V19","v":0},{"$f":"+'TEC6'!W19","v":0},{"$f":"+'TEC6'!X19","v":0},null,null,"Lower Quartile",null,"Middle Quartile",null,"Upper Quartile",null,null,null,null,null,null,null,null,null,"Mode #1",{"$f":"+IF($T$7=0,AR19,((AR19/$T$7)*100))","v":0}]
[null,{"$f":"+IF('TEC1'!U20=0,\"\",'TEC1'!U20)","v":""},{"$f":"+IF('TEC1'!V20=0,\"\",'TEC1'!V20)","v":""},{"$f":"+IF('TEC1'!W20=0,\"\",'TEC1'!W20)","v":""},{"$f":"+IF('TEC1'!X20=0,\"\",'TEC1'!X20)","v":""},{"$f":"+'TEC2'!U20","v":0},{"$f":"+'TEC2'!V20","v":0},{"$f":"+'TEC2'!W20","v":0},{"$f":"+'TEC2'!X20","v":0},{"$f":"+'TEC3'!U20","v":0},{"$f":"+'TEC3'!V20","v":0},{"$f":"+'TEC3'!W20","v":0},{"$f":"+'TEC3'!X20","v":0},{"$f":"+'TEC4'!U20","v":0},{"$f":"+'TEC4'!V20","v":0},{"$f":"+'TEC4'!W20","v":0},{"$f":"+'TEC4'!X20","v":0},{"$f":"+'TEC5'!U20","v":0},{"$f":"+'TEC5'!V20","v":0},{"$f":"+'TEC5'!W20","v":0},{"$f":"+'TEC5'!X20","v":0},{"$f":"+'TEC6'!U20","v":0},{"$f":"+'TEC6'!V20","v":0},{"$f":"+'TEC6'!W20","v":0},{"$f":"+'TEC6'!X20","v":0},null,null,{"$f":"IF(AB11=0,0,QUARTILE(IF($B$9:$Y$100>1,$B$9:$Y$100),1))","v":0},null,{"$f":"IF(AD11=0,0,QUARTILE(IF($B$9:$Y$100>1,$B$9:$Y$100),2))","v":0},null,{"$f":"IF(AF11=0,0,QUARTILE(IF($B$9:$Y$100>1,$B$9:$Y$100),3))","v":0},null,null,null,null,null,null,null,null,null,"Mode #2",{"$f":"+IF($T$7=0,AR20,((AR20/$T$7)*100))","v":0}]
[null,{"$f":"+IF('TEC1'!U21=0,\"\",'TEC1'!U21)","v":""},{"$f":"+IF('TEC1'!V21=0,\"\",'TEC1'!V21)","v":""},{"$f":"+IF('TEC1'!W21=0,\"\",'TEC1'!W21)","v":""},{"$f":"+IF('TEC1'!X21=0,\"\",'TEC1'!X21)","v":""},{"$f":"+'TEC2'!U21","v":0},{"$f":"+'TEC2'!V21","v":0},{"$f":"+'TEC2'!W21","v":0},{"$f":"+'TEC2'!X21","v":0},{"$f":"+'TEC3'!U21","v":0},{"$f":"+'TEC3'!V21","v":0},{"$f":"+'TEC3'!W21","v":0},{"$f":"+'TEC3'!X21","v":0},{"$f":"+'TEC4'!U21","v":0},{"$f":"+'TEC4'!V21","v":0},{"$f":"+'TEC4'!W21","v":0},{"$f":"+'TEC4'!X21","v":0},{"$f":"+'TEC5'!U21","v":0},{"$f":"+'TEC5'!V21","v":0},{"$f":"+'TEC5'!W21","v":0},{"$f":"+'TEC5'!X21","v":0},{"$f":"+'TEC6'!U21","v":0},{"$f":"+'TEC6'!V21","v":0},{"$f":"+'TEC6'!W21","v":0},{"$f":"+'TEC6'!X21","v":0},null,null,null,null,null,null,null,null,null,null,null,null,null,null,null,null,"Mode #3",{"$f":"+IF($T$7=0,AR21,((AR21/$T$7)*100))","v":0}]
[null,{"$f":"+IF('TEC1'!U22=0,\"\",'TEC1'!U22)","v":""},{"$f":"+IF('TEC1'!V22=0,\"\",'TEC1'!V22)","v":""},{"$f":"+IF('TEC1'!W22=0,\"\",'TEC1'!W22)","v":""},{"$f":"+IF('TEC1'!X22=0,\"\",'TEC1'!X22)","v":""},{"$f":"+'TEC2'!U22","v":0},{"$f":"+'TEC2'!V22","v":0},{"$f":"+'TEC2'!W22","v":0},{"$f":"+'TEC2'!X22","v":0},{"$f":"+'TEC3'!U22","v":0},{"$f":"+'TEC3'!V22","v":0},{"$f":"+'TEC3'!W22","v":0},{"$f":"+'TEC3'!X22","v":0},{"$f":"+'TEC4'!U22","v":0},{"$f":"+'TEC4'!V22","v":0},{"$f":"+'TEC4'!W22","v":0},{"$f":"+'TEC4'!X22","v":0},{"$f":"+'TEC5'!U22","v":0},{"$f":"+'TEC5'!V22","v":0},{"$f":"+'TEC5'!W22","v":0},{"$f":"+'TEC5'!X22","v":0},{"$f":"+'TEC6'!U22","v":0},{"$f":"+'TEC6'!V22","v":0},{"$f":"+'TEC6'!W22","v":0},{"$f":"+'TEC6'!X22","v":0},null,null,"Interquartile Area",null,{"$f":"+AB20","v":0},"to",{"$f":"+AF20","v":0},null,null,null,null,null,null,null,null,null,"Mode #4",{"$f":"+IF($T$7=0,AR22,((AR22/$T$7)*100))","v":0}]
[null,{"$f":"+IF('TEC1'!U23=0,\"\",'TEC1'!U23)","v":""},{"$f":"+IF('TEC1'!V23=0,\"\",'TEC1'!V23)","v":""},{"$f":"+IF('TEC1'!W23=0,\"\",'TEC1'!W23)","v":""},{"$f":"+IF('TEC1'!X23=0,\"\",'TEC1'!X23)","v":""},{"$f":"+'TEC2'!U23","v":0},{"$f":"+'TEC2'!V23","v":0},{"$f":"+'TEC2'!W23","v":0},{"$f":"+'TEC2'!X23","v":0},{"$f":"+'TEC3'!U23","v":0},{"$f":"+'TEC3'!V23","v":0},{"$f":"+'TEC3'!W23","v":0},{"$f":"+'TEC3'!X23","v":0},{"$f":"+'TEC4'!U23","v":0},{"$f":"+'TEC4'!V23","v":0},{"$f":"+'TEC4'!W23","v":0},{"$f":"+'TEC4'!X23","v":0},{"$f":"+'TEC5'!U23","v":0},{"$f":"+'TEC5'!V23","v":0},{"$f":"+'TEC5'!W23","v":0},{"$f":"+'TEC5'!X23","v":0},{"$f":"+'TEC6'!U23","v":0},{"$f":"+'TEC6'!V23","v":0},{"$f":"+'TEC6'!W23","v":0},{"$f":"+'TEC6'!X23","v":0}]
[null,{"$f":"+IF('TEC1'!U24=0,\"\",'TEC1'!U24)","v":""},{"$f":"+IF('TEC1'!V24=0,\"\",'TEC1'!V24)","v":""},{"$f":"+IF('TEC1'!W24=0,\"\",'TEC1'!W24)","v":""},{"$f":"+IF('TEC1'!X24=0,\"\",'TEC1'!X24)","v":""},{"$f":"+'TEC2'!U24","v":0},{"$f":"+'TEC2'!V24","v":0},{"$f":"+'TEC2'!W24","v":0},{"$f":"+'TEC2'!X24","v":0},{"$f":"+'TEC3'!U24","v":0},{"$f":"+'TEC3'!V24","v":0},{"$f":"+'TEC3'!W24","v":0},{"$f":"+'TEC3'!X24","v":0},{"$f":"+'TEC4'!U24","v":0},{"$f":"+'TEC4'!V24","v":0},{"$f":"+'TEC4'!W24","v":0},{"$f":"+'TEC4'!X24","v":0},{"$f":"+'TEC5'!U24","v":0},{"$f":"+'TEC5'!V24","v":0},{"$f":"+'TEC5'!W24","v":0},{"$f":"+'TEC5'!X24","v":0},{"$f":"+'TEC6'!U24","v":0},{"$f":"+'TEC6'!V24","v":0},{"$f":"+'TEC6'!W24","v":0},{"$f":"+'TEC6'!X24","v":0},null,"Confidence Interval",null,null,null,null,null,null,null,null,null,null,null,null,null,null,"q1-min",{"$f":"+AB20-AF11","v":0},null,"q1-min",{"$f":"+AB20-AF11","v":0}]
[null,{"$f":"+IF('TEC1'!U25=0,\"\",'TEC1'!U25)","v":""},{"$f":"+IF('TEC1'!V25=0,\"\",'TEC1'!V25)","v":""},{"$f":"+IF('TEC1'!W25=0,\"\",'TEC1'!W25)","v":""},{"$f":"+IF('TEC1'!X25=0,\"\",'TEC1'!X25)","v":""},{"$f":"+'TEC2'!U25","v":0},{"$f":"+'TEC2'!V25","v":0},{"$f":"+'TEC2'!W25","v":0},{"$f":"+'TEC2'!X25","v":0},{"$f":"+'TEC3'!U25","v":0},{"$f":"+'TEC3'!V25","v":0},{"$f":"+'TEC3'!W25","v":0},{"$f":"+'TEC3'!X25","v":0},{"$f":"+'TEC4'!U25","v":0},{"$f":"+'TEC4'!V25","v":0},{"$f":"+'TEC4'!W25","v":0},{"$f":"+'TEC4'!X25","v":0},{"$f":"+'TEC5'!U25","v":0},{"$f":"+'TEC5'!V25","v":0},{"$f":"+'TEC5'!W25","v":0},{"$f":"+'TEC5'!X25","v":0},{"$f":"+'TEC6'!U25","v":0},{"$f":"+'TEC6'!V25","v":0},{"$f":"+'TEC6'!W25","v":0},{"$f":"+'TEC6'!X25","v":0},null,"CI commences with sample size >5. The bigger the sample, the more accurate the CI.",null,null,null,null,null,null,null,null,null,null,null,null,null,null,"q1",{"$f":"+AB20","v":0},null,"q1",{"$f":"+AB20","v":0}]
[null,{"$f":"+IF('TEC1'!U26=0,\"\",'TEC1'!U26)","v":""},{"$f":"+IF('TEC1'!V26=0,\"\",'TEC1'!V26)","v":""},{"$f":"+IF('TEC1'!W26=0,\"\",'TEC1'!W26)","v":""},{"$f":"+IF('TEC1'!X26=0,\"\",'TEC1'!X26)","v":""},{"$f":"+'TEC2'!U26","v":0},{"$f":"+'TEC2'!V26","v":0},{"$f":"+'TEC2'!W26","v":0},{"$f":"+'TEC2'!X26","v":0},{"$f":"+'TEC3'!U26","v":0},{"$f":"+'TEC3'!V26","v":0},{"$f":"+'TEC3'!W26","v":0},{"$f":"+'TEC3'!X26","v":0},{"$f":"+'TEC4'!U26","v":0},{"$f":"+'TEC4'!V26","v":0},{"$f":"+'TEC4'!W26","v":0},{"$f":"+'TEC4'!X26","v":0},{"$f":"+'TEC5'!U26","v":0},{"$f":"+'TEC5'!V26","v":0},{"$f":"+'TEC5'!W26","v":0},{"$f":"+'TEC5'!X26","v":0},{"$f":"+'TEC6'!U26","v":0},{"$f":"+'TEC6'!V26","v":0},{"$f":"+'TEC6'!W26","v":0},{"$f":"+'TEC6'!X26","v":0},null,"Confidence Interval",null,null,{"$f":"+IF(AB11<=5,\"\",(AB15-AQ17))","v":""},"to",{"$f":"+IF(AB11<=5,\"\",(AB15+AQ17))","v":""},null,null,null,null,null,null,null,null,null,"median-q1",{"$f":"+AD15-AB20","v":{"$error":"#NUM!"}},null,"median-q1",{"$f":"+AD15-AB20","v":{"$error":"#NUM!"}}]
[null,{"$f":"+IF('TEC1'!U27=0,\"\",'TEC1'!U27)","v":""},{"$f":"+IF('TEC1'!V27=0,\"\",'TEC1'!V27)","v":""},{"$f":"+IF('TEC1'!W27=0,\"\",'TEC1'!W27)","v":""},{"$f":"+IF('TEC1'!X27=0,\"\",'TEC1'!X27)","v":""},{"$f":"+'TEC2'!U27","v":0},{"$f":"+'TEC2'!V27","v":0},{"$f":"+'TEC2'!W27","v":0},{"$f":"+'TEC2'!X27","v":0},{"$f":"+'TEC3'!U27","v":0},{"$f":"+'TEC3'!V27","v":0},{"$f":"+'TEC3'!W27","v":0},{"$f":"+'TEC3'!X27","v":0},{"$f":"+'TEC4'!U27","v":0},{"$f":"+'TEC4'!V27","v":0},{"$f":"+'TEC4'!W27","v":0},{"$f":"+'TEC4'!X27","v":0},{"$f":"+'TEC5'!U27","v":0},{"$f":"+'TEC5'!V27","v":0},{"$f":"+'TEC5'!W27","v":0},{"$f":"+'TEC5'!X27","v":0},{"$f":"+'TEC6'!U27","v":0},{"$f":"+'TEC6'!V27","v":0},{"$f":"+'TEC6'!W27","v":0},{"$f":"+'TEC6'!X27","v":0},null,null,null,null,null,null,null,null,null,null,null,null,null,null,null,null,"median",null,null,"median"]
[null,{"$f":"+IF('TEC1'!U28=0,\"\",'TEC1'!U28)","v":""},{"$f":"+IF('TEC1'!V28=0,\"\",'TEC1'!V28)","v":""},{"$f":"+IF('TEC1'!W28=0,\"\",'TEC1'!W28)","v":""},{"$f":"+IF('TEC1'!X28=0,\"\",'TEC1'!X28)","v":""},{"$f":"+'TEC2'!U28","v":0},{"$f":"+'TEC2'!V28","v":0},{"$f":"+'TEC2'!W28","v":0},{"$f":"+'TEC2'!X28","v":0},{"$f":"+'TEC3'!U28","v":0},{"$f":"+'TEC3'!V28","v":0},{"$f":"+'TEC3'!W28","v":0},{"$f":"+'TEC3'!X28","v":0},{"$f":"+'TEC4'!U28","v":0},{"$f":"+'TEC4'!V28","v":0},{"$f":"+'TEC4'!W28","v":0},{"$f":"+'TEC4'!X28","v":0},{"$f":"+'TEC5'!U28","v":0},{"$f":"+'TEC5'!V28","v":0},{"$f":"+'TEC5'!W28","v":0},{"$f":"+'TEC5'!X28","v":0},{"$f":"+'TEC6'!U28","v":0},{"$f":"+'TEC6'!V28","v":0},{"$f":"+'TEC6'!W28","v":0},{"$f":"+'TEC6'!X28","v":0},null,null,null,null,null,null,null,null,null,null,null,null,null,null,null,null,"Q3-median",{"$f":"+AF20-AD15","v":{"$error":"#NUM!"}},null,"Q3-median",{"$f":"+AF20-AD15","v":{"$error":"#NUM!"}}]
[null,{"$f":"+IF('TEC1'!U29=0,\"\",'TEC1'!U29)","v":""},{"$f":"+IF('TEC1'!V29=0,\"\",'TEC1'!V29)","v":""},{"$f":"+IF('TEC1'!W29=0,\"\",'TEC1'!W29)","v":""},{"$f":"+IF('TEC1'!X29=0,\"\",'TEC1'!X29)","v":""},{"$f":"+'TEC2'!U29","v":0},{"$f":"+'TEC2'!V29","v":0},{"$f":"+'TEC2'!W29","v":0},{"$f":"+'TEC2'!X29","v":0},{"$f":"+'TEC3'!U29","v":0},{"$f":"+'TEC3'!V29","v":0},{"$f":"+'TEC3'!W29","v":0},{"$f":"+'TEC3'!X29","v":0},{"$f":"+'TEC4'!U29","v":0},{"$f":"+'TEC4'!V29","v":0},{"$f":"+'TEC4'!W29","v":0},{"$f":"+'TEC4'!X29","v":0},{"$f":"+'TEC5'!U29","v":0},{"$f":"+'TEC5'!V29","v":0},{"$f":"+'TEC5'!W29","v":0},{"$f":"+'TEC5'!X29","v":0},{"$f":"+'TEC6'!U29","v":0},{"$f":"+'TEC6'!V29","v":0},{"$f":"+'TEC6'!W29","v":0},{"$f":"+'TEC6'!X29","v":0},null,null,null,null,null,null,null,null,null,null,null,null,null,null,null,null,"Max-q3",{"$f":"+AH11-AF20","v":0},null,"Max-q3",{"$f":"+AH11-AF20","v":0}]
[null,{"$f":"+IF('TEC1'!U30=0,\"\",'TEC1'!U30)","v":""},{"$f":"+IF('TEC1'!V30=0,\"\",'TEC1'!V30)","v":""},{"$f":"+IF('TEC1'!W30=0,\"\",'TEC1'!W30)","v":""},{"$f":"+IF('TEC1'!X30=0,\"\",'TEC1'!X30)","v":""},{"$f":"+'TEC2'!U30","v":0},{"$f":"+'TEC2'!V30","v":0},{"$f":"+'TEC2'!W30","v":0},{"$f":"+'TEC2'!X30","v":0},{"$f":"+'TEC3'!U30","v":0},{"$f":"+'TEC3'!V30","v":0},{"$f":"+'TEC3'!W30","v":0},{"$f":"+'TEC3'!X30","v":0},{"$f":"+'TEC4'!U30","v":0},{"$f":"+'TEC4'!V30","v":0},{"$f":"+'TEC4'!W30","v":0},{"$f":"+'TEC4'!X30","v":0},{"$f":"+'TEC5'!U30","v":0},{"$f":"+'TEC5'!V30","v":0},{"$f":"+'TEC5'!W30","v":0},{"$f":"+'TEC5'!X30","v":0},{"$f":"+'TEC6'!U30","v":0},{"$f":"+'TEC6'!V30","v":0},{"$f":"+'TEC6'!W30","v":0},{"$f":"+'TEC6'!X30","v":0},null,null,null,null,null,null,null,null,null,null,null,null,null,null,null,null,"Mean",{"$f":"+AB15","v":{"$error":"#DIV/0!"}},null,"Mean",{"$f":"+AB15","v":{"$error":"#DIV/0!"}}]
[null,{"$f":"+IF('TEC1'!U31=0,\"\",'TEC1'!U31)","v":""},{"$f":"+IF('TEC1'!V31=0,\"\",'TEC1'!V31)","v":""},{"$f":"+IF('TEC1'!W31=0,\"\",'TEC1'!W31)","v":""},{"$f":"+IF('TEC1'!X31=0,\"\",'TEC1'!X31)","v":""},{"$f":"+'TEC2'!U31","v":0},{"$f":"+'TEC2'!V31","v":0},{"$f":"+'TEC2'!W31","v":0},{"$f":"+'TEC2'!X31","v":0},{"$f":"+'TEC3'!U31","v":0},{"$f":"+'TEC3'!V31","v":0},{"$f":"+'TEC3'!W31","v":0},{"$f":"+'TEC3'!X31","v":0},{"$f":"+'TEC4'!U31","v":0},{"$f":"+'TEC4'!V31","v":0},{"$f":"+'TEC4'!W31","v":0},{"$f":"+'TEC4'!X31","v":0},{"$f":"+'TEC5'!U31","v":0},{"$f":"+'TEC5'!V31","v":0},{"$f":"+'TEC5'!W31","v":0},{"$f":"+'TEC5'!X31","v":0},{"$f":"+'TEC6'!U31","v":0},{"$f":"+'TEC6'!V31","v":0},{"$f":"+'TEC6'!W31","v":0},{"$f":"+'TEC6'!X31","v":0}]
[null,{"$f":"+IF('TEC1'!U32=0,\"\",'TEC1'!U32)","v":""},{"$f":"+IF('TEC1'!V32=0,\"\",'TEC1'!V32)","v":""},{"$f":"+IF('TEC1'!W32=0,\"\",'TEC1'!W32)","v":""},{"$f":"+IF('TEC1'!X32=0,\"\",'TEC1'!X32)","v":""},{"$f":"+'TEC2'!U32","v":0},{"$f":"+'TEC2'!V32","v":0},{"$f":"+'TEC2'!W32","v":0},{"$f":"+'TEC2'!X32","v":0},{"$f":"+'TEC3'!U32","v":0},{"$f":"+'TEC3'!V32","v":0},{"$f":"+'TEC3'!W32","v":0},{"$f":"+'TEC3'!X32","v":0},{"$f":"+'TEC4'!U32","v":0},{"$f":"+'TEC4'!V32","v":0},{"$f":"+'TEC4'!W32","v":0},{"$f":"+'TEC4'!X32","v":0},{"$f":"+'TEC5'!U32","v":0},{"$f":"+'TEC5'!V32","v":0},{"$f":"+'TEC5'!W32","v":0},{"$f":"+'TEC5'!X32","v":0},{"$f":"+'TEC6'!U32","v":0},{"$f":"+'TEC6'!V32","v":0},{"$f":"+'TEC6'!W32","v":0},{"$f":"+'TEC6'!X32","v":0},null,null,null,"Percentile %",0.9,null,{"$f":"IF(AB11=0,\"\",PERCENTILE($B$9:$Y$100,AD32))","v":""},null,null,null,null,null,null,null,null,null,{"$f":"+Y26","v":0},{"$f":"+AR32-AP32","v":0}]
[null,{"$f":"+IF('TEC1'!U33=0,\"\",'TEC1'!U33)","v":""},{"$f":"+IF('TEC1'!V33=0,\"\",'TEC1'!V33)","v":""},{"$f":"+IF('TEC1'!W33=0,\"\",'TEC1'!W33)","v":""},{"$f":"+IF('TEC1'!X33=0,\"\",'TEC1'!X33)","v":""},{"$f":"+'TEC2'!U33","v":0},{"$f":"+'TEC2'!V33","v":0},{"$f":"+'TEC2'!W33","v":0},{"$f":"+'TEC2'!X33","v":0},{"$f":"+'TEC3'!U33","v":0},{"$f":"+'TEC3'!V33","v":0},{"$f":"+'TEC3'!W33","v":0},{"$f":"+'TEC3'!X33","v":0},{"$f":"+'TEC4'!U33","v":0},{"$f":"+'TEC4'!V33","v":0},{"$f":"+'TEC4'!W33","v":0},{"$f":"+'TEC4'!X33","v":0},{"$f":"+'TEC5'!U33","v":0},{"$f":"+'TEC5'!V33","v":0},{"$f":"+'TEC5'!W33","v":0},{"$f":"+'TEC5'!X33","v":0},{"$f":"+'TEC6'!U33","v":0},{"$f":"+'TEC6'!V33","v":0},{"$f":"+'TEC6'!W33","v":0},{"$f":"+'TEC6'!X33","v":0}]
[null,{"$f":"+IF('TEC1'!U34=0,\"\",'TEC1'!U34)","v":""},{"$f":"+IF('TEC1'!V34=0,\"\",'TEC1'!V34)","v":""},{"$f":"+IF('TEC1'!W34=0,\"\",'TEC1'!W34)","v":""},{"$f":"+IF('TEC1'!X34=0,\"\",'TEC1'!X34)","v":""},{"$f":"+'TEC2'!U34","v":0},{"$f":"+'TEC2'!V34","v":0},{"$f":"+'TEC2'!W34","v":0},{"$f":"+'TEC2'!X34","v":0},{"$f":"+'TEC3'!U34","v":0},{"$f":"+'TEC3'!V34","v":0},{"$f":"+'TEC3'!W34","v":0},{"$f":"+'TEC3'!X34","v":0},{"$f":"+'TEC4'!U34","v":0},{"$f":"+'TEC4'!V34","v":0},{"$f":"+'TEC4'!W34","v":0},{"$f":"+'TEC4'!X34","v":0},{"$f":"+'TEC5'!U34","v":0},{"$f":"+'TEC5'!V34","v":0},{"$f":"+'TEC5'!W34","v":0},{"$f":"+'TEC5'!X34","v":0},{"$f":"+'TEC6'!U34","v":0},{"$f":"+'TEC6'!V34","v":0},{"$f":"+'TEC6'!W34","v":0},{"$f":"+'TEC6'!X34","v":0},null,null,"Standard Deviation",null,{"$f":"+AQ13","v":{"$error":"#DIV/0!"}}]
[null,{"$f":"+IF('TEC1'!U35=0,\"\",'TEC1'!U35)","v":""},{"$f":"+IF('TEC1'!V35=0,\"\",'TEC1'!V35)","v":""},{"$f":"+IF('TEC1'!W35=0,\"\",'TEC1'!W35)","v":""},{"$f":"+IF('TEC1'!X35=0,\"\",'TEC1'!X35)","v":""},{"$f":"+'TEC2'!U35","v":0},{"$f":"+'TEC2'!V35","v":0},{"$f":"+'TEC2'!W35","v":0},{"$f":"+'TEC2'!X35","v":0},{"$f":"+'TEC3'!U35","v":0},{"$f":"+'TEC3'!V35","v":0},{"$f":"+'TEC3'!W35","v":0},{"$f":"+'TEC3'!X35","v":0},{"$f":"+'TEC4'!U35","v":0},{"$f":"+'TEC4'!V35","v":0},{"$f":"+'TEC4'!W35","v":0},{"$f":"+'TEC4'!X35","v":0},{"$f":"+'TEC5'!U35","v":0},{"$f":"+'TEC5'!V35","v":0},{"$f":"+'TEC5'!W35","v":0},{"$f":"+'TEC5'!X35","v":0},{"$f":"+'TEC6'!U35","v":0},{"$f":"+'TEC6'!V35","v":0},{"$f":"+'TEC6'!W35","v":0},{"$f":"+'TEC6'!X35","v":0}]
[null,{"$f":"+IF('TEC1'!U36=0,\"\",'TEC1'!U36)","v":""},{"$f":"+IF('TEC1'!V36=0,\"\",'TEC1'!V36)","v":""},{"$f":"+IF('TEC1'!W36=0,\"\",'TEC1'!W36)","v":""},{"$f":"+IF('TEC1'!X36=0,\"\",'TEC1'!X36)","v":""},{"$f":"+'TEC2'!U36","v":0},{"$f":"+'TEC2'!V36","v":0},{"$f":"+'TEC2'!W36","v":0},{"$f":"+'TEC2'!X36","v":0},{"$f":"+'TEC3'!U36","v":0},{"$f":"+'TEC3'!V36","v":0},{"$f":"+'TEC3'!W36","v":0},{"$f":"+'TEC3'!X36","v":0},{"$f":"+'TEC4'!U36","v":0},{"$f":"+'TEC4'!V36","v":0},{"$f":"+'TEC4'!W36","v":0},{"$f":"+'TEC4'!X36","v":0},{"$f":"+'TEC5'!U36","v":0},{"$f":"+'TEC5'!V36","v":0},{"$f":"+'TEC5'!W36","v":0},{"$f":"+'TEC5'!X36","v":0},{"$f":"+'TEC6'!U36","v":0},{"$f":"+'TEC6'!V36","v":0},{"$f":"+'TEC6'!W36","v":0},{"$f":"+'TEC6'!X36","v":0}]
[null,{"$f":"+IF('TEC1'!U37=0,\"\",'TEC1'!U37)","v":""},{"$f":"+IF('TEC1'!V37=0,\"\",'TEC1'!V37)","v":""},{"$f":"+IF('TEC1'!W37=0,\"\",'TEC1'!W37)","v":""},{"$f":"+IF('TEC1'!X37=0,\"\",'TEC1'!X37)","v":""},{"$f":"+'TEC2'!U37","v":0},{"$f":"+'TEC2'!V37","v":0},{"$f":"+'TEC2'!W37","v":0},{"$f":"+'TEC2'!X37","v":0},{"$f":"+'TEC3'!U37","v":0},{"$f":"+'TEC3'!V37","v":0},{"$f":"+'TEC3'!W37","v":0},{"$f":"+'TEC3'!X37","v":0},{"$f":"+'TEC4'!U37","v":0},{"$f":"+'TEC4'!V37","v":0},{"$f":"+'TEC4'!W37","v":0},{"$f":"+'TEC4'!X37","v":0},{"$f":"+'TEC5'!U37","v":0},{"$f":"+'TEC5'!V37","v":0},{"$f":"+'TEC5'!W37","v":0},{"$f":"+'TEC5'!X37","v":0},{"$f":"+'TEC6'!U37","v":0},{"$f":"+'TEC6'!V37","v":0},{"$f":"+'TEC6'!W37","v":0},{"$f":"+'TEC6'!X37","v":0}]
[null,{"$f":"+IF('TEC1'!U38=0,\"\",'TEC1'!U38)","v":""},{"$f":"+IF('TEC1'!V38=0,\"\",'TEC1'!V38)","v":""},{"$f":"+IF('TEC1'!W38=0,\"\",'TEC1'!W38)","v":""},{"$f":"+IF('TEC1'!X38=0,\"\",'TEC1'!X38)","v":""},{"$f":"+'TEC2'!U38","v":0},{"$f":"+'TEC2'!V38","v":0},{"$f":"+'TEC2'!W38","v":0},{"$f":"+'TEC2'!X38","v":0},{"$f":"+'TEC3'!U38","v":0},{"$f":"+'TEC3'!V38","v":0},{"$f":"+'TEC3'!W38","v":0},{"$f":"+'TEC3'!X38","v":0},{"$f":"+'TEC4'!U38","v":0},{"$f":"+'TEC4'!V38","v":0},{"$f":"+'TEC4'!W38","v":0},{"$f":"+'TEC4'!X38","v":0},{"$f":"+'TEC5'!U38","v":0},{"$f":"+'TEC5'!V38","v":0},{"$f":"+'TEC5'!W38","v":0},{"$f":"+'TEC5'!X38","v":0},{"$f":"+'TEC6'!U38","v":0},{"$f":"+'TEC6'!V38","v":0},{"$f":"+'TEC6'!W38","v":0},{"$f":"+'TEC6'!X38","v":0}]
[null,{"$f":"+IF('TEC1'!U39=0,\"\",'TEC1'!U39)","v":""},{"$f":"+IF('TEC1'!V39=0,\"\",'TEC1'!V39)","v":""},{"$f":"+IF('TEC1'!W39=0,\"\",'TEC1'!W39)","v":""},{"$f":"+IF('TEC1'!X39=0,\"\",'TEC1'!X39)","v":""},{"$f":"+'TEC2'!U39","v":0},{"$f":"+'TEC2'!V39","v":0},{"$f":"+'TEC2'!W39","v":0},{"$f":"+'TEC2'!X39","v":0},{"$f":"+'TEC3'!U39","v":0},{"$f":"+'TEC3'!V39","v":0},{"$f":"+'TEC3'!W39","v":0},{"$f":"+'TEC3'!X39","v":0},{"$f":"+'TEC4'!U39","v":0},{"$f":"+'TEC4'!V39","v":0},{"$f":"+'TEC4'!W39","v":0},{"$f":"+'TEC4'!X39","v":0},{"$f":"+'TEC5'!U39","v":0},{"$f":"+'TEC5'!V39","v":0},{"$f":"+'TEC5'!W39","v":0},{"$f":"+'TEC5'!X39","v":0},{"$f":"+'TEC6'!U39","v":0},{"$f":"+'TEC6'!V39","v":0},{"$f":"+'TEC6'!W39","v":0},{"$f":"+'TEC6'!X39","v":0}]
[null,{"$f":"+IF('TEC1'!U40=0,\"\",'TEC1'!U40)","v":""},{"$f":"+IF('TEC1'!V40=0,\"\",'TEC1'!V40)","v":""},{"$f":"+IF('TEC1'!W40=0,\"\",'TEC1'!W40)","v":""},{"$f":"+IF('TEC1'!X40=0,\"\",'TEC1'!X40)","v":""},{"$f":"+'TEC2'!U40","v":0},{"$f":"+'TEC2'!V40","v":0},{"$f":"+'TEC2'!W40","v":0},{"$f":"+'TEC2'!X40","v":0},{"$f":"+'TEC3'!U40","v":0},{"$f":"+'TEC3'!V40","v":0},{"$f":"+'TEC3'!W40","v":0},{"$f":"+'TEC3'!X40","v":0},{"$f":"+'TEC4'!U40","v":0},{"$f":"+'TEC4'!V40","v":0},{"$f":"+'TEC4'!W40","v":0},{"$f":"+'TEC4'!X40","v":0},{"$f":"+'TEC5'!U40","v":0},{"$f":"+'TEC5'!V40","v":0},{"$f":"+'TEC5'!W40","v":0},{"$f":"+'TEC5'!X40","v":0},{"$f":"+'TEC6'!U40","v":0},{"$f":"+'TEC6'!V40","v":0},{"$f":"+'TEC6'!W40","v":0},{"$f":"+'TEC6'!X40","v":0}]
[null,{"$f":"+IF('TEC1'!U41=0,\"\",'TEC1'!U41)","v":""},{"$f":"+IF('TEC1'!V41=0,\"\",'TEC1'!V41)","v":""},{"$f":"+IF('TEC1'!W41=0,\"\",'TEC1'!W41)","v":""},{"$f":"+IF('TEC1'!X41=0,\"\",'TEC1'!X41)","v":""},{"$f":"+'TEC2'!U41","v":0},{"$f":"+'TEC2'!V41","v":0},{"$f":"+'TEC2'!W41","v":0},{"$f":"+'TEC2'!X41","v":0},{"$f":"+'TEC3'!U41","v":0},{"$f":"+'TEC3'!V41","v":0},{"$f":"+'TEC3'!W41","v":0},{"$f":"+'TEC3'!X41","v":0},{"$f":"+'TEC4'!U41","v":0},{"$f":"+'TEC4'!V41","v":0},{"$f":"+'TEC4'!W41","v":0},{"$f":"+'TEC4'!X41","v":0},{"$f":"+'TEC5'!U41","v":0},{"$f":"+'TEC5'!V41","v":0},{"$f":"+'TEC5'!W41","v":0},{"$f":"+'TEC5'!X41","v":0},{"$f":"+'TEC6'!U41","v":0},{"$f":"+'TEC6'!V41","v":0},{"$f":"+'TEC6'!W41","v":0},{"$f":"+'TEC6'!X41","v":0}]
[null,{"$f":"+IF('TEC1'!U42=0,\"\",'TEC1'!U42)","v":""},{"$f":"+IF('TEC1'!V42=0,\"\",'TEC1'!V42)","v":""},{"$f":"+IF('TEC1'!W42=0,\"\",'TEC1'!W42)","v":""},{"$f":"+IF('TEC1'!X42=0,\"\",'TEC1'!X42)","v":""},{"$f":"+'TEC2'!U42","v":0},{"$f":"+'TEC2'!V42","v":0},{"$f":"+'TEC2'!W42","v":0},{"$f":"+'TEC2'!X42","v":0},{"$f":"+'TEC3'!U42","v":0},{"$f":"+'TEC3'!V42","v":0},{"$f":"+'TEC3'!W42","v":0},{"$f":"+'TEC3'!X42","v":0},{"$f":"+'TEC4'!U42","v":0},{"$f":"+'TEC4'!V42","v":0},{"$f":"+'TEC4'!W42","v":0},{"$f":"+'TEC4'!X42","v":0},{"$f":"+'TEC5'!U42","v":0},{"$f":"+'TEC5'!V42","v":0},{"$f":"+'TEC5'!W42","v":0},{"$f":"+'TEC5'!X42","v":0},{"$f":"+'TEC6'!U42","v":0},{"$f":"+'TEC6'!V42","v":0},{"$f":"+'TEC6'!W42","v":0},{"$f":"+'TEC6'!X42","v":0}]
[null,{"$f":"+IF('TEC1'!U43=0,\"\",'TEC1'!U43)","v":""},{"$f":"+IF('TEC1'!V43=0,\"\",'TEC1'!V43)","v":""},{"$f":"+IF('TEC1'!W43=0,\"\",'TEC1'!W43)","v":""},{"$f":"+IF('TEC1'!X43=0,\"\",'TEC1'!X43)","v":""},{"$f":"+'TEC2'!U43","v":0},{"$f":"+'TEC2'!V43","v":0},{"$f":"+'TEC2'!W43","v":0},{"$f":"+'TEC2'!X43","v":0},{"$f":"+'TEC3'!U43","v":0},{"$f":"+'TEC3'!V43","v":0},{"$f":"+'TEC3'!W43","v":0},{"$f":"+'TEC3'!X43","v":0},{"$f":"+'TEC4'!U43","v":0},{"$f":"+'TEC4'!V43","v":0},{"$f":"+'TEC4'!W43","v":0},{"$f":"+'TEC4'!X43","v":0},{"$f":"+'TEC5'!U43","v":0},{"$f":"+'TEC5'!V43","v":0},{"$f":"+'TEC5'!W43","v":0},{"$f":"+'TEC5'!X43","v":0},{"$f":"+'TEC6'!U43","v":0},{"$f":"+'TEC6'!V43","v":0},{"$f":"+'TEC6'!W43","v":0},{"$f":"+'TEC6'!X43","v":0}]
[null,{"$f":"+IF('TEC1'!U44=0,\"\",'TEC1'!U44)","v":""},{"$f":"+IF('TEC1'!V44=0,\"\",'TEC1'!V44)","v":""},{"$f":"+IF('TEC1'!W44=0,\"\",'TEC1'!W44)","v":""},{"$f":"+IF('TEC1'!X44=0,\"\",'TEC1'!X44)","v":""},{"$f":"+'TEC2'!U44","v":0},{"$f":"+'TEC2'!V44","v":0},{"$f":"+'TEC2'!W44","v":0},{"$f":"+'TEC2'!X44","v":0},{"$f":"+'TEC3'!U44","v":0},{"$f":"+'TEC3'!V44","v":0},{"$f":"+'TEC3'!W44","v":0},{"$f":"+'TEC3'!X44","v":0},{"$f":"+'TEC4'!U44","v":0},{"$f":"+'TEC4'!V44","v":0},{"$f":"+'TEC4'!W44","v":0},{"$f":"+'TEC4'!X44","v":0},{"$f":"+'TEC5'!U44","v":0},{"$f":"+'TEC5'!V44","v":0},{"$f":"+'TEC5'!W44","v":0},{"$f":"+'TEC5'!X44","v":0},{"$f":"+'TEC6'!U44","v":0},{"$f":"+'TEC6'!V44","v":0},{"$f":"+'TEC6'!W44","v":0},{"$f":"+'TEC6'!X44","v":0}]
[null,{"$f":"+IF('TEC1'!U45=0,\"\",'TEC1'!U45)","v":""},{"$f":"+IF('TEC1'!V45=0,\"\",'TEC1'!V45)","v":""},{"$f":"+IF('TEC1'!W45=0,\"\",'TEC1'!W45)","v":""},{"$f":"+IF('TEC1'!X45=0,\"\",'TEC1'!X45)","v":""},{"$f":"+'TEC2'!U45","v":0},{"$f":"+'TEC2'!V45","v":0},{"$f":"+'TEC2'!W45","v":0},{"$f":"+'TEC2'!X45","v":0},{"$f":"+'TEC3'!U45","v":0},{"$f":"+'TEC3'!V45","v":0},{"$f":"+'TEC3'!W45","v":0},{"$f":"+'TEC3'!X45","v":0},{"$f":"+'TEC4'!U45","v":0},{"$f":"+'TEC4'!V45","v":0},{"$f":"+'TEC4'!W45","v":0},{"$f":"+'TEC4'!X45","v":0},{"$f":"+'TEC5'!U45","v":0},{"$f":"+'TEC5'!V45","v":0},{"$f":"+'TEC5'!W45","v":0},{"$f":"+'TEC5'!X45","v":0},{"$f":"+'TEC6'!U45","v":0},{"$f":"+'TEC6'!V45","v":0},{"$f":"+'TEC6'!W45","v":0},{"$f":"+'TEC6'!X45","v":0}]
[null,{"$f":"+IF('TEC1'!U46=0,\"\",'TEC1'!U46)","v":""},{"$f":"+IF('TEC1'!V46=0,\"\",'TEC1'!V46)","v":""},{"$f":"+IF('TEC1'!W46=0,\"\",'TEC1'!W46)","v":""},{"$f":"+IF('TEC1'!X46=0,\"\",'TEC1'!X46)","v":""},{"$f":"+'TEC2'!U46","v":0},{"$f":"+'TEC2'!V46","v":0},{"$f":"+'TEC2'!W46","v":0},{"$f":"+'TEC2'!X46","v":0},{"$f":"+'TEC3'!U46","v":0},{"$f":"+'TEC3'!V46","v":0},{"$f":"+'TEC3'!W46","v":0},{"$f":"+'TEC3'!X46","v":0},{"$f":"+'TEC4'!U46","v":0},{"$f":"+'TEC4'!V46","v":0},{"$f":"+'TEC4'!W46","v":0},{"$f":"+'TEC4'!X46","v":0},{"$f":"+'TEC5'!U46","v":0},{"$f":"+'TEC5'!V46","v":0},{"$f":"+'TEC5'!W46","v":0},{"$f":"+'TEC5'!X46","v":0},{"$f":"+'TEC6'!U46","v":0},{"$f":"+'TEC6'!V46","v":0},{"$f":"+'TEC6'!W46","v":0},{"$f":"+'TEC6'!X46","v":0}]
[null,{"$f":"+IF('TEC1'!U47=0,\"\",'TEC1'!U47)","v":""},{"$f":"+IF('TEC1'!V47=0,\"\",'TEC1'!V47)","v":""},{"$f":"+IF('TEC1'!W47=0,\"\",'TEC1'!W47)","v":""},{"$f":"+IF('TEC1'!X47=0,\"\",'TEC1'!X47)","v":""},{"$f":"+'TEC2'!U47","v":0},{"$f":"+'TEC2'!V47","v":0},{"$f":"+'TEC2'!W47","v":0},{"$f":"+'TEC2'!X47","v":0},{"$f":"+'TEC3'!U47","v":0},{"$f":"+'TEC3'!V47","v":0},{"$f":"+'TEC3'!W47","v":0},{"$f":"+'TEC3'!X47","v":0},{"$f":"+'TEC4'!U47","v":0},{"$f":"+'TEC4'!V47","v":0},{"$f":"+'TEC4'!W47","v":0},{"$f":"+'TEC4'!X47","v":0},{"$f":"+'TEC5'!U47","v":0},{"$f":"+'TEC5'!V47","v":0},{"$f":"+'TEC5'!W47","v":0},{"$f":"+'TEC5'!X47","v":0},{"$f":"+'TEC6'!U47","v":0},{"$f":"+'TEC6'!V47","v":0},{"$f":"+'TEC6'!W47","v":0},{"$f":"+'TEC6'!X47","v":0}]
[null,{"$f":"+IF('TEC1'!U48=0,\"\",'TEC1'!U48)","v":""},{"$f":"+IF('TEC1'!V48=0,\"\",'TEC1'!V48)","v":""},{"$f":"+IF('TEC1'!W48=0,\"\",'TEC1'!W48)","v":""},{"$f":"+IF('TEC1'!X48=0,\"\",'TEC1'!X48)","v":""},{"$f":"+'TEC2'!U48","v":0},{"$f":"+'TEC2'!V48","v":0},{"$f":"+'TEC2'!W48","v":0},{"$f":"+'TEC2'!X48","v":0},{"$f":"+'TEC3'!U48","v":0},{"$f":"+'TEC3'!V48","v":0},{"$f":"+'TEC3'!W48","v":0},{"$f":"+'TEC3'!X48","v":0},{"$f":"+'TEC4'!U48","v":0},{"$f":"+'TEC4'!V48","v":0},{"$f":"+'TEC4'!W48","v":0},{"$f":"+'TEC4'!X48","v":0},{"$f":"+'TEC5'!U48","v":0},{"$f":"+'TEC5'!V48","v":0},{"$f":"+'TEC5'!W48","v":0},{"$f":"+'TEC5'!X48","v":0},{"$f":"+'TEC6'!U48","v":0},{"$f":"+'TEC6'!V48","v":0},{"$f":"+'TEC6'!W48","v":0},{"$f":"+'TEC6'!X48","v":0}]
[null,{"$f":"+IF('TEC1'!U49=0,\"\",'TEC1'!U49)","v":""},{"$f":"+IF('TEC1'!V49=0,\"\",'TEC1'!V49)","v":""},{"$f":"+IF('TEC1'!W49=0,\"\",'TEC1'!W49)","v":""},{"$f":"+IF('TEC1'!X49=0,\"\",'TEC1'!X49)","v":""},{"$f":"+'TEC2'!U49","v":0},{"$f":"+'TEC2'!V49","v":0},{"$f":"+'TEC2'!W49","v":0},{"$f":"+'TEC2'!X49","v":0},{"$f":"+'TEC3'!U49","v":0},{"$f":"+'TEC3'!V49","v":0},{"$f":"+'TEC3'!W49","v":0},{"$f":"+'TEC3'!X49","v":0},{"$f":"+'TEC4'!U49","v":0},{"$f":"+'TEC4'!V49","v":0},{"$f":"+'TEC4'!W49","v":0},{"$f":"+'TEC4'!X49","v":0},{"$f":"+'TEC5'!U49","v":0},{"$f":"+'TEC5'!V49","v":0},{"$f":"+'TEC5'!W49","v":0},{"$f":"+'TEC5'!X49","v":0},{"$f":"+'TEC6'!U49","v":0},{"$f":"+'TEC6'!V49","v":0},{"$f":"+'TEC6'!W49","v":0},{"$f":"+'TEC6'!X49","v":0}]
[null,{"$f":"+IF('TEC1'!U50=0,\"\",'TEC1'!U50)","v":""},{"$f":"+IF('TEC1'!V50=0,\"\",'TEC1'!V50)","v":""},{"$f":"+IF('TEC1'!W50=0,\"\",'TEC1'!W50)","v":""},{"$f":"+IF('TEC1'!X50=0,\"\",'TEC1'!X50)","v":""},{"$f":"+'TEC2'!U50","v":0},{"$f":"+'TEC2'!V50","v":0},{"$f":"+'TEC2'!W50","v":0},{"$f":"+'TEC2'!X50","v":0},{"$f":"+'TEC3'!U50","v":0},{"$f":"+'TEC3'!V50","v":0},{"$f":"+'TEC3'!W50","v":0},{"$f":"+'TEC3'!X50","v":0},{"$f":"+'TEC4'!U50","v":0},{"$f":"+'TEC4'!V50","v":0},{"$f":"+'TEC4'!W50","v":0},{"$f":"+'TEC4'!X50","v":0},{"$f":"+'TEC5'!U50","v":0},{"$f":"+'TEC5'!V50","v":0},{"$f":"+'TEC5'!W50","v":0},{"$f":"+'TEC5'!X50","v":0},{"$f":"+'TEC6'!U50","v":0},{"$f":"+'TEC6'!V50","v":0},{"$f":"+'TEC6'!W50","v":0},{"$f":"+'TEC6'!X50","v":0}]
[null,{"$f":"+IF('TEC1'!U51=0,\"\",'TEC1'!U51)","v":""},{"$f":"+IF('TEC1'!V51=0,\"\",'TEC1'!V51)","v":""},{"$f":"+IF('TEC1'!W51=0,\"\",'TEC1'!W51)","v":""},{"$f":"+IF('TEC1'!X51=0,\"\",'TEC1'!X51)","v":""},{"$f":"+'TEC2'!U51","v":0},{"$f":"+'TEC2'!V51","v":0},{"$f":"+'TEC2'!W51","v":0},{"$f":"+'TEC2'!X51","v":0},{"$f":"+'TEC3'!U51","v":0},{"$f":"+'TEC3'!V51","v":0},{"$f":"+'TEC3'!W51","v":0},{"$f":"+'TEC3'!X51","v":0},{"$f":"+'TEC4'!U51","v":0},{"$f":"+'TEC4'!V51","v":0},{"$f":"+'TEC4'!W51","v":0},{"$f":"+'TEC4'!X51","v":0},{"$f":"+'TEC5'!U51","v":0},{"$f":"+'TEC5'!V51","v":0},{"$f":"+'TEC5'!W51","v":0},{"$f":"+'TEC5'!X51","v":0},{"$f":"+'TEC6'!U51","v":0},{"$f":"+'TEC6'!V51","v":0},{"$f":"+'TEC6'!W51","v":0},{"$f":"+'TEC6'!X51","v":0}]
[null,{"$f":"+IF('TEC1'!U52=0,\"\",'TEC1'!U52)","v":""},{"$f":"+IF('TEC1'!V52=0,\"\",'TEC1'!V52)","v":""},{"$f":"+IF('TEC1'!W52=0,\"\",'TEC1'!W52)","v":""},{"$f":"+IF('TEC1'!X52=0,\"\",'TEC1'!X52)","v":""},{"$f":"+'TEC2'!U52","v":0},{"$f":"+'TEC2'!V52","v":0},{"$f":"+'TEC2'!W52","v":0},{"$f":"+'TEC2'!X52","v":0},{"$f":"+'TEC3'!U52","v":0},{"$f":"+'TEC3'!V52","v":0},{"$f":"+'TEC3'!W52","v":0},{"$f":"+'TEC3'!X52","v":0},{"$f":"+'TEC4'!U52","v":0},{"$f":"+'TEC4'!V52","v":0},{"$f":"+'TEC4'!W52","v":0},{"$f":"+'TEC4'!X52","v":0},{"$f":"+'TEC5'!U52","v":0},{"$f":"+'TEC5'!V52","v":0},{"$f":"+'TEC5'!W52","v":0},{"$f":"+'TEC5'!X52","v":0},{"$f":"+'TEC6'!U52","v":0},{"$f":"+'TEC6'!V52","v":0},{"$f":"+'TEC6'!W52","v":0},{"$f":"+'TEC6'!X52","v":0}]
[null,{"$f":"+IF('TEC1'!U53=0,\"\",'TEC1'!U53)","v":""},{"$f":"+IF('TEC1'!V53=0,\"\",'TEC1'!V53)","v":""},{"$f":"+IF('TEC1'!W53=0,\"\",'TEC1'!W53)","v":""},{"$f":"+IF('TEC1'!X53=0,\"\",'TEC1'!X53)","v":""},{"$f":"+'TEC2'!U53","v":0},{"$f":"+'TEC2'!V53","v":0},{"$f":"+'TEC2'!W53","v":0},{"$f":"+'TEC2'!X53","v":0},{"$f":"+'TEC3'!U53","v":0},{"$f":"+'TEC3'!V53","v":0},{"$f":"+'TEC3'!W53","v":0},{"$f":"+'TEC3'!X53","v":0},{"$f":"+'TEC4'!U53","v":0},{"$f":"+'TEC4'!V53","v":0},{"$f":"+'TEC4'!W53","v":0},{"$f":"+'TEC4'!X53","v":0},{"$f":"+'TEC5'!U53","v":0},{"$f":"+'TEC5'!V53","v":0},{"$f":"+'TEC5'!W53","v":0},{"$f":"+'TEC5'!X53","v":0},{"$f":"+'TEC6'!U53","v":0},{"$f":"+'TEC6'!V53","v":0},{"$f":"+'TEC6'!W53","v":0},{"$f":"+'TEC6'!X53","v":0}]
[null,{"$f":"+IF('TEC1'!U54=0,\"\",'TEC1'!U54)","v":""},{"$f":"+IF('TEC1'!V54=0,\"\",'TEC1'!V54)","v":""},{"$f":"+IF('TEC1'!W54=0,\"\",'TEC1'!W54)","v":""},{"$f":"+IF('TEC1'!X54=0,\"\",'TEC1'!X54)","v":""},{"$f":"+'TEC2'!U54","v":0},{"$f":"+'TEC2'!V54","v":0},{"$f":"+'TEC2'!W54","v":0},{"$f":"+'TEC2'!X54","v":0},{"$f":"+'TEC3'!U54","v":0},{"$f":"+'TEC3'!V54","v":0},{"$f":"+'TEC3'!W54","v":0},{"$f":"+'TEC3'!X54","v":0},{"$f":"+'TEC4'!U54","v":0},{"$f":"+'TEC4'!V54","v":0},{"$f":"+'TEC4'!W54","v":0},{"$f":"+'TEC4'!X54","v":0},{"$f":"+'TEC5'!U54","v":0},{"$f":"+'TEC5'!V54","v":0},{"$f":"+'TEC5'!W54","v":0},{"$f":"+'TEC5'!X54","v":0},{"$f":"+'TEC6'!U54","v":0},{"$f":"+'TEC6'!V54","v":0},{"$f":"+'TEC6'!W54","v":0},{"$f":"+'TEC6'!X54","v":0}]
[null,{"$f":"+IF('TEC1'!U55=0,\"\",'TEC1'!U55)","v":""},{"$f":"+IF('TEC1'!V55=0,\"\",'TEC1'!V55)","v":""},{"$f":"+IF('TEC1'!W55=0,\"\",'TEC1'!W55)","v":""},{"$f":"+IF('TEC1'!X55=0,\"\",'TEC1'!X55)","v":""},{"$f":"+'TEC2'!U55","v":0},{"$f":"+'TEC2'!V55","v":0},{"$f":"+'TEC2'!W55","v":0},{"$f":"+'TEC2'!X55","v":0},{"$f":"+'TEC3'!U55","v":0},{"$f":"+'TEC3'!V55","v":0},{"$f":"+'TEC3'!W55","v":0},{"$f":"+'TEC3'!X55","v":0},{"$f":"+'TEC4'!U55","v":0},{"$f":"+'TEC4'!V55","v":0},{"$f":"+'TEC4'!W55","v":0},{"$f":"+'TEC4'!X55","v":0},{"$f":"+'TEC5'!U55","v":0},{"$f":"+'TEC5'!V55","v":0},{"$f":"+'TEC5'!W55","v":0},{"$f":"+'TEC5'!X55","v":0},{"$f":"+'TEC6'!U55","v":0},{"$f":"+'TEC6'!V55","v":0},{"$f":"+'TEC6'!W55","v":0},{"$f":"+'TEC6'!X55","v":0}]
[null,{"$f":"+IF('TEC1'!U56=0,\"\",'TEC1'!U56)","v":""},{"$f":"+IF('TEC1'!V56=0,\"\",'TEC1'!V56)","v":""},{"$f":"+IF('TEC1'!W56=0,\"\",'TEC1'!W56)","v":""},{"$f":"+IF('TEC1'!X56=0,\"\",'TEC1'!X56)","v":""},{"$f":"+'TEC2'!U56","v":0},{"$f":"+'TEC2'!V56","v":0},{"$f":"+'TEC2'!W56","v":0},{"$f":"+'TEC2'!X56","v":0},{"$f":"+'TEC3'!U56","v":0},{"$f":"+'TEC3'!V56","v":0},{"$f":"+'TEC3'!W56","v":0},{"$f":"+'TEC3'!X56","v":0},{"$f":"+'TEC4'!U56","v":0},{"$f":"+'TEC4'!V56","v":0},{"$f":"+'TEC4'!W56","v":0},{"$f":"+'TEC4'!X56","v":0},{"$f":"+'TEC5'!U56","v":0},{"$f":"+'TEC5'!V56","v":0},{"$f":"+'TEC5'!W56","v":0},{"$f":"+'TEC5'!X56","v":0},{"$f":"+'TEC6'!U56","v":0},{"$f":"+'TEC6'!V56","v":0},{"$f":"+'TEC6'!W56","v":0},{"$f":"+'TEC6'!X56","v":0}]
[null,{"$f":"+IF('TEC1'!U57=0,\"\",'TEC1'!U57)","v":""},{"$f":"+IF('TEC1'!V57=0,\"\",'TEC1'!V57)","v":""},{"$f":"+IF('TEC1'!W57=0,\"\",'TEC1'!W57)","v":""},{"$f":"+IF('TEC1'!X57=0,\"\",'TEC1'!X57)","v":""},{"$f":"+'TEC2'!U57","v":0},{"$f":"+'TEC2'!V57","v":0},{"$f":"+'TEC2'!W57","v":0},{"$f":"+'TEC2'!X57","v":0},{"$f":"+'TEC3'!U57","v":0},{"$f":"+'TEC3'!V57","v":0},{"$f":"+'TEC3'!W57","v":0},{"$f":"+'TEC3'!X57","v":0},{"$f":"+'TEC4'!U57","v":0},{"$f":"+'TEC4'!V57","v":0},{"$f":"+'TEC4'!W57","v":0},{"$f":"+'TEC4'!X57","v":0},{"$f":"+'TEC5'!U57","v":0},{"$f":"+'TEC5'!V57","v":0},{"$f":"+'TEC5'!W57","v":0},{"$f":"+'TEC5'!X57","v":0},{"$f":"+'TEC6'!U57","v":0},{"$f":"+'TEC6'!V57","v":0},{"$f":"+'TEC6'!W57","v":0},{"$f":"+'TEC6'!X57","v":0}]
[null,{"$f":"+IF('TEC1'!U58=0,\"\",'TEC1'!U58)","v":""},{"$f":"+IF('TEC1'!V58=0,\"\",'TEC1'!V58)","v":""},{"$f":"+IF('TEC1'!W58=0,\"\",'TEC1'!W58)","v":""},{"$f":"+IF('TEC1'!X58=0,\"\",'TEC1'!X58)","v":""},{"$f":"+'TEC2'!U58","v":0},{"$f":"+'TEC2'!V58","v":0},{"$f":"+'TEC2'!W58","v":0},{"$f":"+'TEC2'!X58","v":0},{"$f":"+'TEC3'!U58","v":0},{"$f":"+'TEC3'!V58","v":0},{"$f":"+'TEC3'!W58","v":0},{"$f":"+'TEC3'!X58","v":0},{"$f":"+'TEC4'!U58","v":0},{"$f":"+'TEC4'!V58","v":0},{"$f":"+'TEC4'!W58","v":0},{"$f":"+'TEC4'!X58","v":0},{"$f":"+'TEC5'!U58","v":0},{"$f":"+'TEC5'!V58","v":0},{"$f":"+'TEC5'!W58","v":0},{"$f":"+'TEC5'!X58","v":0},{"$f":"+'TEC6'!U58","v":0},{"$f":"+'TEC6'!V58","v":0},{"$f":"+'TEC6'!W58","v":0},{"$f":"+'TEC6'!X58","v":0}]
[null,{"$f":"+IF('TEC1'!U59=0,\"\",'TEC1'!U59)","v":""},{"$f":"+IF('TEC1'!V59=0,\"\",'TEC1'!V59)","v":""},{"$f":"+IF('TEC1'!W59=0,\"\",'TEC1'!W59)","v":""},{"$f":"+IF('TEC1'!X59=0,\"\",'TEC1'!X59)","v":""},{"$f":"+'TEC2'!U59","v":0},{"$f":"+'TEC2'!V59","v":0},{"$f":"+'TEC2'!W59","v":0},{"$f":"+'TEC2'!X59","v":0},{"$f":"+'TEC3'!U59","v":0},{"$f":"+'TEC3'!V59","v":0},{"$f":"+'TEC3'!W59","v":0},{"$f":"+'TEC3'!X59","v":0},{"$f":"+'TEC4'!U59","v":0},{"$f":"+'TEC4'!V59","v":0},{"$f":"+'TEC4'!W59","v":0},{"$f":"+'TEC4'!X59","v":0},{"$f":"+'TEC5'!U59","v":0},{"$f":"+'TEC5'!V59","v":0},{"$f":"+'TEC5'!W59","v":0},{"$f":"+'TEC5'!X59","v":0},{"$f":"+'TEC6'!U59","v":0},{"$f":"+'TEC6'!V59","v":0},{"$f":"+'TEC6'!W59","v":0},{"$f":"+'TEC6'!X59","v":0}]
[null,{"$f":"+IF('TEC1'!U60=0,\"\",'TEC1'!U60)","v":""},{"$f":"+IF('TEC1'!V60=0,\"\",'TEC1'!V60)","v":""},{"$f":"+IF('TEC1'!W60=0,\"\",'TEC1'!W60)","v":""},{"$f":"+IF('TEC1'!X60=0,\"\",'TEC1'!X60)","v":""},{"$f":"+'TEC2'!U60","v":0},{"$f":"+'TEC2'!V60","v":0},{"$f":"+'TEC2'!W60","v":0},{"$f":"+'TEC2'!X60","v":0},{"$f":"+'TEC3'!U60","v":0},{"$f":"+'TEC3'!V60","v":0},{"$f":"+'TEC3'!W60","v":0},{"$f":"+'TEC3'!X60","v":0},{"$f":"+'TEC4'!U60","v":0},{"$f":"+'TEC4'!V60","v":0},{"$f":"+'TEC4'!W60","v":0},{"$f":"+'TEC4'!X60","v":0},{"$f":"+'TEC5'!U60","v":0},{"$f":"+'TEC5'!V60","v":0},{"$f":"+'TEC5'!W60","v":0},{"$f":"+'TEC5'!X60","v":0},{"$f":"+'TEC6'!U60","v":0},{"$f":"+'TEC6'!V60","v":0},{"$f":"+'TEC6'!W60","v":0},{"$f":"+'TEC6'!X60","v":0}]
[null,{"$f":"+IF('TEC1'!U61=0,\"\",'TEC1'!U61)","v":""},{"$f":"+IF('TEC1'!V61=0,\"\",'TEC1'!V61)","v":""},{"$f":"+IF('TEC1'!W61=0,\"\",'TEC1'!W61)","v":""},{"$f":"+IF('TEC1'!X61=0,\"\",'TEC1'!X61)","v":""},{"$f":"+'TEC2'!U61","v":0},{"$f":"+'TEC2'!V61","v":0},{"$f":"+'TEC2'!W61","v":0},{"$f":"+'TEC2'!X61","v":0},{"$f":"+'TEC3'!U61","v":0},{"$f":"+'TEC3'!V61","v":0},{"$f":"+'TEC3'!W61","v":0},{"$f":"+'TEC3'!X61","v":0},{"$f":"+'TEC4'!U61","v":0},{"$f":"+'TEC4'!V61","v":0},{"$f":"+'TEC4'!W61","v":0},{"$f":"+'TEC4'!X61","v":0},{"$f":"+'TEC5'!U61","v":0},{"$f":"+'TEC5'!V61","v":0},{"$f":"+'TEC5'!W61","v":0},{"$f":"+'TEC5'!X61","v":0},{"$f":"+'TEC6'!U61","v":0},{"$f":"+'TEC6'!V61","v":0},{"$f":"+'TEC6'!W61","v":0},{"$f":"+'TEC6'!X61","v":0}]
[null,{"$f":"+IF('TEC1'!U62=0,\"\",'TEC1'!U62)","v":""},{"$f":"+IF('TEC1'!V62=0,\"\",'TEC1'!V62)","v":""},{"$f":"+IF('TEC1'!W62=0,\"\",'TEC1'!W62)","v":""},{"$f":"+IF('TEC1'!X62=0,\"\",'TEC1'!X62)","v":""},{"$f":"+'TEC2'!U62","v":0},{"$f":"+'TEC2'!V62","v":0},{"$f":"+'TEC2'!W62","v":0},{"$f":"+'TEC2'!X62","v":0},{"$f":"+'TEC3'!U62","v":0},{"$f":"+'TEC3'!V62","v":0},{"$f":"+'TEC3'!W62","v":0},{"$f":"+'TEC3'!X62","v":0},{"$f":"+'TEC4'!U62","v":0},{"$f":"+'TEC4'!V62","v":0},{"$f":"+'TEC4'!W62","v":0},{"$f":"+'TEC4'!X62","v":0},{"$f":"+'TEC5'!U62","v":0},{"$f":"+'TEC5'!V62","v":0},{"$f":"+'TEC5'!W62","v":0},{"$f":"+'TEC5'!X62","v":0},{"$f":"+'TEC6'!U62","v":0},{"$f":"+'TEC6'!V62","v":0},{"$f":"+'TEC6'!W62","v":0},{"$f":"+'TEC6'!X62","v":0}]
[null,{"$f":"+IF('TEC1'!U63=0,\"\",'TEC1'!U63)","v":""},{"$f":"+IF('TEC1'!V63=0,\"\",'TEC1'!V63)","v":""},{"$f":"+IF('TEC1'!W63=0,\"\",'TEC1'!W63)","v":""},{"$f":"+IF('TEC1'!X63=0,\"\",'TEC1'!X63)","v":""},{"$f":"+'TEC2'!U63","v":0},{"$f":"+'TEC2'!V63","v":0},{"$f":"+'TEC2'!W63","v":0},{"$f":"+'TEC2'!X63","v":0},{"$f":"+'TEC3'!U63","v":0},{"$f":"+'TEC3'!V63","v":0},{"$f":"+'TEC3'!W63","v":0},{"$f":"+'TEC3'!X63","v":0},{"$f":"+'TEC4'!U63","v":0},{"$f":"+'TEC4'!V63","v":0},{"$f":"+'TEC4'!W63","v":0},{"$f":"+'TEC4'!X63","v":0},{"$f":"+'TEC5'!U63","v":0},{"$f":"+'TEC5'!V63","v":0},{"$f":"+'TEC5'!W63","v":0},{"$f":"+'TEC5'!X63","v":0},{"$f":"+'TEC6'!U63","v":0},{"$f":"+'TEC6'!V63","v":0},{"$f":"+'TEC6'!W63","v":0},{"$f":"+'TEC6'!X63","v":0}]
[null,{"$f":"+IF('TEC1'!U64=0,\"\",'TEC1'!U64)","v":""},{"$f":"+IF('TEC1'!V64=0,\"\",'TEC1'!V64)","v":""},{"$f":"+IF('TEC1'!W64=0,\"\",'TEC1'!W64)","v":""},{"$f":"+IF('TEC1'!X64=0,\"\",'TEC1'!X64)","v":""},{"$f":"+'TEC2'!U64","v":0},{"$f":"+'TEC2'!V64","v":0},{"$f":"+'TEC2'!W64","v":0},{"$f":"+'TEC2'!X64","v":0},{"$f":"+'TEC3'!U64","v":0},{"$f":"+'TEC3'!V64","v":0},{"$f":"+'TEC3'!W64","v":0},{"$f":"+'TEC3'!X64","v":0},{"$f":"+'TEC4'!U64","v":0},{"$f":"+'TEC4'!V64","v":0},{"$f":"+'TEC4'!W64","v":0},{"$f":"+'TEC4'!X64","v":0},{"$f":"+'TEC5'!U64","v":0},{"$f":"+'TEC5'!V64","v":0},{"$f":"+'TEC5'!W64","v":0},{"$f":"+'TEC5'!X64","v":0},{"$f":"+'TEC6'!U64","v":0},{"$f":"+'TEC6'!V64","v":0},{"$f":"+'TEC6'!W64","v":0},{"$f":"+'TEC6'!X64","v":0}]
[null,{"$f":"+IF('TEC1'!U65=0,\"\",'TEC1'!U65)","v":""},{"$f":"+IF('TEC1'!V65=0,\"\",'TEC1'!V65)","v":""},{"$f":"+IF('TEC1'!W65=0,\"\",'TEC1'!W65)","v":""},{"$f":"+IF('TEC1'!X65=0,\"\",'TEC1'!X65)","v":""},{"$f":"+'TEC2'!U65","v":0},{"$f":"+'TEC2'!V65","v":0},{"$f":"+'TEC2'!W65","v":0},{"$f":"+'TEC2'!X65","v":0},{"$f":"+'TEC3'!U65","v":0},{"$f":"+'TEC3'!V65","v":0},{"$f":"+'TEC3'!W65","v":0},{"$f":"+'TEC3'!X65","v":0},{"$f":"+'TEC4'!U65","v":0},{"$f":"+'TEC4'!V65","v":0},{"$f":"+'TEC4'!W65","v":0},{"$f":"+'TEC4'!X65","v":0},{"$f":"+'TEC5'!U65","v":0},{"$f":"+'TEC5'!V65","v":0},{"$f":"+'TEC5'!W65","v":0},{"$f":"+'TEC5'!X65","v":0},{"$f":"+'TEC6'!U65","v":0},{"$f":"+'TEC6'!V65","v":0},{"$f":"+'TEC6'!W65","v":0},{"$f":"+'TEC6'!X65","v":0}]
[null,{"$f":"+IF('TEC1'!U66=0,\"\",'TEC1'!U66)","v":""},{"$f":"+IF('TEC1'!V66=0,\"\",'TEC1'!V66)","v":""},{"$f":"+IF('TEC1'!W66=0,\"\",'TEC1'!W66)","v":""},{"$f":"+IF('TEC1'!X66=0,\"\",'TEC1'!X66)","v":""},{"$f":"+'TEC2'!U66","v":0},{"$f":"+'TEC2'!V66","v":0},{"$f":"+'TEC2'!W66","v":0},{"$f":"+'TEC2'!X66","v":0},{"$f":"+'TEC3'!U66","v":0},{"$f":"+'TEC3'!V66","v":0},{"$f":"+'TEC3'!W66","v":0},{"$f":"+'TEC3'!X66","v":0},{"$f":"+'TEC4'!U66","v":0},{"$f":"+'TEC4'!V66","v":0},{"$f":"+'TEC4'!W66","v":0},{"$f":"+'TEC4'!X66","v":0},{"$f":"+'TEC5'!U66","v":0},{"$f":"+'TEC5'!V66","v":0},{"$f":"+'TEC5'!W66","v":0},{"$f":"+'TEC5'!X66","v":0},{"$f":"+'TEC6'!U66","v":0},{"$f":"+'TEC6'!V66","v":0},{"$f":"+'TEC6'!W66","v":0},{"$f":"+'TEC6'!X66","v":0}]
[null,{"$f":"+IF('TEC1'!U67=0,\"\",'TEC1'!U67)","v":""},{"$f":"+IF('TEC1'!V67=0,\"\",'TEC1'!V67)","v":""},{"$f":"+IF('TEC1'!W67=0,\"\",'TEC1'!W67)","v":""},{"$f":"+IF('TEC1'!X67=0,\"\",'TEC1'!X67)","v":""},{"$f":"+'TEC2'!U67","v":0},{"$f":"+'TEC2'!V67","v":0},{"$f":"+'TEC2'!W67","v":0},{"$f":"+'TEC2'!X67","v":0},{"$f":"+'TEC3'!U67","v":0},{"$f":"+'TEC3'!V67","v":0},{"$f":"+'TEC3'!W67","v":0},{"$f":"+'TEC3'!X67","v":0},{"$f":"+'TEC4'!U67","v":0},{"$f":"+'TEC4'!V67","v":0},{"$f":"+'TEC4'!W67","v":0},{"$f":"+'TEC4'!X67","v":0},{"$f":"+'TEC5'!U67","v":0},{"$f":"+'TEC5'!V67","v":0},{"$f":"+'TEC5'!W67","v":0},{"$f":"+'TEC5'!X67","v":0},{"$f":"+'TEC6'!U67","v":0},{"$f":"+'TEC6'!V67","v":0},{"$f":"+'TEC6'!W67","v":0},{"$f":"+'TEC6'!X67","v":0}]
[null,{"$f":"+IF('TEC1'!U68=0,\"\",'TEC1'!U68)","v":""},{"$f":"+IF('TEC1'!V68=0,\"\",'TEC1'!V68)","v":""},{"$f":"+IF('TEC1'!W68=0,\"\",'TEC1'!W68)","v":""},{"$f":"+IF('TEC1'!X68=0,\"\",'TEC1'!X68)","v":""},{"$f":"+'TEC2'!U68","v":0},{"$f":"+'TEC2'!V68","v":0},{"$f":"+'TEC2'!W68","v":0},{"$f":"+'TEC2'!X68","v":0},{"$f":"+'TEC3'!U68","v":0},{"$f":"+'TEC3'!V68","v":0},{"$f":"+'TEC3'!W68","v":0},{"$f":"+'TEC3'!X68","v":0},{"$f":"+'TEC4'!U68","v":0},{"$f":"+'TEC4'!V68","v":0},{"$f":"+'TEC4'!W68","v":0},{"$f":"+'TEC4'!X68","v":0},{"$f":"+'TEC5'!U68","v":0},{"$f":"+'TEC5'!V68","v":0},{"$f":"+'TEC5'!W68","v":0},{"$f":"+'TEC5'!X68","v":0},{"$f":"+'TEC6'!U68","v":0},{"$f":"+'TEC6'!V68","v":0},{"$f":"+'TEC6'!W68","v":0},{"$f":"+'TEC6'!X68","v":0}]
[null,{"$f":"+IF('TEC1'!U69=0,\"\",'TEC1'!U69)","v":""},{"$f":"+IF('TEC1'!V69=0,\"\",'TEC1'!V69)","v":""},{"$f":"+IF('TEC1'!W69=0,\"\",'TEC1'!W69)","v":""},{"$f":"+IF('TEC1'!X69=0,\"\",'TEC1'!X69)","v":""},{"$f":"+'TEC2'!U69","v":0},{"$f":"+'TEC2'!V69","v":0},{"$f":"+'TEC2'!W69","v":0},{"$f":"+'TEC2'!X69","v":0},{"$f":"+'TEC3'!U69","v":0},{"$f":"+'TEC3'!V69","v":0},{"$f":"+'TEC3'!W69","v":0},{"$f":"+'TEC3'!X69","v":0},{"$f":"+'TEC4'!U69","v":0},{"$f":"+'TEC4'!V69","v":0},{"$f":"+'TEC4'!W69","v":0},{"$f":"+'TEC4'!X69","v":0},{"$f":"+'TEC5'!U69","v":0},{"$f":"+'TEC5'!V69","v":0},{"$f":"+'TEC5'!W69","v":0},{"$f":"+'TEC5'!X69","v":0},{"$f":"+'TEC6'!U69","v":0},{"$f":"+'TEC6'!V69","v":0},{"$f":"+'TEC6'!W69","v":0},{"$f":"+'TEC6'!X69","v":0}]
[null,{"$f":"+IF('TEC1'!U70=0,\"\",'TEC1'!U70)","v":""},{"$f":"+IF('TEC1'!V70=0,\"\",'TEC1'!V70)","v":""},{"$f":"+IF('TEC1'!W70=0,\"\",'TEC1'!W70)","v":""},{"$f":"+IF('TEC1'!X70=0,\"\",'TEC1'!X70)","v":""},{"$f":"+'TEC2'!U70","v":0},{"$f":"+'TEC2'!V70","v":0},{"$f":"+'TEC2'!W70","v":0},{"$f":"+'TEC2'!X70","v":0},{"$f":"+'TEC3'!U70","v":0},{"$f":"+'TEC3'!V70","v":0},{"$f":"+'TEC3'!W70","v":0},{"$f":"+'TEC3'!X70","v":0},{"$f":"+'TEC4'!U70","v":0},{"$f":"+'TEC4'!V70","v":0},{"$f":"+'TEC4'!W70","v":0},{"$f":"+'TEC4'!X70","v":0},{"$f":"+'TEC5'!U70","v":0},{"$f":"+'TEC5'!V70","v":0},{"$f":"+'TEC5'!W70","v":0},{"$f":"+'TEC5'!X70","v":0},{"$f":"+'TEC6'!U70","v":0},{"$f":"+'TEC6'!V70","v":0},{"$f":"+'TEC6'!W70","v":0},{"$f":"+'TEC6'!X70","v":0}]
[null,{"$f":"+IF('TEC1'!U71=0,\"\",'TEC1'!U71)","v":""},{"$f":"+IF('TEC1'!V71=0,\"\",'TEC1'!V71)","v":""},{"$f":"+IF('TEC1'!W71=0,\"\",'TEC1'!W71)","v":""},{"$f":"+IF('TEC1'!X71=0,\"\",'TEC1'!X71)","v":""},{"$f":"+'TEC2'!U71","v":0},{"$f":"+'TEC2'!V71","v":0},{"$f":"+'TEC2'!W71","v":0},{"$f":"+'TEC2'!X71","v":0},{"$f":"+'TEC3'!U71","v":0},{"$f":"+'TEC3'!V71","v":0},{"$f":"+'TEC3'!W71","v":0},{"$f":"+'TEC3'!X71","v":0},{"$f":"+'TEC4'!U71","v":0},{"$f":"+'TEC4'!V71","v":0},{"$f":"+'TEC4'!W71","v":0},{"$f":"+'TEC4'!X71","v":0},{"$f":"+'TEC5'!U71","v":0},{"$f":"+'TEC5'!V71","v":0},{"$f":"+'TEC5'!W71","v":0},{"$f":"+'TEC5'!X71","v":0},{"$f":"+'TEC6'!U71","v":0},{"$f":"+'TEC6'!V71","v":0},{"$f":"+'TEC6'!W71","v":0},{"$f":"+'TEC6'!X71","v":0}]
[null,{"$f":"+IF('TEC1'!U72=0,\"\",'TEC1'!U72)","v":""},{"$f":"+IF('TEC1'!V72=0,\"\",'TEC1'!V72)","v":""},{"$f":"+IF('TEC1'!W72=0,\"\",'TEC1'!W72)","v":""},{"$f":"+IF('TEC1'!X72=0,\"\",'TEC1'!X72)","v":""},{"$f":"+'TEC2'!U72","v":0},{"$f":"+'TEC2'!V72","v":0},{"$f":"+'TEC2'!W72","v":0},{"$f":"+'TEC2'!X72","v":0},{"$f":"+'TEC3'!U72","v":0},{"$f":"+'TEC3'!V72","v":0},{"$f":"+'TEC3'!W72","v":0},{"$f":"+'TEC3'!X72","v":0},{"$f":"+'TEC4'!U72","v":0},{"$f":"+'TEC4'!V72","v":0},{"$f":"+'TEC4'!W72","v":0},{"$f":"+'TEC4'!X72","v":0},{"$f":"+'TEC5'!U72","v":0},{"$f":"+'TEC5'!V72","v":0},{"$f":"+'TEC5'!W72","v":0},{"$f":"+'TEC5'!X72","v":0},{"$f":"+'TEC6'!U72","v":0},{"$f":"+'TEC6'!V72","v":0},{"$f":"+'TEC6'!W72","v":0},{"$f":"+'TEC6'!X72","v":0}]
[null,{"$f":"+IF('TEC1'!U73=0,\"\",'TEC1'!U73)","v":""},{"$f":"+IF('TEC1'!V73=0,\"\",'TEC1'!V73)","v":""},{"$f":"+IF('TEC1'!W73=0,\"\",'TEC1'!W73)","v":""},{"$f":"+IF('TEC1'!X73=0,\"\",'TEC1'!X73)","v":""},{"$f":"+'TEC2'!U73","v":0},{"$f":"+'TEC2'!V73","v":0},{"$f":"+'TEC2'!W73","v":0},{"$f":"+'TEC2'!X73","v":0},{"$f":"+'TEC3'!U73","v":0},{"$f":"+'TEC3'!V73","v":0},{"$f":"+'TEC3'!W73","v":0},{"$f":"+'TEC3'!X73","v":0},{"$f":"+'TEC4'!U73","v":0},{"$f":"+'TEC4'!V73","v":0},{"$f":"+'TEC4'!W73","v":0},{"$f":"+'TEC4'!X73","v":0},{"$f":"+'TEC5'!U73","v":0},{"$f":"+'TEC5'!V73","v":0},{"$f":"+'TEC5'!W73","v":0},{"$f":"+'TEC5'!X73","v":0},{"$f":"+'TEC6'!U73","v":0},{"$f":"+'TEC6'!V73","v":0},{"$f":"+'TEC6'!W73","v":0},{"$f":"+'TEC6'!X73","v":0}]
[null,{"$f":"+IF('TEC1'!U74=0,\"\",'TEC1'!U74)","v":""},{"$f":"+IF('TEC1'!V74=0,\"\",'TEC1'!V74)","v":""},{"$f":"+IF('TEC1'!W74=0,\"\",'TEC1'!W74)","v":""},{"$f":"+IF('TEC1'!X74=0,\"\",'TEC1'!X74)","v":""},{"$f":"+'TEC2'!U74","v":0},{"$f":"+'TEC2'!V74","v":0},{"$f":"+'TEC2'!W74","v":0},{"$f":"+'TEC2'!X74","v":0},{"$f":"+'TEC3'!U74","v":0},{"$f":"+'TEC3'!V74","v":0},{"$f":"+'TEC3'!W74","v":0},{"$f":"+'TEC3'!X74","v":0},{"$f":"+'TEC4'!U74","v":0},{"$f":"+'TEC4'!V74","v":0},{"$f":"+'TEC4'!W74","v":0},{"$f":"+'TEC4'!X74","v":0},{"$f":"+'TEC5'!U74","v":0},{"$f":"+'TEC5'!V74","v":0},{"$f":"+'TEC5'!W74","v":0},{"$f":"+'TEC5'!X74","v":0},{"$f":"+'TEC6'!U74","v":0},{"$f":"+'TEC6'!V74","v":0},{"$f":"+'TEC6'!W74","v":0},{"$f":"+'TEC6'!X74","v":0}]
[null,{"$f":"+IF('TEC1'!U75=0,\"\",'TEC1'!U75)","v":""},{"$f":"+IF('TEC1'!V75=0,\"\",'TEC1'!V75)","v":""},{"$f":"+IF('TEC1'!W75=0,\"\",'TEC1'!W75)","v":""},{"$f":"+IF('TEC1'!X75=0,\"\",'TEC1'!X75)","v":""},{"$f":"+'TEC2'!U75","v":0},{"$f":"+'TEC2'!V75","v":0},{"$f":"+'TEC2'!W75","v":0},{"$f":"+'TEC2'!X75","v":0},{"$f":"+'TEC3'!U75","v":0},{"$f":"+'TEC3'!V75","v":0},{"$f":"+'TEC3'!W75","v":0},{"$f":"+'TEC3'!X75","v":0},{"$f":"+'TEC4'!U75","v":0},{"$f":"+'TEC4'!V75","v":0},{"$f":"+'TEC4'!W75","v":0},{"$f":"+'TEC4'!X75","v":0},{"$f":"+'TEC5'!U75","v":0},{"$f":"+'TEC5'!V75","v":0},{"$f":"+'TEC5'!W75","v":0},{"$f":"+'TEC5'!X75","v":0},{"$f":"+'TEC6'!U75","v":0},{"$f":"+'TEC6'!V75","v":0},{"$f":"+'TEC6'!W75","v":0},{"$f":"+'TEC6'!X75","v":0}]
[null,{"$f":"+IF('TEC1'!U76=0,\"\",'TEC1'!U76)","v":""},{"$f":"+IF('TEC1'!V76=0,\"\",'TEC1'!V76)","v":""},{"$f":"+IF('TEC1'!W76=0,\"\",'TEC1'!W76)","v":""},{"$f":"+IF('TEC1'!X76=0,\"\",'TEC1'!X76)","v":""},{"$f":"+'TEC2'!U76","v":0},{"$f":"+'TEC2'!V76","v":0},{"$f":"+'TEC2'!W76","v":0},{"$f":"+'TEC2'!X76","v":0},{"$f":"+'TEC3'!U76","v":0},{"$f":"+'TEC3'!V76","v":0},{"$f":"+'TEC3'!W76","v":0},{"$f":"+'TEC3'!X76","v":0},{"$f":"+'TEC4'!U76","v":0},{"$f":"+'TEC4'!V76","v":0},{"$f":"+'TEC4'!W76","v":0},{"$f":"+'TEC4'!X76","v":0},{"$f":"+'TEC5'!U76","v":0},{"$f":"+'TEC5'!V76","v":0},{"$f":"+'TEC5'!W76","v":0},{"$f":"+'TEC5'!X76","v":0},{"$f":"+'TEC6'!U76","v":0},{"$f":"+'TEC6'!V76","v":0},{"$f":"+'TEC6'!W76","v":0},{"$f":"+'TEC6'!X76","v":0}]
[null,{"$f":"+IF('TEC1'!U77=0,\"\",'TEC1'!U77)","v":""},{"$f":"+IF('TEC1'!V77=0,\"\",'TEC1'!V77)","v":""},{"$f":"+IF('TEC1'!W77=0,\"\",'TEC1'!W77)","v":""},{"$f":"+IF('TEC1'!X77=0,\"\",'TEC1'!X77)","v":""},{"$f":"+'TEC2'!U77","v":0},{"$f":"+'TEC2'!V77","v":0},{"$f":"+'TEC2'!W77","v":0},{"$f":"+'TEC2'!X77","v":0},{"$f":"+'TEC3'!U77","v":0},{"$f":"+'TEC3'!V77","v":0},{"$f":"+'TEC3'!W77","v":0},{"$f":"+'TEC3'!X77","v":0},{"$f":"+'TEC4'!U77","v":0},{"$f":"+'TEC4'!V77","v":0},{"$f":"+'TEC4'!W77","v":0},{"$f":"+'TEC4'!X77","v":0},{"$f":"+'TEC5'!U77","v":0},{"$f":"+'TEC5'!V77","v":0},{"$f":"+'TEC5'!W77","v":0},{"$f":"+'TEC5'!X77","v":0},{"$f":"+'TEC6'!U77","v":0},{"$f":"+'TEC6'!V77","v":0},{"$f":"+'TEC6'!W77","v":0},{"$f":"+'TEC6'!X77","v":0}]
[null,{"$f":"+IF('TEC1'!U78=0,\"\",'TEC1'!U78)","v":""},{"$f":"+IF('TEC1'!V78=0,\"\",'TEC1'!V78)","v":""},{"$f":"+IF('TEC1'!W78=0,\"\",'TEC1'!W78)","v":""},{"$f":"+IF('TEC1'!X78=0,\"\",'TEC1'!X78)","v":""},{"$f":"+'TEC2'!U78","v":0},{"$f":"+'TEC2'!V78","v":0},{"$f":"+'TEC2'!W78","v":0},{"$f":"+'TEC2'!X78","v":0},{"$f":"+'TEC3'!U78","v":0},{"$f":"+'TEC3'!V78","v":0},{"$f":"+'TEC3'!W78","v":0},{"$f":"+'TEC3'!X78","v":0},{"$f":"+'TEC4'!U78","v":0},{"$f":"+'TEC4'!V78","v":0},{"$f":"+'TEC4'!W78","v":0},{"$f":"+'TEC4'!X78","v":0},{"$f":"+'TEC5'!U78","v":0},{"$f":"+'TEC5'!V78","v":0},{"$f":"+'TEC5'!W78","v":0},{"$f":"+'TEC5'!X78","v":0},{"$f":"+'TEC6'!U78","v":0},{"$f":"+'TEC6'!V78","v":0},{"$f":"+'TEC6'!W78","v":0},{"$f":"+'TEC6'!X78","v":0}]
[null,{"$f":"+IF('TEC1'!U79=0,\"\",'TEC1'!U79)","v":""},{"$f":"+IF('TEC1'!V79=0,\"\",'TEC1'!V79)","v":""},{"$f":"+IF('TEC1'!W79=0,\"\",'TEC1'!W79)","v":""},{"$f":"+IF('TEC1'!X79=0,\"\",'TEC1'!X79)","v":""},{"$f":"+'TEC2'!U79","v":0},{"$f":"+'TEC2'!V79","v":0},{"$f":"+'TEC2'!W79","v":0},{"$f":"+'TEC2'!X79","v":0},{"$f":"+'TEC3'!U79","v":0},{"$f":"+'TEC3'!V79","v":0},{"$f":"+'TEC3'!W79","v":0},{"$f":"+'TEC3'!X79","v":0},{"$f":"+'TEC4'!U79","v":0},{"$f":"+'TEC4'!V79","v":0},{"$f":"+'TEC4'!W79","v":0},{"$f":"+'TEC4'!X79","v":0},{"$f":"+'TEC5'!U79","v":0},{"$f":"+'TEC5'!V79","v":0},{"$f":"+'TEC5'!W79","v":0},{"$f":"+'TEC5'!X79","v":0},{"$f":"+'TEC6'!U79","v":0},{"$f":"+'TEC6'!V79","v":0},{"$f":"+'TEC6'!W79","v":0},{"$f":"+'TEC6'!X79","v":0}]
[null,{"$f":"+IF('TEC1'!U80=0,\"\",'TEC1'!U80)","v":""},{"$f":"+IF('TEC1'!V80=0,\"\",'TEC1'!V80)","v":""},{"$f":"+IF('TEC1'!W80=0,\"\",'TEC1'!W80)","v":""},{"$f":"+IF('TEC1'!X80=0,\"\",'TEC1'!X80)","v":""},{"$f":"+'TEC2'!U80","v":0},{"$f":"+'TEC2'!V80","v":0},{"$f":"+'TEC2'!W80","v":0},{"$f":"+'TEC2'!X80","v":0},{"$f":"+'TEC3'!U80","v":0},{"$f":"+'TEC3'!V80","v":0},{"$f":"+'TEC3'!W80","v":0},{"$f":"+'TEC3'!X80","v":0},{"$f":"+'TEC4'!U80","v":0},{"$f":"+'TEC4'!V80","v":0},{"$f":"+'TEC4'!W80","v":0},{"$f":"+'TEC4'!X80","v":0},{"$f":"+'TEC5'!U80","v":0},{"$f":"+'TEC5'!V80","v":0},{"$f":"+'TEC5'!W80","v":0},{"$f":"+'TEC5'!X80","v":0},{"$f":"+'TEC6'!U80","v":0},{"$f":"+'TEC6'!V80","v":0},{"$f":"+'TEC6'!W80","v":0},{"$f":"+'TEC6'!X80","v":0}]
[null,{"$f":"+IF('TEC1'!U81=0,\"\",'TEC1'!U81)","v":""},{"$f":"+IF('TEC1'!V81=0,\"\",'TEC1'!V81)","v":""},{"$f":"+IF('TEC1'!W81=0,\"\",'TEC1'!W81)","v":""},{"$f":"+IF('TEC1'!X81=0,\"\",'TEC1'!X81)","v":""},{"$f":"+'TEC2'!U81","v":0},{"$f":"+'TEC2'!V81","v":0},{"$f":"+'TEC2'!W81","v":0},{"$f":"+'TEC2'!X81","v":0},{"$f":"+'TEC3'!U81","v":0},{"$f":"+'TEC3'!V81","v":0},{"$f":"+'TEC3'!W81","v":0},{"$f":"+'TEC3'!X81","v":0},{"$f":"+'TEC4'!U81","v":0},{"$f":"+'TEC4'!V81","v":0},{"$f":"+'TEC4'!W81","v":0},{"$f":"+'TEC4'!X81","v":0},{"$f":"+'TEC5'!U81","v":0},{"$f":"+'TEC5'!V81","v":0},{"$f":"+'TEC5'!W81","v":0},{"$f":"+'TEC5'!X81","v":0},{"$f":"+'TEC6'!U81","v":0},{"$f":"+'TEC6'!V81","v":0},{"$f":"+'TEC6'!W81","v":0},{"$f":"+'TEC6'!X81","v":0}]
[null,{"$f":"+IF('TEC1'!U82=0,\"\",'TEC1'!U82)","v":""},{"$f":"+IF('TEC1'!V82=0,\"\",'TEC1'!V82)","v":""},{"$f":"+IF('TEC1'!W82=0,\"\",'TEC1'!W82)","v":""},{"$f":"+IF('TEC1'!X82=0,\"\",'TEC1'!X82)","v":""},{"$f":"+'TEC2'!U82","v":0},{"$f":"+'TEC2'!V82","v":0},{"$f":"+'TEC2'!W82","v":0},{"$f":"+'TEC2'!X82","v":0},{"$f":"+'TEC3'!U82","v":0},{"$f":"+'TEC3'!V82","v":0},{"$f":"+'TEC3'!W82","v":0},{"$f":"+'TEC3'!X82","v":0},{"$f":"+'TEC4'!U82","v":0},{"$f":"+'TEC4'!V82","v":0},{"$f":"+'TEC4'!W82","v":0},{"$f":"+'TEC4'!X82","v":0},{"$f":"+'TEC5'!U82","v":0},{"$f":"+'TEC5'!V82","v":0},{"$f":"+'TEC5'!W82","v":0},{"$f":"+'TEC5'!X82","v":0},{"$f":"+'TEC6'!U82","v":0},{"$f":"+'TEC6'!V82","v":0},{"$f":"+'TEC6'!W82","v":0},{"$f":"+'TEC6'!X82","v":0}]
[null,{"$f":"+IF('TEC1'!U83=0,\"\",'TEC1'!U83)","v":""},{"$f":"+IF('TEC1'!V83=0,\"\",'TEC1'!V83)","v":""},{"$f":"+IF('TEC1'!W83=0,\"\",'TEC1'!W83)","v":""},{"$f":"+IF('TEC1'!X83=0,\"\",'TEC1'!X83)","v":""},{"$f":"+'TEC2'!U83","v":0},{"$f":"+'TEC2'!V83","v":0},{"$f":"+'TEC2'!W83","v":0},{"$f":"+'TEC2'!X83","v":0},{"$f":"+'TEC3'!U83","v":0},{"$f":"+'TEC3'!V83","v":0},{"$f":"+'TEC3'!W83","v":0},{"$f":"+'TEC3'!X83","v":0},{"$f":"+'TEC4'!U83","v":0},{"$f":"+'TEC4'!V83","v":0},{"$f":"+'TEC4'!W83","v":0},{"$f":"+'TEC4'!X83","v":0},{"$f":"+'TEC5'!U83","v":0},{"$f":"+'TEC5'!V83","v":0},{"$f":"+'TEC5'!W83","v":0},{"$f":"+'TEC5'!X83","v":0},{"$f":"+'TEC6'!U83","v":0},{"$f":"+'TEC6'!V83","v":0},{"$f":"+'TEC6'!W83","v":0},{"$f":"+'TEC6'!X83","v":0}]
[null,{"$f":"+IF('TEC1'!U84=0,\"\",'TEC1'!U84)","v":""},{"$f":"+IF('TEC1'!V84=0,\"\",'TEC1'!V84)","v":""},{"$f":"+IF('TEC1'!W84=0,\"\",'TEC1'!W84)","v":""},{"$f":"+IF('TEC1'!X84=0,\"\",'TEC1'!X84)","v":""},{"$f":"+'TEC2'!U84","v":0},{"$f":"+'TEC2'!V84","v":0},{"$f":"+'TEC2'!W84","v":0},{"$f":"+'TEC2'!X84","v":0},{"$f":"+'TEC3'!U84","v":0},{"$f":"+'TEC3'!V84","v":0},{"$f":"+'TEC3'!W84","v":0},{"$f":"+'TEC3'!X84","v":0},{"$f":"+'TEC4'!U84","v":0},{"$f":"+'TEC4'!V84","v":0},{"$f":"+'TEC4'!W84","v":0},{"$f":"+'TEC4'!X84","v":0},{"$f":"+'TEC5'!U84","v":0},{"$f":"+'TEC5'!V84","v":0},{"$f":"+'TEC5'!W84","v":0},{"$f":"+'TEC5'!X84","v":0},{"$f":"+'TEC6'!U84","v":0},{"$f":"+'TEC6'!V84","v":0},{"$f":"+'TEC6'!W84","v":0},{"$f":"+'TEC6'!X84","v":0}]
[null,{"$f":"+IF('TEC1'!U85=0,\"\",'TEC1'!U85)","v":""},{"$f":"+IF('TEC1'!V85=0,\"\",'TEC1'!V85)","v":""},{"$f":"+IF('TEC1'!W85=0,\"\",'TEC1'!W85)","v":""},{"$f":"+IF('TEC1'!X85=0,\"\",'TEC1'!X85)","v":""},{"$f":"+'TEC2'!U85","v":0},{"$f":"+'TEC2'!V85","v":0},{"$f":"+'TEC2'!W85","v":0},{"$f":"+'TEC2'!X85","v":0},{"$f":"+'TEC3'!U85","v":0},{"$f":"+'TEC3'!V85","v":0},{"$f":"+'TEC3'!W85","v":0},{"$f":"+'TEC3'!X85","v":0},{"$f":"+'TEC4'!U85","v":0},{"$f":"+'TEC4'!V85","v":0},{"$f":"+'TEC4'!W85","v":0},{"$f":"+'TEC4'!X85","v":0},{"$f":"+'TEC5'!U85","v":0},{"$f":"+'TEC5'!V85","v":0},{"$f":"+'TEC5'!W85","v":0},{"$f":"+'TEC5'!X85","v":0},{"$f":"+'TEC6'!U85","v":0},{"$f":"+'TEC6'!V85","v":0},{"$f":"+'TEC6'!W85","v":0},{"$f":"+'TEC6'!X85","v":0}]
[null,{"$f":"+IF('TEC1'!U86=0,\"\",'TEC1'!U86)","v":""},{"$f":"+IF('TEC1'!V86=0,\"\",'TEC1'!V86)","v":""},{"$f":"+IF('TEC1'!W86=0,\"\",'TEC1'!W86)","v":""},{"$f":"+IF('TEC1'!X86=0,\"\",'TEC1'!X86)","v":""},{"$f":"+'TEC2'!U86","v":0},{"$f":"+'TEC2'!V86","v":0},{"$f":"+'TEC2'!W86","v":0},{"$f":"+'TEC2'!X86","v":0},{"$f":"+'TEC3'!U86","v":0},{"$f":"+'TEC3'!V86","v":0},{"$f":"+'TEC3'!W86","v":0},{"$f":"+'TEC3'!X86","v":0},{"$f":"+'TEC4'!U86","v":0},{"$f":"+'TEC4'!V86","v":0},{"$f":"+'TEC4'!W86","v":0},{"$f":"+'TEC4'!X86","v":0},{"$f":"+'TEC5'!U86","v":0},{"$f":"+'TEC5'!V86","v":0},{"$f":"+'TEC5'!W86","v":0},{"$f":"+'TEC5'!X86","v":0},{"$f":"+'TEC6'!U86","v":0},{"$f":"+'TEC6'!V86","v":0},{"$f":"+'TEC6'!W86","v":0},{"$f":"+'TEC6'!X86","v":0}]
[null,{"$f":"+IF('TEC1'!U87=0,\"\",'TEC1'!U87)","v":""},{"$f":"+IF('TEC1'!V87=0,\"\",'TEC1'!V87)","v":""},{"$f":"+IF('TEC1'!W87=0,\"\",'TEC1'!W87)","v":""},{"$f":"+IF('TEC1'!X87=0,\"\",'TEC1'!X87)","v":""},{"$f":"+'TEC2'!U87","v":0},{"$f":"+'TEC2'!V87","v":0},{"$f":"+'TEC2'!W87","v":0},{"$f":"+'TEC2'!X87","v":0},{"$f":"+'TEC3'!U87","v":0},{"$f":"+'TEC3'!V87","v":0},{"$f":"+'TEC3'!W87","v":0},{"$f":"+'TEC3'!X87","v":0},{"$f":"+'TEC4'!U87","v":0},{"$f":"+'TEC4'!V87","v":0},{"$f":"+'TEC4'!W87","v":0},{"$f":"+'TEC4'!X87","v":0},{"$f":"+'TEC5'!U87","v":0},{"$f":"+'TEC5'!V87","v":0},{"$f":"+'TEC5'!W87","v":0},{"$f":"+'TEC5'!X87","v":0},{"$f":"+'TEC6'!U87","v":0},{"$f":"+'TEC6'!V87","v":0},{"$f":"+'TEC6'!W87","v":0},{"$f":"+'TEC6'!X87","v":0}]
[null,{"$f":"+IF('TEC1'!U88=0,\"\",'TEC1'!U88)","v":""},{"$f":"+IF('TEC1'!V88=0,\"\",'TEC1'!V88)","v":""},{"$f":"+IF('TEC1'!W88=0,\"\",'TEC1'!W88)","v":""},{"$f":"+IF('TEC1'!X88=0,\"\",'TEC1'!X88)","v":""},{"$f":"+'TEC2'!U88","v":0},{"$f":"+'TEC2'!V88","v":0},{"$f":"+'TEC2'!W88","v":0},{"$f":"+'TEC2'!X88","v":0},{"$f":"+'TEC3'!U88","v":0},{"$f":"+'TEC3'!V88","v":0},{"$f":"+'TEC3'!W88","v":0},{"$f":"+'TEC3'!X88","v":0},{"$f":"+'TEC4'!U88","v":0},{"$f":"+'TEC4'!V88","v":0},{"$f":"+'TEC4'!W88","v":0},{"$f":"+'TEC4'!X88","v":0},{"$f":"+'TEC5'!U88","v":0},{"$f":"+'TEC5'!V88","v":0},{"$f":"+'TEC5'!W88","v":0},{"$f":"+'TEC5'!X88","v":0},{"$f":"+'TEC6'!U88","v":0},{"$f":"+'TEC6'!V88","v":0},{"$f":"+'TEC6'!W88","v":0},{"$f":"+'TEC6'!X88","v":0}]
[null,{"$f":"+IF('TEC1'!U89=0,\"\",'TEC1'!U89)","v":""},{"$f":"+IF('TEC1'!V89=0,\"\",'TEC1'!V89)","v":""},{"$f":"+IF('TEC1'!W89=0,\"\",'TEC1'!W89)","v":""},{"$f":"+IF('TEC1'!X89=0,\"\",'TEC1'!X89)","v":""},{"$f":"+'TEC2'!U89","v":0},{"$f":"+'TEC2'!V89","v":0},{"$f":"+'TEC2'!W89","v":0},{"$f":"+'TEC2'!X89","v":0},{"$f":"+'TEC3'!U89","v":0},{"$f":"+'TEC3'!V89","v":0},{"$f":"+'TEC3'!W89","v":0},{"$f":"+'TEC3'!X89","v":0},{"$f":"+'TEC4'!U89","v":0},{"$f":"+'TEC4'!V89","v":0},{"$f":"+'TEC4'!W89","v":0},{"$f":"+'TEC4'!X89","v":0},{"$f":"+'TEC5'!U89","v":0},{"$f":"+'TEC5'!V89","v":0},{"$f":"+'TEC5'!W89","v":0},{"$f":"+'TEC5'!X89","v":0},{"$f":"+'TEC6'!U89","v":0},{"$f":"+'TEC6'!V89","v":0},{"$f":"+'TEC6'!W89","v":0},{"$f":"+'TEC6'!X89","v":0}]
[null,{"$f":"+IF('TEC1'!U90=0,\"\",'TEC1'!U90)","v":""},{"$f":"+IF('TEC1'!V90=0,\"\",'TEC1'!V90)","v":""},{"$f":"+IF('TEC1'!W90=0,\"\",'TEC1'!W90)","v":""},{"$f":"+IF('TEC1'!X90=0,\"\",'TEC1'!X90)","v":""},{"$f":"+'TEC2'!U90","v":0},{"$f":"+'TEC2'!V90","v":0},{"$f":"+'TEC2'!W90","v":0},{"$f":"+'TEC2'!X90","v":0},{"$f":"+'TEC3'!U90","v":0},{"$f":"+'TEC3'!V90","v":0},{"$f":"+'TEC3'!W90","v":0},{"$f":"+'TEC3'!X90","v":0},{"$f":"+'TEC4'!U90","v":0},{"$f":"+'TEC4'!V90","v":0},{"$f":"+'TEC4'!W90","v":0},{"$f":"+'TEC4'!X90","v":0},{"$f":"+'TEC5'!U90","v":0},{"$f":"+'TEC5'!V90","v":0},{"$f":"+'TEC5'!W90","v":0},{"$f":"+'TEC5'!X90","v":0},{"$f":"+'TEC6'!U90","v":0},{"$f":"+'TEC6'!V90","v":0},{"$f":"+'TEC6'!W90","v":0},{"$f":"+'TEC6'!X90","v":0}]
[null,{"$f":"+IF('TEC1'!U91=0,\"\",'TEC1'!U91)","v":""},{"$f":"+IF('TEC1'!V91=0,\"\",'TEC1'!V91)","v":""},{"$f":"+IF('TEC1'!W91=0,\"\",'TEC1'!W91)","v":""},{"$f":"+IF('TEC1'!X91=0,\"\",'TEC1'!X91)","v":""},{"$f":"+'TEC2'!U91","v":0},{"$f":"+'TEC2'!V91","v":0},{"$f":"+'TEC2'!W91","v":0},{"$f":"+'TEC2'!X91","v":0},{"$f":"+'TEC3'!U91","v":0},{"$f":"+'TEC3'!V91","v":0},{"$f":"+'TEC3'!W91","v":0},{"$f":"+'TEC3'!X91","v":0},{"$f":"+'TEC4'!U91","v":0},{"$f":"+'TEC4'!V91","v":0},{"$f":"+'TEC4'!W91","v":0},{"$f":"+'TEC4'!X91","v":0},{"$f":"+'TEC5'!U91","v":0},{"$f":"+'TEC5'!V91","v":0},{"$f":"+'TEC5'!W91","v":0},{"$f":"+'TEC5'!X91","v":0},{"$f":"+'TEC6'!U91","v":0},{"$f":"+'TEC6'!V91","v":0},{"$f":"+'TEC6'!W91","v":0},{"$f":"+'TEC6'!X91","v":0}]
[null,{"$f":"+IF('TEC1'!U92=0,\"\",'TEC1'!U92)","v":""},{"$f":"+IF('TEC1'!V92=0,\"\",'TEC1'!V92)","v":""},{"$f":"+IF('TEC1'!W92=0,\"\",'TEC1'!W92)","v":""},{"$f":"+IF('TEC1'!X92=0,\"\",'TEC1'!X92)","v":""},{"$f":"+'TEC2'!U92","v":0},{"$f":"+'TEC2'!V92","v":0},{"$f":"+'TEC2'!W92","v":0},{"$f":"+'TEC2'!X92","v":0},{"$f":"+'TEC3'!U92","v":0},{"$f":"+'TEC3'!V92","v":0},{"$f":"+'TEC3'!W92","v":0},{"$f":"+'TEC3'!X92","v":0},{"$f":"+'TEC4'!U92","v":0},{"$f":"+'TEC4'!V92","v":0},{"$f":"+'TEC4'!W92","v":0},{"$f":"+'TEC4'!X92","v":0},{"$f":"+'TEC5'!U92","v":0},{"$f":"+'TEC5'!V92","v":0},{"$f":"+'TEC5'!W92","v":0},{"$f":"+'TEC5'!X92","v":0},{"$f":"+'TEC6'!U92","v":0},{"$f":"+'TEC6'!V92","v":0},{"$f":"+'TEC6'!W92","v":0},{"$f":"+'TEC6'!X92","v":0}]
[null,{"$f":"+IF('TEC1'!U93=0,\"\",'TEC1'!U93)","v":""},{"$f":"+IF('TEC1'!V93=0,\"\",'TEC1'!V93)","v":""},{"$f":"+IF('TEC1'!W93=0,\"\",'TEC1'!W93)","v":""},{"$f":"+IF('TEC1'!X93=0,\"\",'TEC1'!X93)","v":""},{"$f":"+'TEC2'!U93","v":0},{"$f":"+'TEC2'!V93","v":0},{"$f":"+'TEC2'!W93","v":0},{"$f":"+'TEC2'!X93","v":0},{"$f":"+'TEC3'!U93","v":0},{"$f":"+'TEC3'!V93","v":0},{"$f":"+'TEC3'!W93","v":0},{"$f":"+'TEC3'!X93","v":0},{"$f":"+'TEC4'!U93","v":0},{"$f":"+'TEC4'!V93","v":0},{"$f":"+'TEC4'!W93","v":0},{"$f":"+'TEC4'!X93","v":0},{"$f":"+'TEC5'!U93","v":0},{"$f":"+'TEC5'!V93","v":0},{"$f":"+'TEC5'!W93","v":0},{"$f":"+'TEC5'!X93","v":0},{"$f":"+'TEC6'!U93","v":0},{"$f":"+'TEC6'!V93","v":0},{"$f":"+'TEC6'!W93","v":0},{"$f":"+'TEC6'!X93","v":0}]
[null,{"$f":"+IF('TEC1'!U94=0,\"\",'TEC1'!U94)","v":""},{"$f":"+IF('TEC1'!V94=0,\"\",'TEC1'!V94)","v":""},{"$f":"+IF('TEC1'!W94=0,\"\",'TEC1'!W94)","v":""},{"$f":"+IF('TEC1'!X94=0,\"\",'TEC1'!X94)","v":""},{"$f":"+'TEC2'!U94","v":0},{"$f":"+'TEC2'!V94","v":0},{"$f":"+'TEC2'!W94","v":0},{"$f":"+'TEC2'!X94","v":0},{"$f":"+'TEC3'!U94","v":0},{"$f":"+'TEC3'!V94","v":0},{"$f":"+'TEC3'!W94","v":0},{"$f":"+'TEC3'!X94","v":0},{"$f":"+'TEC4'!U94","v":0},{"$f":"+'TEC4'!V94","v":0},{"$f":"+'TEC4'!W94","v":0},{"$f":"+'TEC4'!X94","v":0},{"$f":"+'TEC5'!U94","v":0},{"$f":"+'TEC5'!V94","v":0},{"$f":"+'TEC5'!W94","v":0},{"$f":"+'TEC5'!X94","v":0},{"$f":"+'TEC6'!U94","v":0},{"$f":"+'TEC6'!V94","v":0},{"$f":"+'TEC6'!W94","v":0},{"$f":"+'TEC6'!X94","v":0}]
[null,{"$f":"+IF('TEC1'!U95=0,\"\",'TEC1'!U95)","v":""},{"$f":"+IF('TEC1'!V95=0,\"\",'TEC1'!V95)","v":""},{"$f":"+IF('TEC1'!W95=0,\"\",'TEC1'!W95)","v":""},{"$f":"+IF('TEC1'!X95=0,\"\",'TEC1'!X95)","v":""},{"$f":"+'TEC2'!U95","v":0},{"$f":"+'TEC2'!V95","v":0},{"$f":"+'TEC2'!W95","v":0},{"$f":"+'TEC2'!X95","v":0},{"$f":"+'TEC3'!U95","v":0},{"$f":"+'TEC3'!V95","v":0},{"$f":"+'TEC3'!W95","v":0},{"$f":"+'TEC3'!X95","v":0},{"$f":"+'TEC4'!U95","v":0},{"$f":"+'TEC4'!V95","v":0},{"$f":"+'TEC4'!W95","v":0},{"$f":"+'TEC4'!X95","v":0},{"$f":"+'TEC5'!U95","v":0},{"$f":"+'TEC5'!V95","v":0},{"$f":"+'TEC5'!W95","v":0},{"$f":"+'TEC5'!X95","v":0},{"$f":"+'TEC6'!U95","v":0},{"$f":"+'TEC6'!V95","v":0},{"$f":"+'TEC6'!W95","v":0},{"$f":"+'TEC6'!X95","v":0}]
[null,{"$f":"+IF('TEC1'!U96=0,\"\",'TEC1'!U96)","v":""},{"$f":"+IF('TEC1'!V96=0,\"\",'TEC1'!V96)","v":""},{"$f":"+IF('TEC1'!W96=0,\"\",'TEC1'!W96)","v":""},{"$f":"+IF('TEC1'!X96=0,\"\",'TEC1'!X96)","v":""},{"$f":"+'TEC2'!U96","v":0},{"$f":"+'TEC2'!V96","v":0},{"$f":"+'TEC2'!W96","v":0},{"$f":"+'TEC2'!X96","v":0},{"$f":"+'TEC3'!U96","v":0},{"$f":"+'TEC3'!V96","v":0},{"$f":"+'TEC3'!W96","v":0},{"$f":"+'TEC3'!X96","v":0},{"$f":"+'TEC4'!U96","v":0},{"$f":"+'TEC4'!V96","v":0},{"$f":"+'TEC4'!W96","v":0},{"$f":"+'TEC4'!X96","v":0},{"$f":"+'TEC5'!U96","v":0},{"$f":"+'TEC5'!V96","v":0},{"$f":"+'TEC5'!W96","v":0},{"$f":"+'TEC5'!X96","v":0},{"$f":"+'TEC6'!U96","v":0},{"$f":"+'TEC6'!V96","v":0},{"$f":"+'TEC6'!W96","v":0},{"$f":"+'TEC6'!X96","v":0}]
[null,{"$f":"+IF('TEC1'!U97=0,\"\",'TEC1'!U97)","v":""},{"$f":"+IF('TEC1'!V97=0,\"\",'TEC1'!V97)","v":""},{"$f":"+IF('TEC1'!W97=0,\"\",'TEC1'!W97)","v":""},{"$f":"+IF('TEC1'!X97=0,\"\",'TEC1'!X97)","v":""},{"$f":"+'TEC2'!U97","v":0},{"$f":"+'TEC2'!V97","v":0},{"$f":"+'TEC2'!W97","v":0},{"$f":"+'TEC2'!X97","v":0},{"$f":"+'TEC3'!U97","v":0},{"$f":"+'TEC3'!V97","v":0},{"$f":"+'TEC3'!W97","v":0},{"$f":"+'TEC3'!X97","v":0},{"$f":"+'TEC4'!U97","v":0},{"$f":"+'TEC4'!V97","v":0},{"$f":"+'TEC4'!W97","v":0},{"$f":"+'TEC4'!X97","v":0},{"$f":"+'TEC5'!U97","v":0},{"$f":"+'TEC5'!V97","v":0},{"$f":"+'TEC5'!W97","v":0},{"$f":"+'TEC5'!X97","v":0},{"$f":"+'TEC6'!U97","v":0},{"$f":"+'TEC6'!V97","v":0},{"$f":"+'TEC6'!W97","v":0},{"$f":"+'TEC6'!X97","v":0}]
[null,{"$f":"+IF('TEC1'!U98=0,\"\",'TEC1'!U98)","v":""},{"$f":"+IF('TEC1'!V98=0,\"\",'TEC1'!V98)","v":""},{"$f":"+IF('TEC1'!W98=0,\"\",'TEC1'!W98)","v":""},{"$f":"+IF('TEC1'!X98=0,\"\",'TEC1'!X98)","v":""},{"$f":"+'TEC2'!U98","v":0},{"$f":"+'TEC2'!V98","v":0},{"$f":"+'TEC2'!W98","v":0},{"$f":"+'TEC2'!X98","v":0},{"$f":"+'TEC3'!U98","v":0},{"$f":"+'TEC3'!V98","v":0},{"$f":"+'TEC3'!W98","v":0},{"$f":"+'TEC3'!X98","v":0},{"$f":"+'TEC4'!U98","v":0},{"$f":"+'TEC4'!V98","v":0},{"$f":"+'TEC4'!W98","v":0},{"$f":"+'TEC4'!X98","v":0},{"$f":"+'TEC5'!U98","v":0},{"$f":"+'TEC5'!V98","v":0},{"$f":"+'TEC5'!W98","v":0},{"$f":"+'TEC5'!X98","v":0},{"$f":"+'TEC6'!U98","v":0},{"$f":"+'TEC6'!V98","v":0},{"$f":"+'TEC6'!W98","v":0},{"$f":"+'TEC6'!X98","v":0}]
[null,{"$f":"+IF('TEC1'!U99=0,\"\",'TEC1'!U99)","v":""},{"$f":"+IF('TEC1'!V99=0,\"\",'TEC1'!V99)","v":""},{"$f":"+IF('TEC1'!W99=0,\"\",'TEC1'!W99)","v":""},{"$f":"+IF('TEC1'!X99=0,\"\",'TEC1'!X99)","v":""},{"$f":"+'TEC2'!U99","v":0},{"$f":"+'TEC2'!V99","v":0},{"$f":"+'TEC2'!W99","v":0},{"$f":"+'TEC2'!X99","v":0},{"$f":"+'TEC3'!U99","v":0},{"$f":"+'TEC3'!V99","v":0},{"$f":"+'TEC3'!W99","v":0},{"$f":"+'TEC3'!X99","v":0},{"$f":"+'TEC4'!U99","v":0},{"$f":"+'TEC4'!V99","v":0},{"$f":"+'TEC4'!W99","v":0},{"$f":"+'TEC4'!X99","v":0},{"$f":"+'TEC5'!U99","v":0},{"$f":"+'TEC5'!V99","v":0},{"$f":"+'TEC5'!W99","v":0},{"$f":"+'TEC5'!X99","v":0},{"$f":"+'TEC6'!U99","v":0},{"$f":"+'TEC6'!V99","v":0},{"$f":"+'TEC6'!W99","v":0},{"$f":"+'TEC6'!X99","v":0}]
[null,{"$f":"+IF('TEC1'!U100=0,\"\",'TEC1'!U100)","v":""},{"$f":"+IF('TEC1'!V100=0,\"\",'TEC1'!V100)","v":""},{"$f":"+IF('TEC1'!W100=0,\"\",'TEC1'!W100)","v":""},{"$f":"+IF('TEC1'!X100=0,\"\",'TEC1'!X100)","v":""},{"$f":"+'TEC2'!U100","v":0},{"$f":"+'TEC2'!V100","v":0},{"$f":"+'TEC2'!W100","v":0},{"$f":"+'TEC2'!X100","v":0},{"$f":"+'TEC3'!U100","v":0},{"$f":"+'TEC3'!V100","v":0},{"$f":"+'TEC3'!W100","v":0},{"$f":"+'TEC3'!X100","v":0},{"$f":"+'TEC4'!U100","v":0},{"$f":"+'TEC4'!V100","v":0},{"$f":"+'TEC4'!W100","v":0},{"$f":"+'TEC4'!X100","v":0},{"$f":"+'TEC5'!U100","v":0},{"$f":"+'TEC5'!V100","v":0},{"$f":"+'TEC5'!W100","v":0},{"$f":"+'TEC5'!X100","v":0},{"$f":"+'TEC6'!U100","v":0},{"$f":"+'TEC6'!V100","v":0},{"$f":"+'TEC6'!W100","v":0},{"$f":"+'TEC6'!X100","v":0}]

{"sheet":"Boxplots comparisons","index":10,"n_rows":41,"n_cols":28,"rows_kept":41,"cut":false,"hidden":false,"merged":[[1,24,3,24],[38,1,38,2],[37,1,37,2],[36,1,36,2],[35,1,35,2],[34,1,34,2],[33,1,33,2],[38,5,38,6],[31,9,31,11],[33,9,33,10],[34,9,34,10],[35,9,35,10],[36,9,36,10],[37,9,37,10],[38,9,38,10],[33,5,33,6],[34,5,34,6],[35,5,35,6],[36,5,36,6],[31,1,31,3],[37,5,37,6],[31,5,31,7],[38,13,38,14],[31,17,31,19],[33,17,33,18],[34,17,34,18],[35,17,35,18],[36,17,36,18],[37,17,37,18],[38,17,38,18],[31,13,31,15],[33,13,33,14],[34,13,34,14],[35,13,35,14],[36,13,36,14],[37,13,37,14],[38,21,38,22],[31,25,31,27],[33,25,33,26],[34,25,34,26],[35,25,35,26],[36,25,36,26],[37,25,37,26],[38,25,38,26],[31,21,31,23],[33,21,33,22],[34,21,34,22],[35,21,35,22],[36,21,36,22],[37,21,37,22]]}
[]
[null,null,null,null,null,null,null,null,null,null,null,null,null,null,null,null,null,null,null,null,null,null,{"$f":"+IF($B$7>1,\"AKA Nigel\",\"\")","v":""},null,{"$f":"+IF($B$7>1,\"AKA Nigel\",\"\")","v":""}]
[]
[]
[null," Centre for Education Statistics and Evaluation"]
[]
[]
[]
[]
[]
[]
[]
[]
[]
[]
[]
[]
[]
[]
[]
[]
[]
[]
[]
[]
[]
[]
[]
[]
[]
[null,"Class Name",null,null,null,"Class Name",null,null,null,"Class Name",null,null,null,"Class Name",null,null,null,"Class Name",null,null,null,"Class Name"]
[null,{"$f":"+IF('TEC1'!T5=\"\",\"\",'TEC1'!T5)","v":""},null,null,null,{"$f":"+IF('TEC2'!$T$5=\"\",\"\",'TEC2'!$T$5)","v":"Ms Johnson"},null,null,null,{"$f":"+IF('TEC3'!T5=\"\",\"\",'TEC3'!T5)","v":"Mr Baldwin"},null,null,null,{"$f":"+IF('TEC4'!T5=\"\",\"\",'TEC4'!T5)","v":"Ms Galley"},null,null,null,{"$f":"+'TEC5'!T5","v":"Ms Sendall"},null,null,null,{"$f":"+'TEC6'!T5","v":"Mr Chifley"},null,null,null,"ALL CLASSES - TOTAL"]
[null,"Values from TEC1",null,null,null,"Values from TEC2",null,null,null,"Values from TEC3",null,null,null,"Values from TEC4",null,null,null,"Values from TEC5",null,null,null,"Values from TEC6"]
[null,"Mean",null,{"$f":"+IFERROR('TEC1'!H15,0)","v":0},null,"Mean",null,{"$f":"+IFERROR('TEC2'!$H$15,0)","v":0},null,"Mean",null,{"$f":"+IFERROR('TEC3'!H15,0)","v":0},null,"Mean",null,{"$f":"+IFERROR('TEC4'!$H$15,0)","v":0},null,"Mean",null,{"$f":"+IFERROR('TEC5'!$H$15,0)","v":0},null,"Mean",null,{"$f":"+IFERROR('TEC6'!$H$15,0)","v":0},null,"Mean",null,{"$f":"+IFERROR(Sheet8!AB15,0)","v":0}]
[null,"Median",null,{"$f":"+IFERROR('TEC1'!J15,0)","v":0},null,"Median",null,{"$f":"+IFERROR('TEC2'!$J$15,0)","v":0},null,"Median",null,{"$f":"+IFERROR('TEC3'!J15,0)","v":0},null,"Median",null,{"$f":"+IFERROR('TEC4'!$J$15,0)","v":0},null,"Median",null,{"$f":"+IFERROR('TEC5'!$J$15,0)","v":0},null,"Median",null,{"$f":"+IFERROR('TEC6'!$J$15,0)","v":0},null,"Median",null,{"$f":"+IFERROR(Sheet8!AD15,0)","v":0}]
[null,"Min",null,{"$f":"+'TEC1'!L11","v":0},null,"Min",null,{"$f":"+'TEC2'!$L$11","v":0},null,"Min",null,{"$f":"+'TEC3'!L11","v":0},null,"Min",null,{"$f":"+'TEC4'!$L$11","v":0},null,"Min",null,{"$f":"+'TEC5'!$L$11","v":0},null,"Min",null,{"$f":"+'TEC6'!$L$11","v":0},null,"Min",null,{"$f":"+Sheet8!AF11","v":0}]
[null,"Max",null,{"$f":"+'TEC1'!N11","v":0},null,"Max",null,{"$f":"+'TEC2'!$N$11","v":0},null,"Max",null,{"$f":"+'TEC3'!N11","v":0},null,"Max",null,{"$f":"+'TEC4'!$N$11","v":0},null,"Max",null,{"$f":"+'TEC5'!$N$11","v":0},null,"Max",null,{"$f":"+'TEC6'!$N$11","v":0},null,"Max",null,{"$f":"+Sheet8!AH11","v":0}]
[null,"Lower Quartile",null,{"$f":"+'TEC1'!H20","v":0},null,"Lower Quartile",null,{"$f":"+'TEC2'!$H$20","v":0},null,"Lower Quartile",null,{"$f":"+'TEC3'!H20","v":0},null,"Lower Quartile",null,{"$f":"+'TEC4'!$H$20","v":0},null,"Lower Quartile",null,{"$f":"+'TEC5'!$H$20","v":0},null,"Lower Quartile",null,{"$f":"+'TEC6'!$H$20","v":0},null,"Lower Quartile",null,{"$f":"+Sheet8!AB20","v":0}]
[null,"Upper Quartile",null,{"$f":"+'TEC1'!L20","v":0},null,"Upper Quartile",null,{"$f":"+'TEC2'!$L$20","v":0},null,"Upper Quartile",null,{"$f":"+'TEC3'!L20","v":0},null,"Upper Quartile",null,{"$f":"+'TEC4'!$L$20","v":0},null,"Upper Quartile",null,{"$f":"+'TEC5'!$L$20","v":0},null,"Upper Quartile",null,{"$f":"+'TEC6'!$L$20","v":0},null,"Upper Quartile",null,{"$f":"+Sheet8!AF20","v":0}]
[null,"Total No:",null,{"$f":"+'TEC1'!H11","v":0},null,"Total No:",null,{"$f":"+'TEC2'!H11","v":0},null,"Total No:",null,{"$f":"+'TEC3'!H11","v":0},null,"Total No:",null,{"$f":"+'TEC4'!H11","v":0},null,"Total No:",null,{"$f":"+'TEC5'!H11","v":0},null,"Total No:",null,{"$f":"+'TEC6'!H11","v":0},null,"Total No:",null,{"$f":"+Sheet8!AB11","v":0}]
[null,"Standard Deviation",null,{"$f":"+IFERROR('TEC1'!J34,0)","v":0},null,"Standard Deviation",null,{"$f":"+IFERROR('TEC2'!J34,0)","v":0},null,"Standard Deviation",null,{"$f":"+IFERROR('TEC3'!J34,0)","v":0},null,"Standard Deviation",null,{"$f":"+IFERROR('TEC4'!J34,0)","v":0},null,"Standard Deviation",null,{"$f":"+IFERROR('TEC5'!J34,0)","v":0},null,"Standard Deviation",null,{"$f":"+IFERROR('TEC6'!J34,0)","v":0},null,"Standard Deviation",null,{"$f":"IFERROR(Sheet8!AD34,0)","v":0}]

{"sheet":"Total Boxplot","index":11,"n_rows":59,"n_cols":102,"rows_kept":59,"cut":false,"hidden":true,"merged":[[17,6,17,13],[21,7,21,8],[5,87,7,89],[8,6,8,13],[12,6,12,13],[16,9,16,10]]}
[]
[]
[]
[]
[null," Centre for Education Statistics and Evaluation"]
[null,null,null,null,null,null,null,null,null,null,null,null,null,null,null,null,null,null,null,null,null,null,null,null,null,null,null,null,null,null,null,null,null,null,null,null,null,null,null,null,null,null,null,null,null,null,null,null,null,null,null,null,null,null,null,null,null,null,null,null,null,null,null,null,null,null,null,null,null,null,null,null,null,null,null,null,null,null,null,null,null,null,null,null,null,null,null,{"$f":"+IF(B9>1,\"AKA Nigel\",\"\")","v":"AKA Nigel"}]
[]
[]
[null,2,4,6,8,null,"Basics",null,null,null,null,null,null,null,null,null,null,null,null,null,null,null,null,null,null,null,null,null,null,null,null,null,null,null,null,null,null,null,null,null,null,null,null,null,null,null,null,null,null,null,null,null,null,null,null,null,null,null,null,null,null,null,null,null,null,null,null,null,null,null,null,null,null,null,null,null,null,null,null,null,null,null,null,null,null,null,null,null,null,null,null,null,null,null,null,null,null,null,null,null,"Mode 1","=MODE(IF(B9:G100<>0,B9:G100)"]
[null,10,12,14,80,null,null,"Count",null,"Sum",null,"Min",null,"Max",null,null,null,null,null,null,null,null,null,"Numerator","Denominator",null,null,null,null,null,null,null,null,null,null,null,null,null,null,null,null,null,null,null,null,null,null,null,null,null,null,null,null,null,null,null,null,null,null,null,null,null,null,null,null,null,null,null,null,null,null,null,null,null,null,null,null,null,null,null,null,null,null,null,null,null,null,null,null,null,null,null,null,null,null,"q1-min",{"$f":"+'TEC6 (2)'!BB10","v":{"$error":"#REF!"}},null,null,null,"Mode 2"]
[null,null,null,null,null,null,null,{"$f":"+'TEC6 (2)'!AB7","v":0},null,{"$f":"+'TEC6 (2)'!AD7","v":{"$error":"#REF!"}},null,{"$f":"+'TEC6 (2)'!AF7","v":{"$error":"#REF!"}},null,{"$f":"+'TEC6 (2)'!AH7","v":{"$error":"#REF!"}},null,null,null,null,null,null,null,null,null,null,null,{"$f":"IFERROR(X11/Y11,0)","v":0},null,null,null,null,null,null,null,null,null,null,null,null,null,null,null,null,null,null,null,null,null,null,null,null,null,null,null,null,null,null,null,null,null,null,null,null,null,null,null,null,null,null,null,null,null,null,null,null,null,null,null,null,null,null,null,null,null,null,null,null,null,null,null,null,null,null,null,null,null,"q1",{"$f":"+'TEC6 (2)'!BB11","v":{"$error":"#REF!"}},null,null,null,"Mode 3"]
[null,null,null,null,null,null,null,null,null,null,null,null,null,null,null,null,null,null,null,null,null,null,null,null,null,null,null,null,null,null,null,null,null,null,null,null,null,null,null,null,null,null,null,null,null,null,null,null,null,null,null,null,null,null,null,null,null,null,null,null,null,null,null,null,null,null,null,null,null,null,null,null,null,null,null,null,null,null,null,null,null,null,null,null,null,null,null,null,null,null,null,null,null,null,null,"median-q1",{"$f":"+'TEC6 (2)'!BB12","v":{"$error":"#REF!"}}]
[null,null,null,null,null,null,"Measures of Central Tendency",null,null,null,null,null,null,null,null,null,null,null,null,null,null,null,null,null,null,null,null,null,null,null,null,null,null,null,null,null,null,null,null,null,null,null,null,null,null,null,null,null,null,null,null,null,null,null,null,null,null,null,null,null,null,null,null,null,null,null,null,null,null,null,null,null,null,null,null,null,null,null,null,null,null,null,null,null,null,null,null,null,null,null,null,null,null,null,null,"median",{"$f":"+'TEC6 (2)'!BB13","v":0}]
[null,null,null,null,null,null,null,"Mean",null,"Median",null,"Mode 1 ",null,null,null,null,null,null,null,null,null,null,null,null,null,null,null,null,null,null,null,null,null,null,null,null,null,null,null,null,null,null,null,null,null,null,null,null,null,null,null,null,null,null,null,null,null,null,null,null,null,null,null,null,null,null,null,null,null,null,null,null,null,null,null,null,null,null,null,null,null,null,null,null,null,null,null,null,null,null,null,null,null,null,null,"Q3-median",{"$f":"+'TEC6 (2)'!BB14","v":{"$error":"#REF!"}}]
[null,null,null,null,null,null,null,{"$f":"+'TEC6 (2)'!AB11","v":{"$error":"#DIV/0!"}},null,{"$f":"+'TEC6 (2)'!AD11","v":{"$error":"#REF!"}},null,{"$f":"+'TEC6 (2)'!$AF$11","v":{"$error":"#REF!"}},null,null,null,null,null,null,null,null,null,null,null,null,null,null,null,null,null,null,null,null,null,null,"Standard deviation",null,{"$f":"_xlfn.STDEV.S(B9:E82)","v":25.768197453450252},null,null,null,null,null,null,null,null,null,null,null,null,null,null,null,null,null,null,null,null,null,null,null,null,null,null,null,null,null,null,null,null,null,null,null,null,null,null,null,null,null,null,null,null,null,null,null,null,null,null,null,null,null,null,null,null,null,null,"Max-q3",{"$f":"+'TEC6 (2)'!BB15","v":{"$error":"#REF!"}}]
[null,null,null,null,null,null,null,null,null,null,null,null,null,null,null,null,null,null,null,null,null,null,null,null,null,null,null,null,null,null,null,null,null,null,null,null,null,null,null,null,null,null,null,null,null,null,null,null,null,null,null,null,null,null,null,null,null,null,null,null,null,null,null,null,null,null,null,null,null,null,null,null,null,null,null,null,null,null,null,null,null,null,null,null,null,null,null,null,null,null,null,null,null,null,null,"Mean",{"$f":"+'TEC6 (2)'!BB16","v":{"$error":"#DIV/0!"}}]
[]
[null,null,null,null,null,null,"Quartiles - Interquartile area/range",null,null,null,null,null,null,null,null,null,null,null,null,null,null,null,null,null,null,null,null,null,null,null,null,null,null,null,"Square Root of no: values",null,{"$f":"SQRT(H11)","v":0}]
[null,null,null,null,null,null,null,"Lower Quartile",null,"Middle Quartile",null,"Upper Quartile"]
[null,null,null,null,null,null,null,{"$f":"+'TEC6 (2)'!$AB$16","v":{"$error":"#REF!"}},null,{"$f":"+'TEC6 (2)'!$AD$16","v":{"$error":"#REF!"}},null,{"$f":"+'TEC6 (2)'!$AF$18","v":{"$error":"#REF!"}},null,null,null,null,null,null,null,null,null,null,null,null,null,null,null,null,null,null,null,null,null,null," Standard Error (SE)",null,{"$f":"+IF(AK18=0,0,(AK15/AK18))","v":0}]
[]
[null,null,null,null,null,null,null,"Interquartile Area",null,{"$f":"+H20","v":{"$error":"#REF!"}},"to",{"$f":"+L20","v":{"$error":"#REF!"}},null,null,null,null,null,null,null,null,null,null,null,null,null,null,null,null,null,null,null,null,null,null,"T-distribution probability figure",null,0.95,{"$f":"+IF(H11=0,0,VLOOKUP(H11,Sheet2!C2:D65,2,TRUE))","v":0}]
[]
[]
[]
[]
[null,null,null,null,null,null,null,"mean",null,{"$f":"+IF(H15=\"\",\"\",H15)","v":{"$error":"#DIV/0!"}}]
[]
[null,null,null,null,null,null,null,null,null,null,null,null,null,null,null,null,null,null,null,null,null,null,null,null,null,null,null,null,null,null,null,null,null,null,"@95% t-dist "]
[]
[null,null,null,null,null,null,null,null,null,null,null,null,null,null,null,null,null,null,null,null,null,null,null,null,null,null,null,null,null,null,null,null,null,null,null,null,null,null,null,null,null,null,null,null,null,null,null,null,null,null,"Percentage calculator"]
[]
[null,null,null,null,null,null,null,null,null,null,null,null,null,null,null,null,null,null,null,null,null,null,null,null,null,null,null,null,null,null,null,null,null,null,null,null,null,null,null,null,null,null,null,null,null,null,null,null,null,"Percentile %",0.9,null,{"$f":"IF(AY33=\"\",\"\",PERCENTILE($B$9:$E$82,AY33))","v":33.79999999999999}]
[]
[]
[]
[null,null,null,null,null,null,null,null,null,null,null,null,null,null,null,null,null,null,null,null,null,null,null,null,null,null,null,null,null,null,null,null,null,null,"Mean",{"$f":"+H15","v":{"$error":"#DIV/0!"}}]
[null,null,null,null,null,null,null,null,null,null,null,null,null,null,null,null,null,null,null,null,null,null,null,null,null,null,null,null,null,null,null,null,null,null,"Standard Error Range",{"$f":"+AJ37-AK20","v":{"$error":"#DIV/0!"}},null,null,{"$f":"+AJ37+AK20","v":{"$error":"#DIV/0!"}}]
[]
[]
[]
[]
[]
[]
[]
[]
[]
[]
[]
[]
[]
[]
[]
[]
[]
[null,null,null,null,null,null,null,null,null,null,null,null,null,null,null,null,null,null,null,null,null,null,null,null,null,null,null,null,null,null,null,null,null,null,null,null,null,null,null,null,null,null,"Mode #1",{"$f":"_xlfn.MODE.MULT($B$9:$E$82)","v":{"$error":"#N/A"}}]
[null,null,null,null,null,null,null,null,null,null,null,null,null,null,null,null,null,null,null,null,null,null,null,null,null,null,null,null,null,null,null,null,null,null,null,null,null,null,null,null,null,null,"Mode #2",{"$error":"#N/A"}]
[null,null,null,null,null,null,null,null,null,null,null,null,null,null,null,null,null,null,null,null,null,null,null,null,null,null,null,null,null,null,null,null,null,null,null,null,null,null,null,null,null,null,"Mode #3",{"$error":"#N/A"}]
[null,null,null,null,null,null,null,null,null,null,null,null,null,null,null,null,null,null,null,null,null,null,null,null,null,null,null,null,null,null,null,null,null,null,null,null,null,null,null,null,null,null,"Mode #4",{"$error":"#N/A"}]